PDS_VERSION_ID = PDS3
/* FILE DATA ELEMENTS */
RECORD_TYPE = UNDEFINED
/* POINTERS TO DATA OBJECTS */
^IMAGE = ("H4167_0000_P24.TIF")
/* IDENTIFICATION DATA ELEMENTS */
DATA_SET_ID = "MEX-M-HRSC-4-REFDR-MAPPROJECT-EXT1-V4.0"
DATA_SET_NAME = "MARS EXPRESS HRSC MAP PROJECTED REFDR EXTENSION1 V4.0"
DETECTOR_ID = MEX_HRSC_P2
EVENT_TYPE = "MARS-LOCAL-STEREO-Fl-Mw-La"
INSTRUMENT_HOST_ID = MEX
INSTRUMENT_HOST_NAME = "MARS EXPRESS"
INSTRUMENT_ID = HRSC
INSTRUMENT_NAME = "HIGH RESOLUTION STEREO CAMERA"
MISSION_NAME = "MARS EXPRESS"
MISSION_PHASE_NAME = ME_Phase_7
PROCESSING_LEVEL_ID = 4
PRODUCT_CREATION_TIME = 2023-02-09T23:17:53.000Z
PRODUCT_ID = "H4167_0000_P24.TIF"
RELEASE_ID = 0005
REVISION_ID = 0000
/* QUALITY DATA ELEMENTS */
DATA_QUALITY_ID = 1
DATA_QUALITY_DESC = "Data calculated based on original SPICE kernels"
/* TIME DATA ELEMENTS */
SPACECRAFT_CLOCK_START_COUNT = "1/0123768042.09034"
SPACECRAFT_CLOCK_STOP_COUNT = "1/0123768282.58578"
START_TIME = 2007-04-04T12:00:55.591Z
STOP_TIME = 2007-04-04T12:03:56.431Z
/* ORBITAL DATA ELEMENTS */
ASCENDING_NODE_LONGITUDE = 141.01
MAXIMUM_RESOLUTION = 0.1
FOOTPRINT_POINT_LATITUDE = (-16.6929,-16.6906,-16.6853,-16.6852, -16.6683,-16.2028,-15.9696,-15.7361, -15.5025,-15.2694,-15.036,-14.8006, -14.4489,-14.2156,-13.8638,-13.6288, -13.3947,-13.1598,-12.9247,-12.572, -12.3379,-12.1019,-11.7495,-11.5146, -11.2794,-11.0436,-10.8082,-10.5729, -10.3382,-9.98519,-9.75053,-9.39043, -9.14783,-8.90147,-8.65673,-8.2915, -8.05046,-7.80682,-7.56357,-7.19567, -6.94913,-6.70393,-6.46002,-6.09762, -5.85338,-5.47624,-5.22398,-4.84494, -4.71852,-4.70209,-4.70248,-4.70206, -4.7029,-4.70287,-4.7045,-5.08371, -5.33682,-5.58932,-5.83895,-6.08086, -6.32978,-6.5673,-6.81429,-7.17493, -7.42179,-7.66885,-7.91053,-8.15812, -8.52597,-8.88891,-9.13123,-9.37508, -9.62215,-9.97453,-10.2101,-10.4459, -10.6812,-10.9176,-11.1526,-11.3893, -11.7427,-12.0906,-12.3258,-12.5612, -12.7985,-13.154,-13.3887,-13.6232, -13.8569,-14.3238,-14.5595,-14.7943, -15.0288,-15.491,-15.845,-16.0822, -16.3151,-16.5484,-16.6652,-16.6929)
FOOTPRINT_POINT_LONGITUDE = (339.517,339.005,338.441,338.43,338.417 ,338.42,338.422,338.423,338.424,338.426 ,338.427,338.427,338.428,338.429,338.43 ,338.43,338.43,338.43,338.43,338.43, 338.431,338.43,338.43,338.429,338.429, 338.428,338.428,338.427,338.427,338.425 ,338.425,338.424,338.423,338.421, 338.419,338.418,338.418,338.417,338.416 ,338.413,338.41,338.407,338.406,338.405 ,338.403,338.399,338.397,338.393, 338.392,338.392,338.666,339.025,339.499 ,339.51,339.517,339.516,339.516,339.515 ,339.515,339.516,339.514,339.516, 339.514,339.516,339.515,339.514,339.515 ,339.513,339.513,339.514,339.515, 339.515,339.513,339.514,339.514,339.514 ,339.514,339.513,339.514,339.513, 339.513,339.515,339.516,339.516,339.515 ,339.514,339.515,339.515,339.516, 339.517,339.517,339.517,339.518,339.521 ,339.52,339.52,339.52,339.521,339.521, 339.517)
ORBIT_NUMBER = 4167
ORBITAL_ECCENTRICITY = 0.571
ORBITAL_INCLINATION = 86.69
ORBITAL_SEMIMAJOR_AXIS = 8613.92
PERIAPSIS_ALTITUDE = 301.78
PERIAPSIS_ARGUMENT_ANGLE = 344.05
PERIAPSIS_TIME = 2007-04-04T12:01:25.000Z
SPACECRAFT_ORIENTATION = (0.0,1.0,0.0)
^MEX_ORIENTATION_DESC = "MEX_ORIENTATION_DESC.TXT"
SPACECRAFT_POINTING_MODE = ACROSSTRACK
^MEX_POINTING_DESC = "MEX_POINTING_DESC.TXT"
RIGHT_ASCENSION = -1e+32
DECLINATION = -1e+32
OFFSET_ANGLE = 0.1
SPACECRAFT_SOLAR_DISTANCE = 2.10523e+08
TARGET_NAME = MARS
/* CAMERA DATA ELEMENTS */
DETECTOR_TEMPERATURE = 18.5744
FOCAL_PLANE_TEMPERATURE = 9.195
INST_CMPRS_NAME = "DISCRETE COSINE TRANSFORMATION (DCT)"
INST_CMPRS_RATIO = 9.92224
INST_CMPRS_QUALITY = 0
INST_CMPRS_QUANTZ_TBL_ID = 0
INSTRUMENT_TEMPERATURE = 11.6418
LENS_TEMPERATURE = 9.8067
MACROPIXEL_SIZE = 8
MISSING_FRAMES = 0
PIXEL_SUBSAMPLING_FLAG = N
SIGNAL_CHAIN_ID = 3
/* RADIOMETRIC DATA ELEMENTS */
BANDWIDTH = 177.0
CENTER_FILTER_WAVELENGTH = 676.5
RADIANCE_OFFSET = 3.24339
RADIANCE_SCALING_FACTOR = 0.00971937
REFLECTANCE_SCALING_FACTOR = 0.000228398
MEX:REFLECTANCE_OFFSET = 0.0762174
/* IMAGE OBJECT DEFINITIONS */
OBJECT = IMAGE
  INTERCHANGE_FORMAT = BINARY
  LINES = 7094
  LINE_SAMPLES = 681
  SAMPLE_TYPE = UNSIGNED_INTEGER
  SAMPLE_BITS = 8
  BANDS = 1
  BAND_STORAGE_TYPE = BAND_SEQUENTIAL
  MAXIMUM = 255
  MEAN = 111.809
  MINIMUM = 1
  STANDARD_DEVIATION = 27.7404
END_OBJECT = IMAGE
/* MAP OBJECT DEFINITIONS */
OBJECT = IMAGE_MAP_PROJECTION
  ^DATA_SET_MAP_PROJECTION_CATALOG= "DSMAP.CAT"
  A_AXIS_RADIUS = 3396.0
  B_AXIS_RADIUS = 3396.0
  C_AXIS_RADIUS = 3396.0
  CENTER_LATITUDE = 0.0
  CENTER_LONGITUDE = 339.0
  COORDINATE_SYSTEM_NAME = PLANETOGRAPHIC
  COORDINATE_SYSTEM_TYPE = "BODY-FIXED ROTATING"
  EASTERNMOST_LONGITUDE = 339.521
  FIRST_STANDARD_PARALLEL = "N/A"
  LINE_FIRST_PIXEL = 1
  LINE_LAST_PIXEL = 7094
  LINE_PROJECTION_OFFSET = -2800.3125
  MAP_PROJECTION_ROTATION = 0.0
  MAP_PROJECTION_TYPE = SINUSOIDAL
  MAP_RESOLUTION = 592.713803866667
  MAP_SCALE = 0.1
  MAXIMUM_LATITUDE = -4.70206
  MINIMUM_LATITUDE = -16.6929
  POSITIVE_LONGITUDE_DIRECTION = EAST
  REFERENCE_LATITUDE = "N/A"
  REFERENCE_LONGITUDE = "N/A"
  SAMPLE_FIRST_PIXEL = 1
  SAMPLE_LAST_PIXEL = 681
  SAMPLE_PROJECTION_OFFSET = 369.5625
  SECOND_STANDARD_PARALLEL = "N/A"
  WESTERNMOST_LONGITUDE = 338.392
END_OBJECT = IMAGE_MAP_PROJECTION
END
