PDS_VERSION_ID = PDS3
/* FILE DATA ELEMENTS */
RECORD_TYPE = UNDEFINED
/* POINTERS TO DATA OBJECTS */
^IMAGE = ("H4167_0000_BL4.TIF")
/* IDENTIFICATION DATA ELEMENTS */
DATA_SET_ID = "MEX-M-HRSC-4-REFDR-MAPPROJECT-EXT1-V4.0"
DATA_SET_NAME = "MARS EXPRESS HRSC MAP PROJECTED REFDR EXTENSION1 V4.0"
DETECTOR_ID = MEX_HRSC_BLUE
EVENT_TYPE = "MARS-LOCAL-STEREO-Fl-Mw-La"
INSTRUMENT_HOST_ID = MEX
INSTRUMENT_HOST_NAME = "MARS EXPRESS"
INSTRUMENT_ID = HRSC
INSTRUMENT_NAME = "HIGH RESOLUTION STEREO CAMERA"
MISSION_NAME = "MARS EXPRESS"
MISSION_PHASE_NAME = ME_Phase_7
PROCESSING_LEVEL_ID = 4
PRODUCT_CREATION_TIME = 2023-02-09T23:17:53.000Z
PRODUCT_ID = "H4167_0000_BL4.TIF"
RELEASE_ID = 0005
REVISION_ID = 0000
/* QUALITY DATA ELEMENTS */
DATA_QUALITY_ID = 1
DATA_QUALITY_DESC = "Data calculated based on original SPICE kernels"
/* TIME DATA ELEMENTS */
SPACECRAFT_CLOCK_START_COUNT = "1/0123768042.09034"
SPACECRAFT_CLOCK_STOP_COUNT = "1/0123768282.58578"
START_TIME = 2007-04-04T12:01:08.679Z
STOP_TIME = 2007-04-04T12:04:10.291Z
/* ORBITAL DATA ELEMENTS */
ASCENDING_NODE_LONGITUDE = 141.01
MAXIMUM_RESOLUTION = 0.0971
FOOTPRINT_POINT_LATITUDE = (-16.686,-16.6856,-16.6845,-16.6823, -16.6822,-16.6765,-16.2088,-15.9749, -15.7408,-15.5067,-15.0388,-14.8043, -14.5697,-14.3357,-14.1017,-13.8674, -13.6329,-13.3988,-13.1645,-12.8129, -12.5786,-12.2273,-11.8761,-11.5247, -11.2905,-11.0562,-10.705,-10.3497, -10.1073,-9.86446,-9.62206,-9.37958, -9.13752,-8.8947,-8.65224,-8.28901, -7.92667,-7.56399,-7.20101,-6.95813, -6.71624,-6.34226,-6.09307,-5.84327, -5.5931,-5.34324,-5.09367,-4.84404, -4.7193,-4.71606,-4.71531,-4.71446, -4.71338,-4.71334,-4.71494,-4.9645, -5.33928,-5.71403,-5.96382,-6.21442, -6.46442,-6.71186,-6.95511,-7.19519, -7.43833,-7.80088,-8.04367,-8.2868, -8.52905,-8.77082,-9.13418,-9.37646, -9.62012,-9.86246,-10.2266,-10.4696, -10.704,-10.9384,-11.1726,-11.4072, -11.6415,-11.8757,-12.226,-12.4605, -12.6953,-12.9309,-13.1654,-13.6337, -13.8681,-14.1024,-14.4536,-14.6883, -14.9227,-15.1571,-15.6239,-15.8592, -16.2113,-16.5625,-16.6795,-16.686)
FOOTPRINT_POINT_LONGITUDE = (339.515,339.19,338.865,338.447,338.437 ,338.424,338.427,338.428,338.429,338.43 ,338.433,338.433,338.432,338.433, 338.434,338.435,338.434,338.435,338.435 ,338.434,338.434,338.434,338.434, 338.433,338.432,338.431,338.43,338.429, 338.429,338.427,338.427,338.426,338.425 ,338.423,338.421,338.42,338.419,338.417 ,338.414,338.41,338.408,338.405,338.404 ,338.403,338.4,338.397,338.395,338.393, 338.391,338.391,338.741,339.134,339.505 ,339.516,339.523,339.522,339.521, 339.521,339.52,339.519,339.519,339.521, 339.518,339.52,339.519,339.519,339.518, 339.517,339.516,339.517,339.517,339.517 ,339.516,339.516,339.516,339.516, 339.516,339.515,339.515,339.515,339.515 ,339.515,339.517,339.517,339.516, 339.515,339.515,339.516,339.516,339.516 ,339.517,339.517,339.517,339.517,339.52 ,339.519,339.519,339.519,339.519, 339.515)
ORBIT_NUMBER = 4167
ORBITAL_ECCENTRICITY = 0.571
ORBITAL_INCLINATION = 86.69
ORBITAL_SEMIMAJOR_AXIS = 8613.92
PERIAPSIS_ALTITUDE = 301.78
PERIAPSIS_ARGUMENT_ANGLE = 344.05
PERIAPSIS_TIME = 2007-04-04T12:01:25.000Z
SPACECRAFT_ORIENTATION = (0.0,1.0,0.0)
^MEX_ORIENTATION_DESC = "MEX_ORIENTATION_DESC.TXT"
SPACECRAFT_POINTING_MODE = ACROSSTRACK
^MEX_POINTING_DESC = "MEX_POINTING_DESC.TXT"
RIGHT_ASCENSION = -1e+32
DECLINATION = -1e+32
OFFSET_ANGLE = 0.1
SPACECRAFT_SOLAR_DISTANCE = 2.10523e+08
TARGET_NAME = MARS
/* CAMERA DATA ELEMENTS */
DETECTOR_TEMPERATURE = 17.1471
FOCAL_PLANE_TEMPERATURE = 9.195
INST_CMPRS_NAME = "DISCRETE COSINE TRANSFORMATION (DCT)"
INST_CMPRS_RATIO = 8.63316
INST_CMPRS_QUALITY = 0
INST_CMPRS_QUANTZ_TBL_ID = 0
INSTRUMENT_TEMPERATURE = 11.6418
LENS_TEMPERATURE = 9.8067
MACROPIXEL_SIZE = 8
MISSING_FRAMES = 0
PIXEL_SUBSAMPLING_FLAG = N
SIGNAL_CHAIN_ID = 3
/* RADIOMETRIC DATA ELEMENTS */
BANDWIDTH = 76.0
CENTER_FILTER_WAVELENGTH = 444.0
RADIANCE_OFFSET = 0.558886
RADIANCE_SCALING_FACTOR = 0.00122587
REFLECTANCE_SCALING_FACTOR = 5.5821e-05
MEX:REFLECTANCE_OFFSET = 0.0254493
/* IMAGE OBJECT DEFINITIONS */
OBJECT = IMAGE
  INTERCHANGE_FORMAT = BINARY
  LINES = 7094
  LINE_SAMPLES = 681
  SAMPLE_TYPE = UNSIGNED_INTEGER
  SAMPLE_BITS = 8
  BANDS = 1
  BAND_STORAGE_TYPE = BAND_SEQUENTIAL
  MAXIMUM = 255
  MEAN = 129.368
  MINIMUM = 1
  STANDARD_DEVIATION = 28.8225
END_OBJECT = IMAGE
/* MAP OBJECT DEFINITIONS */
OBJECT = IMAGE_MAP_PROJECTION
  ^DATA_SET_MAP_PROJECTION_CATALOG= "DSMAP.CAT"
  A_AXIS_RADIUS = 3396.0
  B_AXIS_RADIUS = 3396.0
  C_AXIS_RADIUS = 3396.0
  CENTER_LATITUDE = 0.0
  CENTER_LONGITUDE = 339.0
  COORDINATE_SYSTEM_NAME = PLANETOGRAPHIC
  COORDINATE_SYSTEM_TYPE = "BODY-FIXED ROTATING"
  EASTERNMOST_LONGITUDE = 339.523
  FIRST_STANDARD_PARALLEL = "N/A"
  LINE_FIRST_PIXEL = 1
  LINE_LAST_PIXEL = 7094
  LINE_PROJECTION_OFFSET = -2800.3125
  MAP_PROJECTION_ROTATION = 0.0
  MAP_PROJECTION_TYPE = SINUSOIDAL
  MAP_RESOLUTION = 592.713803866667
  MAP_SCALE = 0.1
  MAXIMUM_LATITUDE = -4.71334
  MINIMUM_LATITUDE = -16.686
  POSITIVE_LONGITUDE_DIRECTION = EAST
  REFERENCE_LATITUDE = "N/A"
  REFERENCE_LONGITUDE = "N/A"
  SAMPLE_FIRST_PIXEL = 1
  SAMPLE_LAST_PIXEL = 681
  SAMPLE_PROJECTION_OFFSET = 369.5625
  SECOND_STANDARD_PARALLEL = "N/A"
  WESTERNMOST_LONGITUDE = 338.391
END_OBJECT = IMAGE_MAP_PROJECTION
END
