PDS_VERSION_ID = PDS3
/* FILE DATA ELEMENTS */
RECORD_TYPE = UNDEFINED
/* POINTERS TO DATA OBJECTS */
^IMAGE = ("H4165_0003_SR4.TIF")
/* IDENTIFICATION DATA ELEMENTS */
DATA_SET_ID = "MEX-M-HRSC-4-REFDR-MAPPROJECT-EXT1-V4.0"
DATA_SET_NAME = "MARS EXPRESS HRSC MAP PROJECTED REFDR EXTENSION1 V4.0"
DETECTOR_ID = MEX_HRSC_SRC
EVENT_TYPE = "MARS-LOCAL-VARIABLE-Eo-Ot-At"
INSTRUMENT_HOST_ID = MEX
INSTRUMENT_HOST_NAME = "MARS EXPRESS"
INSTRUMENT_ID = HRSC
INSTRUMENT_NAME = "HIGH RESOLUTION STEREO CAMERA"
MISSION_NAME = "MARS EXPRESS"
MISSION_PHASE_NAME = ME_Phase_7
PROCESSING_LEVEL_ID = 4
PRODUCT_CREATION_TIME = 2023-02-09T23:17:53.000Z
PRODUCT_ID = "H4165_0003_SR4.TIF"
RELEASE_ID = 0005
REVISION_ID = 0000
/* QUALITY DATA ELEMENTS */
DATA_QUALITY_ID = 1
DATA_QUALITY_DESC = "Data calculated based on original SPICE kernels"
/* TIME DATA ELEMENTS */
SPACECRAFT_CLOCK_START_COUNT = "1/0123719668.08257"
SPACECRAFT_CLOCK_STOP_COUNT = "1/0123719787.00693"
IMAGE_TIME = 2007-04-03T22:35:28.710Z
START_TIME = 2007-04-03T22:35:28.708Z
STOP_TIME = 2007-04-03T22:35:28.713Z
/* ORBITAL DATA ELEMENTS */
ASCENDING_NODE_LONGITUDE = 141.04
MAXIMUM_RESOLUTION = 0.002784
FOOTPRINT_POINT_LATITUDE = (-14.5824,-14.5796,-14.5765,-14.5734, -14.5719,-14.5698,-14.5671,-14.5647, -14.5629,-14.561,-14.5584,-14.5568, -14.5543,-14.5521,-14.5495,-14.5478, -14.545,-14.5427,-14.5412,-14.5392, -14.5376,-14.5351,-14.5351,-14.5351, -14.5351,-14.5351,-14.5351,-14.5351, -14.5351,-14.5351,-14.5351,-14.5351, -14.5351,-14.5351,-14.5351,-14.5351, -14.5351,-14.5351,-14.5351,-14.5351, -14.5351,-14.5351,-14.5351,-14.5351, -14.5351,-14.5351,-14.5351,-14.5351, -14.5351,-14.5351,-14.5351,-14.5384, -14.5413,-14.5448,-14.547,-14.5496, -14.5515,-14.5529,-14.5552,-14.5569, -14.5585,-14.5619,-14.5644,-14.5662, -14.5693,-14.5717,-14.5743,-14.5766, -14.5782,-14.5798,-14.5824,-14.5824, -14.5824,-14.5824,-14.5824,-14.5824, -14.5824,-14.5824,-14.5824,-14.5824, -14.5824,-14.5824,-14.5824,-14.5824, -14.5824,-14.5824,-14.5824,-14.5824, -14.5824,-14.5824,-14.5824,-14.5824, -14.5824,-14.5824,-14.5824,-14.5824, -14.5824,-14.5824,-14.5824,-14.5824)
FOOTPRINT_POINT_LONGITUDE = (175.473,175.473,175.473,175.473, 175.473,175.473,175.473,175.473,175.473 ,175.473,175.473,175.473,175.473, 175.473,175.473,175.473,175.473,175.473 ,175.473,175.473,175.473,175.473, 175.473,175.473,175.475,175.477,175.479 ,175.481,175.482,175.484,175.486, 175.488,175.49,175.492,175.494,175.496, 175.498,175.5,175.502,175.504,175.506, 175.508,175.51,175.512,175.514,175.516, 175.517,175.519,175.521,175.522,175.522 ,175.522,175.522,175.522,175.522, 175.522,175.522,175.522,175.522,175.522 ,175.522,175.522,175.522,175.522, 175.522,175.522,175.522,175.522,175.522 ,175.522,175.522,175.522,175.522,175.52 ,175.518,175.516,175.514,175.512,175.51 ,175.508,175.507,175.505,175.503, 175.501,175.499,175.497,175.495,175.493 ,175.491,175.489,175.487,175.485, 175.483,175.481,175.479,175.477,175.475 ,175.473,175.473,175.473)
ORBIT_NUMBER = 4165
ORBITAL_ECCENTRICITY = 0.571
ORBITAL_INCLINATION = 86.69
ORBITAL_SEMIMAJOR_AXIS = 8613.67
PERIAPSIS_ALTITUDE = 302.05
PERIAPSIS_ARGUMENT_ANGLE = 344.43
PERIAPSIS_TIME = 2007-04-03T22:35:14.000Z
SPACECRAFT_ORIENTATION = (0.0,1.0,0.0)
^MEX_ORIENTATION_DESC = "MEX_ORIENTATION_DESC.TXT"
SPACECRAFT_POINTING_MODE = ACROSSTRACK
^MEX_POINTING_DESC = "MEX_POINTING_DESC.TXT"
RIGHT_ASCENSION = -1e+32
DECLINATION = -1e+32
OFFSET_ANGLE = 0.08
SPACECRAFT_SOLAR_DISTANCE = 2.10591e+08
TARGET_NAME = MARS
/* CAMERA DATA ELEMENTS */
BUFFER_MODE_ID = BUFFER_8
EXPOSURE_DURATION = 5.04
INST_CMPRS_NAME = NONE
INST_CMPRS_RATIO = 1.0
INST_CMPRS_QUALITY = -2147483648
INST_CMPRS_QUANTZ_TBL_ID = -2147483648
INSTRUMENT_TEMPERATURE = 13.1305
MISSING_FRAMES = 0
START_BIT = 0
/* RADIOMETRIC DATA ELEMENTS */
BANDWIDTH = 250.0
CENTER_FILTER_WAVELENGTH = 600.0
RADIANCE_OFFSET = -9.99e+31
RADIANCE_SCALING_FACTOR = -9.99e+31
REFLECTANCE_SCALING_FACTOR = -9.99e+31
MEX:REFLECTANCE_OFFSET = -9.99e+31
/* IMAGE OBJECT DEFINITIONS */
OBJECT = IMAGE
  INTERCHANGE_FORMAT = BINARY
  LINES = 1167
  LINE_SAMPLES = 1181
  SAMPLE_TYPE = UNSIGNED_INTEGER
  SAMPLE_BITS = 8
  BANDS = 1
  BAND_STORAGE_TYPE = BAND_SEQUENTIAL
  MAXIMUM = 251
  MEAN = 145.457
  MINIMUM = 3
  STANDARD_DEVIATION = 22.7818
END_OBJECT = IMAGE
/* MAP OBJECT DEFINITIONS */
OBJECT = IMAGE_MAP_PROJECTION
  ^DATA_SET_MAP_PROJECTION_CATALOG= "DSMAP.CAT"
  A_AXIS_RADIUS = 3396.19
  B_AXIS_RADIUS = 3396.19
  C_AXIS_RADIUS = 3396.19
  CENTER_LATITUDE = 0.0
  CENTER_LONGITUDE = 175.0
  COORDINATE_SYSTEM_NAME = PLANETOGRAPHIC
  COORDINATE_SYSTEM_TYPE = "BODY-FIXED ROTATING"
  EASTERNMOST_LONGITUDE = 175.522
  FIRST_STANDARD_PARALLEL = "N/A"
  LINE_FIRST_PIXEL = 1
  LINE_LAST_PIXEL = 1167
  LINE_PROJECTION_OFFSET = -344557.0
  MAP_PROJECTION_ROTATION = 0.0
  MAP_PROJECTION_TYPE = SINUSOIDAL
  MAP_RESOLUTION = 23709.8786048756
  MAP_SCALE = 0.0025
  MAXIMUM_LATITUDE = -14.5351
  MINIMUM_LATITUDE = -14.5824
  POSITIVE_LONGITUDE_DIRECTION = EAST
  REFERENCE_LATITUDE = "N/A"
  REFERENCE_LONGITUDE = "N/A"
  SAMPLE_FIRST_PIXEL = 1
  SAMPLE_LAST_PIXEL = 1181
  SAMPLE_PROJECTION_OFFSET = -10814.0
  SECOND_STANDARD_PARALLEL = "N/A"
  WESTERNMOST_LONGITUDE = 175.473
END_OBJECT = IMAGE_MAP_PROJECTION
END
