PDS_VERSION_ID = PDS3
/* FILE DATA ELEMENTS */
RECORD_TYPE = UNDEFINED
/* POINTERS TO DATA OBJECTS */
^IMAGE = ("H4164_0000_RE4.TIF")
/* IDENTIFICATION DATA ELEMENTS */
DATA_SET_ID = "MEX-M-HRSC-4-REFDR-MAPPROJECT-EXT1-V4.0"
DATA_SET_NAME = "MARS EXPRESS HRSC MAP PROJECTED REFDR EXTENSION1 V4.0"
DETECTOR_ID = MEX_HRSC_RED
EVENT_TYPE = "MARS-REGIONAL-MAPPING-Vo-Te-Im"
INSTRUMENT_HOST_ID = MEX
INSTRUMENT_HOST_NAME = "MARS EXPRESS"
INSTRUMENT_ID = HRSC
INSTRUMENT_NAME = "HIGH RESOLUTION STEREO CAMERA"
MISSION_NAME = "MARS EXPRESS"
MISSION_PHASE_NAME = ME_Phase_7
PROCESSING_LEVEL_ID = 4
PRODUCT_CREATION_TIME = 2023-02-09T23:17:53.000Z
PRODUCT_ID = "H4164_0000_RE4.TIF"
RELEASE_ID = 0005
REVISION_ID = 0000
/* QUALITY DATA ELEMENTS */
DATA_QUALITY_ID = 1
DATA_QUALITY_DESC = "Data calculated based on original SPICE kernels"
/* TIME DATA ELEMENTS */
SPACECRAFT_CLOCK_START_COUNT = "1/0123695178.09072"
SPACECRAFT_CLOCK_STOP_COUNT = "1/0123695503.50688"
START_TIME = 2007-04-03T15:46:29.533Z
STOP_TIME = 2007-04-03T15:50:56.313Z
/* ORBITAL DATA ELEMENTS */
ASCENDING_NODE_LONGITUDE = 141.06
MAXIMUM_RESOLUTION = 0.1015
FOOTPRINT_POINT_LATITUDE = (-35.2815,-35.3018,-35.3135,-35.3218, -35.322,-35.3024,-34.7494,-34.3824, -34.01,-33.4466,-32.8831,-32.5071, -32.1304,-31.7528,-31.3741,-30.9944, -30.432,-30.112,-29.7915,-29.4702, -29.148,-28.8255,-28.5025,-28.1789, -27.8544,-27.5295,-27.2047,-26.8787, -26.552,-26.2245,-25.8967,-25.5734, -25.2554,-24.9368,-24.6178,-24.2989, -23.9787,-23.5019,-23.0358,-22.4137, -22.1021,-21.79,-21.4778,-21.1647, -20.6993,-20.0928,-19.3332,-18.8764, -18.7239,-18.5901,-18.574,-18.5573, -18.5353,-18.5347,-18.5359,-18.9934, -19.4506,-20.0582,-20.6645,-21.2873, -21.6003,-21.9127,-22.2245,-22.5361, -22.8474,-23.4679,-23.9466,-24.2667, -24.7463,-25.2249,-25.5429,-25.8667, -26.1934,-26.522,-26.8487,-27.175, -27.5006,-27.8257,-28.1502,-28.4744, -28.7977,-29.1202,-29.4424,-29.7643, -30.0851,-30.4052,-30.7819,-31.1624, -31.542,-31.9208,-32.2985,-32.6752, -33.0509,-33.4261,-33.8007,-34.1752, -34.5478,-34.9181,-35.1049,-35.2815)
FOOTPRINT_POINT_LONGITUDE = (275.512,274.832,274.312,273.8,273.784, 273.778,273.8,273.814,273.828,273.849, 273.868,273.881,273.893,273.905,273.916 ,273.927,273.943,273.951,273.959, 273.967,273.975,273.983,273.99,273.997, 274.004,274.011,274.017,274.023,274.029 ,274.035,274.041,274.046,274.051, 274.056,274.061,274.065,274.069,274.075 ,274.081,274.088,274.091,274.094, 274.096,274.099,274.103,274.107,274.112 ,274.114,274.115,274.115,274.479, 274.821,275.238,275.249,275.256,275.261 ,275.266,275.273,275.28,275.288,275.291 ,275.296,275.3,275.304,275.308,275.317, 275.324,275.328,275.335,275.342,275.347 ,275.352,275.358,275.362,275.367, 275.372,275.377,275.383,275.388,275.393 ,275.399,275.404,275.41,275.415,275.421 ,275.427,275.434,275.441,275.448, 275.455,275.463,275.47,275.478,275.485, 275.492,275.499,275.506,275.514,275.518 ,275.512)
ORBIT_NUMBER = 4164
ORBITAL_ECCENTRICITY = 0.572
ORBITAL_INCLINATION = 86.67
ORBITAL_SEMIMAJOR_AXIS = 8626.16
PERIAPSIS_ALTITUDE = 301.52
PERIAPSIS_ARGUMENT_ANGLE = 344.6
PERIAPSIS_TIME = 2007-04-03T15:52:08.000Z
SPACECRAFT_ORIENTATION = (0.0,1.0,0.0)
^MEX_ORIENTATION_DESC = "MEX_ORIENTATION_DESC.TXT"
SPACECRAFT_POINTING_MODE = ACROSSTRACK
^MEX_POINTING_DESC = "MEX_POINTING_DESC.TXT"
RIGHT_ASCENSION = -1e+32
DECLINATION = -1e+32
OFFSET_ANGLE = -0.8
SPACECRAFT_SOLAR_DISTANCE = 2.10625e+08
TARGET_NAME = MARS
/* CAMERA DATA ELEMENTS */
DETECTOR_TEMPERATURE = 18.7783
FOCAL_PLANE_TEMPERATURE = 9.3989
INST_CMPRS_NAME = "DISCRETE COSINE TRANSFORMATION (DCT)"
INST_CMPRS_RATIO = 15.384
INST_CMPRS_QUALITY = 0
INST_CMPRS_QUANTZ_TBL_ID = 0
INSTRUMENT_TEMPERATURE = 11.6418
LENS_TEMPERATURE = 9.6028
MACROPIXEL_SIZE = 8
MISSING_FRAMES = 0
PIXEL_SUBSAMPLING_FLAG = N
SIGNAL_CHAIN_ID = 2
/* RADIOMETRIC DATA ELEMENTS */
BANDWIDTH = 48.0
CENTER_FILTER_WAVELENGTH = 748.0
RADIANCE_OFFSET = 0.583632
RADIANCE_SCALING_FACTOR = 0.00384638
REFLECTANCE_SCALING_FACTOR = 0.000389403
MEX:REFLECTANCE_OFFSET = 0.0590863
/* IMAGE OBJECT DEFINITIONS */
OBJECT = IMAGE
  INTERCHANGE_FORMAT = BINARY
  LINES = 9921
  LINE_SAMPLES = 812
  SAMPLE_TYPE = UNSIGNED_INTEGER
  SAMPLE_BITS = 8
  BANDS = 1
  BAND_STORAGE_TYPE = BAND_SEQUENTIAL
  MAXIMUM = 255
  MEAN = 100.675
  MINIMUM = 1
  STANDARD_DEVIATION = 14.4114
END_OBJECT = IMAGE
/* MAP OBJECT DEFINITIONS */
OBJECT = IMAGE_MAP_PROJECTION
  ^DATA_SET_MAP_PROJECTION_CATALOG= "DSMAP.CAT"
  A_AXIS_RADIUS = 3396.0
  B_AXIS_RADIUS = 3396.0
  C_AXIS_RADIUS = 3396.0
  CENTER_LATITUDE = 0.0
  CENTER_LONGITUDE = 275.0
  COORDINATE_SYSTEM_NAME = PLANETOGRAPHIC
  COORDINATE_SYSTEM_TYPE = "BODY-FIXED ROTATING"
  EASTERNMOST_LONGITUDE = 275.518
  FIRST_STANDARD_PARALLEL = "N/A"
  LINE_FIRST_PIXEL = 1
  LINE_LAST_PIXEL = 9921
  LINE_PROJECTION_OFFSET = -10991.3125
  MAP_PROJECTION_ROTATION = 0.0
  MAP_PROJECTION_TYPE = SINUSOIDAL
  MAP_RESOLUTION = 592.713803866667
  MAP_SCALE = 0.1
  MAXIMUM_LATITUDE = -18.5347
  MINIMUM_LATITUDE = -35.322
  POSITIVE_LONGITUDE_DIRECTION = EAST
  REFERENCE_LATITUDE = "N/A"
  REFERENCE_LONGITUDE = "N/A"
  SAMPLE_FIRST_PIXEL = 1
  SAMPLE_LAST_PIXEL = 812
  SAMPLE_PROJECTION_OFFSET = 580.3125
  SECOND_STANDARD_PARALLEL = "N/A"
  WESTERNMOST_LONGITUDE = 273.778
END_OBJECT = IMAGE_MAP_PROJECTION
END
