PDS_VERSION_ID = PDS3
/* FILE DATA ELEMENTS */
RECORD_TYPE = UNDEFINED
/* POINTERS TO DATA OBJECTS */
^IMAGE = ("H4164_0000_P24.TIF")
/* IDENTIFICATION DATA ELEMENTS */
DATA_SET_ID = "MEX-M-HRSC-4-REFDR-MAPPROJECT-EXT1-V4.0"
DATA_SET_NAME = "MARS EXPRESS HRSC MAP PROJECTED REFDR EXTENSION1 V4.0"
DETECTOR_ID = MEX_HRSC_P2
EVENT_TYPE = "MARS-REGIONAL-MAPPING-Vo-Te-Im"
INSTRUMENT_HOST_ID = MEX
INSTRUMENT_HOST_NAME = "MARS EXPRESS"
INSTRUMENT_ID = HRSC
INSTRUMENT_NAME = "HIGH RESOLUTION STEREO CAMERA"
MISSION_NAME = "MARS EXPRESS"
MISSION_PHASE_NAME = ME_Phase_7
PROCESSING_LEVEL_ID = 4
PRODUCT_CREATION_TIME = 2023-02-09T23:17:53.000Z
PRODUCT_ID = "H4164_0000_P24.TIF"
RELEASE_ID = 0005
REVISION_ID = 0000
/* QUALITY DATA ELEMENTS */
DATA_QUALITY_ID = 1
DATA_QUALITY_DESC = "Data calculated based on original SPICE kernels"
/* TIME DATA ELEMENTS */
SPACECRAFT_CLOCK_START_COUNT = "1/0123695178.09072"
SPACECRAFT_CLOCK_STOP_COUNT = "1/0123695503.50688"
START_TIME = 2007-04-03T15:46:36.335Z
STOP_TIME = 2007-04-03T15:51:01.167Z
/* ORBITAL DATA ELEMENTS */
ASCENDING_NODE_LONGITUDE = 141.06
MAXIMUM_RESOLUTION = 0.0249
FOOTPRINT_POINT_LATITUDE = (-35.2802,-35.2957,-35.3047,-35.3105, -35.3106,-35.2961,-34.9262,-34.5436, -34.1664,-33.7858,-33.4044,-32.8317, -32.4497,-32.0668,-31.683,-31.2982, -30.7386,-30.4144,-30.0897,-29.7645, -29.4385,-29.1118,-28.7849,-28.4574, -28.1292,-27.8006,-27.4712,-27.142, -26.8118,-26.4809,-25.9853,-25.6642, -25.3425,-25.0204,-24.698,-24.2137, -23.8906,-23.5778,-23.2643,-22.9501, -22.6358,-22.3214,-22.0065,-21.691, -21.3757,-21.0623,-20.4509,-19.8384, -19.3787,-18.7642,-18.6105,-18.5738, -18.5596,-18.5291,-18.5286,-18.5288, -18.9901,-19.7575,-20.3703,-20.9816, -21.6099,-21.9254,-22.2404,-22.5552, -22.8696,-23.1833,-23.6538,-23.9706, -24.2942,-24.7792,-25.2631,-25.5849, -25.9061,-26.2337,-26.566,-26.8968, -27.3919,-27.7216,-28.0505,-28.3792, -28.7071,-29.0344,-29.3612,-29.6878, -30.0133,-30.3383,-30.663,-31.216, -31.6013,-31.9859,-32.3694,-32.752, -33.1337,-33.5147,-33.8963,-34.2766, -34.6546,-35.0388,-35.2272,-35.2802)
FOOTPRINT_POINT_LONGITUDE = (275.502,274.852,274.316,273.79,273.773 ,273.77,273.784,273.799,273.814,273.828 ,273.841,273.861,273.874,273.886, 273.898,273.909,273.925,273.934,273.943 ,273.951,273.959,273.967,273.975, 273.982,273.989,273.996,274.003,274.009 ,274.016,274.022,274.03,274.036,274.041 ,274.046,274.05,274.057,274.061,274.065 ,274.069,274.072,274.076,274.079, 274.082,274.085,274.088,274.09,274.095, 274.099,274.102,274.105,274.106,274.106 ,274.507,275.238,275.25,275.254,275.259 ,275.267,275.274,275.281,275.289, 275.293,275.297,275.301,275.305,275.31, 275.316,275.32,275.325,275.331,275.338, 275.343,275.348,275.354,275.358,275.363 ,275.37,275.375,275.381,275.386,275.391 ,275.397,275.402,275.407,275.413, 275.419,275.424,275.434,275.441,275.448 ,275.456,275.463,275.471,275.478, 275.484,275.49,275.498,275.507,275.51, 275.502)
ORBIT_NUMBER = 4164
ORBITAL_ECCENTRICITY = 0.572
ORBITAL_INCLINATION = 86.67
ORBITAL_SEMIMAJOR_AXIS = 8626.16
PERIAPSIS_ALTITUDE = 301.52
PERIAPSIS_ARGUMENT_ANGLE = 344.6
PERIAPSIS_TIME = 2007-04-03T15:52:08.000Z
SPACECRAFT_ORIENTATION = (0.0,1.0,0.0)
^MEX_ORIENTATION_DESC = "MEX_ORIENTATION_DESC.TXT"
SPACECRAFT_POINTING_MODE = ACROSSTRACK
^MEX_POINTING_DESC = "MEX_POINTING_DESC.TXT"
RIGHT_ASCENSION = -1e+32
DECLINATION = -1e+32
OFFSET_ANGLE = -0.8
SPACECRAFT_SOLAR_DISTANCE = 2.10625e+08
TARGET_NAME = MARS
/* CAMERA DATA ELEMENTS */
DETECTOR_TEMPERATURE = 18.7783
FOCAL_PLANE_TEMPERATURE = 9.3989
INST_CMPRS_NAME = "DISCRETE COSINE TRANSFORMATION (DCT)"
INST_CMPRS_RATIO = 6.34822
INST_CMPRS_QUALITY = 0
INST_CMPRS_QUANTZ_TBL_ID = 0
INSTRUMENT_TEMPERATURE = 11.6418
LENS_TEMPERATURE = 9.6028
MACROPIXEL_SIZE = 2
MISSING_FRAMES = 2
PIXEL_SUBSAMPLING_FLAG = N
SIGNAL_CHAIN_ID = 3
/* RADIOMETRIC DATA ELEMENTS */
BANDWIDTH = 177.0
CENTER_FILTER_WAVELENGTH = 676.5
RADIANCE_OFFSET = 2.14503
RADIANCE_SCALING_FACTOR = 0.0136809
REFLECTANCE_SCALING_FACTOR = 0.000321805
MEX:REFLECTANCE_OFFSET = 0.050456
/* IMAGE OBJECT DEFINITIONS */
OBJECT = IMAGE
  INTERCHANGE_FORMAT = BINARY
  LINES = 39683
  LINE_SAMPLES = 3246
  SAMPLE_TYPE = UNSIGNED_INTEGER
  SAMPLE_BITS = 8
  BANDS = 1
  BAND_STORAGE_TYPE = BAND_SEQUENTIAL
  MAXIMUM = 255
  MEAN = 103.601
  MINIMUM = 1
  STANDARD_DEVIATION = 14.3453
END_OBJECT = IMAGE
/* MAP OBJECT DEFINITIONS */
OBJECT = IMAGE_MAP_PROJECTION
  ^DATA_SET_MAP_PROJECTION_CATALOG= "DSMAP.CAT"
  A_AXIS_RADIUS = 3396.0
  B_AXIS_RADIUS = 3396.0
  C_AXIS_RADIUS = 3396.0
  CENTER_LATITUDE = 0.0
  CENTER_LONGITUDE = 275.0
  COORDINATE_SYSTEM_NAME = PLANETOGRAPHIC
  COORDINATE_SYSTEM_TYPE = "BODY-FIXED ROTATING"
  EASTERNMOST_LONGITUDE = 275.51
  FIRST_STANDARD_PARALLEL = "N/A"
  LINE_FIRST_PIXEL = 1
  LINE_LAST_PIXEL = 39683
  LINE_PROJECTION_OFFSET = -43963.75
  MAP_PROJECTION_ROTATION = 0.0
  MAP_PROJECTION_TYPE = SINUSOIDAL
  MAP_RESOLUTION = 2370.85521546667
  MAP_SCALE = 0.025
  MAXIMUM_LATITUDE = -18.5286
  MINIMUM_LATITUDE = -35.3106
  POSITIVE_LONGITUDE_DIRECTION = EAST
  REFERENCE_LATITUDE = "N/A"
  REFERENCE_LONGITUDE = "N/A"
  SAMPLE_FIRST_PIXEL = 1
  SAMPLE_LAST_PIXEL = 3246
  SAMPLE_PROJECTION_OFFSET = 2322.75
  SECOND_STANDARD_PARALLEL = "N/A"
  WESTERNMOST_LONGITUDE = 273.77
END_OBJECT = IMAGE_MAP_PROJECTION
END
