PDS_VERSION_ID = PDS3
/* FILE DATA ELEMENTS */
RECORD_TYPE = UNDEFINED
/* POINTERS TO DATA OBJECTS */
^IMAGE = ("H4162_0001_P14.TIF")
/* IDENTIFICATION DATA ELEMENTS */
DATA_SET_ID = "MEX-M-HRSC-4-REFDR-MAPPROJECT-EXT1-V4.0"
DATA_SET_NAME = "MARS EXPRESS HRSC MAP PROJECTED REFDR EXTENSION1 V4.0"
DETECTOR_ID = MEX_HRSC_P1
EVENT_TYPE = "MARS-REGIONAL-MAPPING-Vo-Te-Im"
INSTRUMENT_HOST_ID = MEX
INSTRUMENT_HOST_NAME = "MARS EXPRESS"
INSTRUMENT_ID = HRSC
INSTRUMENT_NAME = "HIGH RESOLUTION STEREO CAMERA"
MISSION_NAME = "MARS EXPRESS"
MISSION_PHASE_NAME = ME_Phase_7
PROCESSING_LEVEL_ID = 4
PRODUCT_CREATION_TIME = 2023-02-09T23:17:53.000Z
PRODUCT_ID = "H4162_0001_P14.TIF"
RELEASE_ID = 0005
REVISION_ID = 0000
/* QUALITY DATA ELEMENTS */
DATA_QUALITY_ID = 1
DATA_QUALITY_DESC = "Data calculated based on original SPICE kernels"
/* TIME DATA ELEMENTS */
SPACECRAFT_CLOCK_START_COUNT = "1/0123646913.07281"
SPACECRAFT_CLOCK_STOP_COUNT = "1/0123647153.31226"
START_TIME = 2007-04-03T02:22:48.930Z
STOP_TIME = 2007-04-03T02:25:46.772Z
/* ORBITAL DATA ELEMENTS */
ASCENDING_NODE_LONGITUDE = 141.1
MAXIMUM_RESOLUTION = 0.0247
FOOTPRINT_POINT_LATITUDE = (-27.8757,-27.8732,-27.8688,-27.8651, -27.8649,-27.8739,-27.4966,-27.1197, -26.8683,-26.6219,-26.378,-26.0121, -25.7682,-25.5242,-25.2803,-25.0363, -24.6703,-24.4262,-24.184,-23.9485, -23.7132,-23.4777,-23.2422,-22.8893, -22.6538,-22.4186,-22.1831,-21.9475, -21.7122,-21.4766,-21.1234,-20.8876, -20.6521,-20.4181,-20.1911,-19.9639, -19.7374,-19.5106,-19.1707,-18.944, -18.7172,-18.4905,-18.1506,-17.924, -17.6977,-17.3583,-17.1319,-16.7925, -16.2279,-16.1148,-16.0866,-16.087, -16.0874,-16.087,-16.087,-16.0874, -16.3136,-16.6528,-17.1054,-17.3318, -17.6715,-17.8982,-18.2382,-18.5786, -18.9185,-19.1456,-19.3725,-19.5995, -19.9397,-20.1666,-20.3939,-20.6272, -20.8629,-21.0988,-21.4522,-21.688, -22.0415,-22.2771,-22.6306,-22.8662, -23.1015,-23.3374,-23.6913,-23.9271, -24.1629,-24.4042,-24.6482,-24.892, -25.1358,-25.5015,-25.7457,-25.9901, -26.2341,-26.4788,-26.7231,-27.0986, -27.3507,-27.7288,-27.8546,-27.8757)
FOOTPRINT_POINT_LONGITUDE = (110.966,110.577,110.05,109.685,109.672 ,109.663,109.673,109.683,109.689, 109.695,109.701,109.71,109.716,109.721, 109.727,109.732,109.74,109.745,109.749, 109.754,109.758,109.762,109.766,109.772 ,109.776,109.779,109.783,109.787,109.79 ,109.793,109.798,109.801,109.804, 109.807,109.809,109.812,109.814,109.817 ,109.82,109.822,109.824,109.826,109.829 ,109.83,109.832,109.834,109.835,109.837 ,109.84,109.841,109.841,110.168,110.475 ,110.918,110.929,110.933,110.933, 110.934,110.935,110.935,110.936,110.936 ,110.937,110.938,110.939,110.94,110.94, 110.941,110.942,110.942,110.943,110.944 ,110.944,110.945,110.946,110.947, 110.948,110.949,110.95,110.951,110.952, 110.953,110.954,110.955,110.956,110.957 ,110.958,110.959,110.96,110.961,110.962 ,110.963,110.964,110.966,110.967, 110.969,110.97,110.971,110.972,110.966)
ORBIT_NUMBER = 4162
ORBITAL_ECCENTRICITY = 0.571
ORBITAL_INCLINATION = 86.67
ORBITAL_SEMIMAJOR_AXIS = 8622.42
PERIAPSIS_ALTITUDE = 301.6
PERIAPSIS_ARGUMENT_ANGLE = 344.94
PERIAPSIS_TIME = 2007-04-03T02:25:46.000Z
SPACECRAFT_ORIENTATION = (0.0,1.0,0.0)
^MEX_ORIENTATION_DESC = "MEX_ORIENTATION_DESC.TXT"
SPACECRAFT_POINTING_MODE = NADIR
^MEX_POINTING_DESC = "MEX_POINTING_DESC.TXT"
RIGHT_ASCENSION = -1e+32
DECLINATION = -1e+32
OFFSET_ANGLE = -1e+32
SPACECRAFT_SOLAR_DISTANCE = 2.10694e+08
TARGET_NAME = MARS
/* CAMERA DATA ELEMENTS */
DETECTOR_TEMPERATURE = 21.429
FOCAL_PLANE_TEMPERATURE = 10.0106
INST_CMPRS_NAME = "DISCRETE COSINE TRANSFORMATION (DCT)"
INST_CMPRS_RATIO = 10.9009
INST_CMPRS_QUALITY = 0
INST_CMPRS_QUANTZ_TBL_ID = 0
INSTRUMENT_TEMPERATURE = 15.9237
LENS_TEMPERATURE = 10.6223
MACROPIXEL_SIZE = 2
MISSING_FRAMES = 0
PIXEL_SUBSAMPLING_FLAG = N
SIGNAL_CHAIN_ID = 3
/* RADIOMETRIC DATA ELEMENTS */
BANDWIDTH = 174.0
CENTER_FILTER_WAVELENGTH = 675.0
RADIANCE_OFFSET = 3.3781
RADIANCE_SCALING_FACTOR = 0.00894785
REFLECTANCE_SCALING_FACTOR = 0.000213652
MEX:REFLECTANCE_OFFSET = 0.0806607
/* IMAGE OBJECT DEFINITIONS */
OBJECT = IMAGE
  INTERCHANGE_FORMAT = BINARY
  LINES = 27983
  LINE_SAMPLES = 2860
  SAMPLE_TYPE = UNSIGNED_INTEGER
  SAMPLE_BITS = 8
  BANDS = 1
  BAND_STORAGE_TYPE = BAND_SEQUENTIAL
  MAXIMUM = 255
  MEAN = 106.905
  MINIMUM = 1
  STANDARD_DEVIATION = 24.0353
END_OBJECT = IMAGE
/* MAP OBJECT DEFINITIONS */
OBJECT = IMAGE_MAP_PROJECTION
  ^DATA_SET_MAP_PROJECTION_CATALOG= "DSMAP.CAT"
  A_AXIS_RADIUS = 3396.0
  B_AXIS_RADIUS = 3396.0
  C_AXIS_RADIUS = 3396.0
  CENTER_LATITUDE = 0.0
  CENTER_LONGITUDE = 110.0
  COORDINATE_SYSTEM_NAME = PLANETOGRAPHIC
  COORDINATE_SYSTEM_TYPE = "BODY-FIXED ROTATING"
  EASTERNMOST_LONGITUDE = 110.972
  FIRST_STANDARD_PARALLEL = "N/A"
  LINE_FIRST_PIXEL = 1
  LINE_LAST_PIXEL = 27983
  LINE_PROJECTION_OFFSET = -38170.25
  MAP_PROJECTION_ROTATION = 0.0
  MAP_PROJECTION_TYPE = SINUSOIDAL
  MAP_RESOLUTION = 2370.85521546667
  MAP_SCALE = 0.025
  MAXIMUM_LATITUDE = -16.0866
  MINIMUM_LATITUDE = -27.8757
  POSITIVE_LONGITUDE_DIRECTION = EAST
  REFERENCE_LATITUDE = "N/A"
  REFERENCE_LONGITUDE = "N/A"
  SAMPLE_FIRST_PIXEL = 1
  SAMPLE_LAST_PIXEL = 2860
  SAMPLE_PROJECTION_OFFSET = 735.75
  SECOND_STANDARD_PARALLEL = "N/A"
  WESTERNMOST_LONGITUDE = 109.663
END_OBJECT = IMAGE_MAP_PROJECTION
END
