PDS_VERSION_ID = PDS3
/* FILE DATA ELEMENTS */
RECORD_TYPE = UNDEFINED
/* POINTERS TO DATA OBJECTS */
^IMAGE = ("H4161_0000_GR4.TIF")
/* IDENTIFICATION DATA ELEMENTS */
DATA_SET_ID = "MEX-M-HRSC-4-REFDR-MAPPROJECT-EXT1-V4.0"
DATA_SET_NAME = "MARS EXPRESS HRSC MAP PROJECTED REFDR EXTENSION1 V4.0"
DETECTOR_ID = MEX_HRSC_GREEN
EVENT_TYPE = "MARS-REGIONAL-MAPPING-Vo-Te-Fl"
INSTRUMENT_HOST_ID = MEX
INSTRUMENT_HOST_NAME = "MARS EXPRESS"
INSTRUMENT_ID = HRSC
INSTRUMENT_NAME = "HIGH RESOLUTION STEREO CAMERA"
MISSION_NAME = "MARS EXPRESS"
MISSION_PHASE_NAME = ME_Phase_7
PROCESSING_LEVEL_ID = 4
PRODUCT_CREATION_TIME = 2023-02-09T23:17:53.000Z
PRODUCT_ID = "H4161_0000_GR4.TIF"
RELEASE_ID = 0005
REVISION_ID = 0000
/* QUALITY DATA ELEMENTS */
DATA_QUALITY_ID = 1
DATA_QUALITY_DESC = "Data calculated based on original SPICE kernels"
/* TIME DATA ELEMENTS */
SPACECRAFT_CLOCK_START_COUNT = "1/0123622718.09064"
SPACECRAFT_CLOCK_STOP_COUNT = "1/0123622991.58525"
START_TIME = 2007-04-02T19:39:19.686Z
STOP_TIME = 2007-04-02T19:42:51.845Z
/* ORBITAL DATA ELEMENTS */
ASCENDING_NODE_LONGITUDE = 141.13
MAXIMUM_RESOLUTION = 0.0966
FOOTPRINT_POINT_LATITUDE = (-27.8862,-27.8796,-27.8741,-27.874, -27.8753,-27.5732,-27.2796,-26.9857, -26.6917,-26.3978,-26.1035,-25.808, -25.5142,-25.2306,-24.9454,-24.6592, -24.2306,-23.9449,-23.6587,-23.2292, -22.945,-22.6691,-22.3933,-22.1171, -21.8405,-21.5636,-21.2867,-20.8713, -20.5943,-20.1784,-19.901,-19.6232, -19.3457,-19.0701,-18.5354,-17.8669, -17.5987,-17.3309,-16.7974,-16.5277, -16.26,-15.8586,-15.5911,-15.3234, -15.0559,-14.6547,-14.1197,-13.986, -13.9283,-13.9292,-13.9298,-13.9298, -13.9313,-14.1989,-14.6004,-14.8681, -15.2698,-15.5375,-15.8054,-16.2071, -16.6089,-16.8767,-17.1446,-17.4123, -17.814,-18.0819,-18.3496,-18.7512, -19.0189,-19.4318,-19.7093,-19.9867, -20.2641,-20.5413,-20.8187,-21.0959, -21.373,-21.6494,-21.9268,-22.3424, -22.6191,-22.8958,-23.1787,-23.465, -23.7511,-24.0372,-24.3231,-24.6088, -24.8944,-25.1799,-25.4652,-25.7571, -26.0519,-26.3466,-26.641,-26.9353, -27.3762,-27.6723,-27.8237,-27.8862)
FOOTPRINT_POINT_LONGITUDE = (209.386,208.552,208.099,208.087, 208.075,208.083,208.091,208.099,208.106 ,208.112,208.119,208.128,208.134, 208.137,208.143,208.151,208.159,208.164 ,208.17,208.178,208.182,208.185,208.188 ,208.192,208.196,208.2,208.203,208.208, 208.211,208.216,208.22,208.223,208.226, 208.228,208.232,208.236,208.239,208.241 ,208.241,208.245,208.247,208.248, 208.249,208.25,208.25,208.251,208.252, 208.252,208.252,208.653,209.31,209.32, 209.327,209.327,209.328,209.329,209.33, 209.331,209.332,209.333,209.335,209.336 ,209.337,209.338,209.339,209.34,209.341 ,209.343,209.344,209.346,209.347, 209.348,209.35,209.351,209.352,209.354, 209.355,209.355,209.358,209.36,209.362, 209.364,209.365,209.367,209.368,209.37, 209.372,209.374,209.375,209.377,209.379 ,209.38,209.382,209.384,209.386,209.388 ,209.39,209.394,209.394,209.386)
ORBIT_NUMBER = 4161
ORBITAL_ECCENTRICITY = 0.571
ORBITAL_INCLINATION = 86.69
ORBITAL_SEMIMAJOR_AXIS = 8617.32
PERIAPSIS_ALTITUDE = 302.02
PERIAPSIS_ARGUMENT_ANGLE = 345.12
PERIAPSIS_TIME = 2007-04-02T19:42:34.000Z
SPACECRAFT_ORIENTATION = (0.0,1.0,0.0)
^MEX_ORIENTATION_DESC = "MEX_ORIENTATION_DESC.TXT"
SPACECRAFT_POINTING_MODE = ACROSSTRACK
^MEX_POINTING_DESC = "MEX_POINTING_DESC.TXT"
RIGHT_ASCENSION = -1e+32
DECLINATION = -1e+32
OFFSET_ANGLE = -0.1
SPACECRAFT_SOLAR_DISTANCE = 2.10728e+08
TARGET_NAME = MARS
/* CAMERA DATA ELEMENTS */
DETECTOR_TEMPERATURE = 18.7783
FOCAL_PLANE_TEMPERATURE = 9.8067
INST_CMPRS_NAME = "DISCRETE COSINE TRANSFORMATION (DCT)"
INST_CMPRS_RATIO = 9.64706
INST_CMPRS_QUALITY = 0
INST_CMPRS_QUANTZ_TBL_ID = 0
INSTRUMENT_TEMPERATURE = 11.8457
LENS_TEMPERATURE = 10.2145
MACROPIXEL_SIZE = 8
MISSING_FRAMES = 0
PIXEL_SUBSAMPLING_FLAG = N
SIGNAL_CHAIN_ID = 2
/* RADIOMETRIC DATA ELEMENTS */
BANDWIDTH = 88.0
CENTER_FILTER_WAVELENGTH = 538.0
RADIANCE_OFFSET = 1.15405
RADIANCE_SCALING_FACTOR = 0.00586018
REFLECTANCE_SCALING_FACTOR = 0.000224051
MEX:REFLECTANCE_OFFSET = 0.0441224
/* IMAGE OBJECT DEFINITIONS */
OBJECT = IMAGE
  INTERCHANGE_FORMAT = BINARY
  LINES = 8283
  LINE_SAMPLES = 705
  SAMPLE_TYPE = UNSIGNED_INTEGER
  SAMPLE_BITS = 8
  BANDS = 1
  BAND_STORAGE_TYPE = BAND_SEQUENTIAL
  MAXIMUM = 255
  MEAN = 119.936
  MINIMUM = 1
  STANDARD_DEVIATION = 20.3037
END_OBJECT = IMAGE
/* MAP OBJECT DEFINITIONS */
OBJECT = IMAGE_MAP_PROJECTION
  ^DATA_SET_MAP_PROJECTION_CATALOG= "DSMAP.CAT"
  A_AXIS_RADIUS = 3396.0
  B_AXIS_RADIUS = 3396.0
  C_AXIS_RADIUS = 3396.0
  CENTER_LATITUDE = 0.0
  CENTER_LONGITUDE = 209.0
  COORDINATE_SYSTEM_NAME = PLANETOGRAPHIC
  COORDINATE_SYSTEM_TYPE = "BODY-FIXED ROTATING"
  EASTERNMOST_LONGITUDE = 209.394
  FIRST_STANDARD_PARALLEL = "N/A"
  LINE_FIRST_PIXEL = 1
  LINE_LAST_PIXEL = 8283
  LINE_PROJECTION_OFFSET = -8251.5625
  MAP_PROJECTION_ROTATION = 0.0
  MAP_PROJECTION_TYPE = SINUSOIDAL
  MAP_RESOLUTION = 592.713803866667
  MAP_SCALE = 0.1
  MAXIMUM_LATITUDE = -13.9283
  MINIMUM_LATITUDE = -27.8862
  POSITIVE_LONGITUDE_DIRECTION = EAST
  REFERENCE_LATITUDE = "N/A"
  REFERENCE_LONGITUDE = "N/A"
  SAMPLE_FIRST_PIXEL = 1
  SAMPLE_LAST_PIXEL = 705
  SAMPLE_PROJECTION_OFFSET = 494.3125
  SECOND_STANDARD_PARALLEL = "N/A"
  WESTERNMOST_LONGITUDE = 208.075
END_OBJECT = IMAGE_MAP_PROJECTION
END
