PDS_VERSION_ID = PDS3
/* FILE DATA ELEMENTS */
RECORD_TYPE = UNDEFINED
/* POINTERS TO DATA OBJECTS */
^IMAGE = ("H4160_0000_S14.TIF")
/* IDENTIFICATION DATA ELEMENTS */
DATA_SET_ID = "MEX-M-HRSC-4-REFDR-MAPPROJECT-EXT1-V4.0"
DATA_SET_NAME = "MARS EXPRESS HRSC MAP PROJECTED REFDR EXTENSION1 V4.0"
DETECTOR_ID = MEX_HRSC_S1
EVENT_TYPE = "MARS-LOCAL-STEREO-Fl-Lc-La"
INSTRUMENT_HOST_ID = MEX
INSTRUMENT_HOST_NAME = "MARS EXPRESS"
INSTRUMENT_ID = HRSC
INSTRUMENT_NAME = "HIGH RESOLUTION STEREO CAMERA"
MISSION_NAME = "MARS EXPRESS"
MISSION_PHASE_NAME = ME_Phase_7
PROCESSING_LEVEL_ID = 4
PRODUCT_CREATION_TIME = 2023-02-09T23:17:53.000Z
PRODUCT_ID = "H4160_0000_S14.TIF"
RELEASE_ID = 0005
REVISION_ID = 0000
/* QUALITY DATA ELEMENTS */
DATA_QUALITY_ID = 1
DATA_QUALITY_DESC = "Data calculated based on original SPICE kernels"
/* TIME DATA ELEMENTS */
SPACECRAFT_CLOCK_START_COUNT = "1/0123598685.07289"
SPACECRAFT_CLOCK_STOP_COUNT = "1/0123598935.63554"
START_TIME = 2007-04-02T12:59:03.667Z
STOP_TIME = 2007-04-02T13:02:18.164Z
/* ORBITAL DATA ELEMENTS */
ASCENDING_NODE_LONGITUDE = 141.15
MAXIMUM_RESOLUTION = 0.0255
FOOTPRINT_POINT_LATITUDE = (-18.1181,-18.1026,-18.0897,-18.077, -18.0766,-18.078,-17.8271,-17.5765, -17.3243,-17.0735,-16.7008,-16.4474, -15.9624,-15.495,-15.1114,-14.6244, -14.2289,-13.9611,-13.7127,-13.4651, -13.2184,-12.8473,-12.6,-12.2166, -11.9604,-11.7042,-11.4488,-11.1936, -10.9375,-10.6836,-10.4294,-10.174, -9.91987,-9.66742,-9.41524,-9.16302, -8.91156,-8.65964,-8.40741,-8.15533, -7.76494,-7.50458,-7.24463,-6.98458, -6.72484,-6.46531,-6.20664,-5.81928, -5.56152,-5.4306,-5.42167,-5.43284, -5.44781,-5.45907,-5.45946,-5.46001, -5.72118,-5.9781,-6.23751,-6.49634, -6.75657,-7.0173,-7.42511,-7.69725, -7.95995,-8.21941,-8.47273,-8.72603, -9.19468,-9.44956,-9.70349,-9.95365, -10.3362,-10.7178,-10.9722,-11.3551, -11.6106,-11.8655,-12.1216,-12.3775, -12.6333,-12.8803,-13.1319,-13.5214, -13.9072,-14.1583,-14.4078,-14.9027, -15.1553,-15.4031,-15.8665,-16.1148, -16.4852,-16.8594,-17.109,-17.3588, -17.6093,-17.9864,-18.1119,-18.1181)
FOOTPRINT_POINT_LONGITUDE = (308.077,307.656,307.307,306.964, 306.953,306.95,306.951,306.951,306.952, 306.952,306.953,306.954,306.954,306.955 ,306.955,306.954,306.953,306.953, 306.952,306.952,306.951,306.95,306.949, 306.947,306.946,306.945,306.944,306.942 ,306.941,306.94,306.938,306.936,306.935 ,306.933,306.931,306.929,306.927, 306.925,306.923,306.921,306.917,306.915 ,306.912,306.91,306.907,306.904,306.902 ,306.897,306.894,306.893,306.893, 307.245,307.726,308.034,308.045,308.05, 308.049,308.048,308.048,308.048,308.048 ,308.049,308.06,308.067,308.068,308.067 ,308.068,308.069,308.046,308.047, 308.048,308.046,308.047,308.048,308.048 ,308.049,308.05,308.05,308.051,308.052, 308.053,308.054,308.057,308.07,308.081, 308.084,308.085,308.086,308.09,308.09, 308.069,308.07,308.069,308.071,308.072, 308.073,308.074,308.078,308.078, 308.077)
ORBIT_NUMBER = 4160
ORBITAL_ECCENTRICITY = 0.571
ORBITAL_INCLINATION = 86.68
ORBITAL_SEMIMAJOR_AXIS = 8616.98
PERIAPSIS_ALTITUDE = 302.27
PERIAPSIS_ARGUMENT_ANGLE = 345.33
PERIAPSIS_TIME = 2007-04-02T12:59:30.000Z
SPACECRAFT_ORIENTATION = (0.0,1.0,0.0)
^MEX_ORIENTATION_DESC = "MEX_ORIENTATION_DESC.TXT"
SPACECRAFT_POINTING_MODE = ACROSSTRACK
^MEX_POINTING_DESC = "MEX_POINTING_DESC.TXT"
RIGHT_ASCENSION = -1e+32
DECLINATION = -1e+32
OFFSET_ANGLE = -0.55
SPACECRAFT_SOLAR_DISTANCE = 2.10763e+08
TARGET_NAME = MARS
/* CAMERA DATA ELEMENTS */
DETECTOR_TEMPERATURE = 17.5549
FOCAL_PLANE_TEMPERATURE = 7.3599
INST_CMPRS_NAME = "DISCRETE COSINE TRANSFORMATION (DCT)"
INST_CMPRS_RATIO = 10.1764
INST_CMPRS_QUALITY = 0
INST_CMPRS_QUANTZ_TBL_ID = 0
INSTRUMENT_TEMPERATURE = 11.4379
LENS_TEMPERATURE = 9.6028
MACROPIXEL_SIZE = 2
MISSING_FRAMES = 0
PIXEL_SUBSAMPLING_FLAG = N
SIGNAL_CHAIN_ID = 1
/* RADIOMETRIC DATA ELEMENTS */
BANDWIDTH = 180.0
CENTER_FILTER_WAVELENGTH = 677.0
RADIANCE_OFFSET = 2.80907
RADIANCE_SCALING_FACTOR = 0.0124937
REFLECTANCE_SCALING_FACTOR = 0.000289548
MEX:REFLECTANCE_OFFSET = 0.0651016
/* IMAGE OBJECT DEFINITIONS */
OBJECT = IMAGE
  INTERCHANGE_FORMAT = BINARY
  LINES = 29989
  LINE_SAMPLES = 2706
  SAMPLE_TYPE = UNSIGNED_INTEGER
  SAMPLE_BITS = 8
  BANDS = 1
  BAND_STORAGE_TYPE = BAND_SEQUENTIAL
  MAXIMUM = 255
  MEAN = 98.0106
  MINIMUM = 1
  STANDARD_DEVIATION = 25.6175
END_OBJECT = IMAGE
/* MAP OBJECT DEFINITIONS */
OBJECT = IMAGE_MAP_PROJECTION
  ^DATA_SET_MAP_PROJECTION_CATALOG= "DSMAP.CAT"
  A_AXIS_RADIUS = 3396.0
  B_AXIS_RADIUS = 3396.0
  C_AXIS_RADIUS = 3396.0
  CENTER_LATITUDE = 0.0
  CENTER_LONGITUDE = 307.0
  COORDINATE_SYSTEM_NAME = PLANETOGRAPHIC
  COORDINATE_SYSTEM_TYPE = "BODY-FIXED ROTATING"
  EASTERNMOST_LONGITUDE = 308.09
  FIRST_STANDARD_PARALLEL = "N/A"
  LINE_FIRST_PIXEL = 1
  LINE_LAST_PIXEL = 29989
  LINE_PROJECTION_OFFSET = -12917.25
  MAP_PROJECTION_ROTATION = 0.0
  MAP_PROJECTION_TYPE = SINUSOIDAL
  MAP_RESOLUTION = 2370.85521546667
  MAP_SCALE = 0.025
  MAXIMUM_LATITUDE = -5.42167
  MINIMUM_LATITUDE = -18.1181
  POSITIVE_LONGITUDE_DIRECTION = EAST
  REFERENCE_LATITUDE = "N/A"
  REFERENCE_LONGITUDE = "N/A"
  SAMPLE_FIRST_PIXEL = 1
  SAMPLE_LAST_PIXEL = 2706
  SAMPLE_PROJECTION_OFFSET = 230.75
  SECOND_STANDARD_PARALLEL = "N/A"
  WESTERNMOST_LONGITUDE = 306.893
END_OBJECT = IMAGE_MAP_PROJECTION
END
