PDS_VERSION_ID = PDS3
/* FILE DATA ELEMENTS */
RECORD_TYPE = UNDEFINED
/* POINTERS TO DATA OBJECTS */
^IMAGE = ("H4160_0000_RE4.TIF")
/* IDENTIFICATION DATA ELEMENTS */
DATA_SET_ID = "MEX-M-HRSC-4-REFDR-MAPPROJECT-EXT1-V4.0"
DATA_SET_NAME = "MARS EXPRESS HRSC MAP PROJECTED REFDR EXTENSION1 V4.0"
DETECTOR_ID = MEX_HRSC_RED
EVENT_TYPE = "MARS-LOCAL-STEREO-Fl-Lc-La"
INSTRUMENT_HOST_ID = MEX
INSTRUMENT_HOST_NAME = "MARS EXPRESS"
INSTRUMENT_ID = HRSC
INSTRUMENT_NAME = "HIGH RESOLUTION STEREO CAMERA"
MISSION_NAME = "MARS EXPRESS"
MISSION_PHASE_NAME = ME_Phase_7
PROCESSING_LEVEL_ID = 4
PRODUCT_CREATION_TIME = 2023-02-09T23:17:53.000Z
PRODUCT_ID = "H4160_0000_RE4.TIF"
RELEASE_ID = 0005
REVISION_ID = 0000
/* QUALITY DATA ELEMENTS */
DATA_QUALITY_ID = 1
DATA_QUALITY_DESC = "Data calculated based on original SPICE kernels"
/* TIME DATA ELEMENTS */
SPACECRAFT_CLOCK_START_COUNT = "1/0123598685.07289"
SPACECRAFT_CLOCK_STOP_COUNT = "1/0123598935.63554"
START_TIME = 2007-04-02T12:58:14.185Z
STOP_TIME = 2007-04-02T13:01:25.785Z
/* ORBITAL DATA ELEMENTS */
ASCENDING_NODE_LONGITUDE = 141.15
MAXIMUM_RESOLUTION = 0.0503
FOOTPRINT_POINT_LATITUDE = (-18.085,-18.1014,-18.1122,-18.1218, -18.122,-18.1195,-17.8663,-17.613, -17.2333,-16.9797,-16.7235,-16.472, -16.2098,-15.953,-15.6896,-15.4348, -15.1909,-14.8312,-14.3303,-13.8665, -13.6191,-13.3708,-12.9989,-12.7514, -12.5037,-12.2563,-12.0085,-11.7608, -11.5125,-11.2641,-11.0166,-10.7673, -10.5184,-10.2706,-10.0219,-9.77182, -9.39705,-9.13916,-8.87929,-8.62029, -8.36177,-8.10284,-7.84362,-7.58497, -7.32588,-7.06731,-6.8086,-6.54994, -6.29079,-5.90207,-5.64274,-5.51259, -5.47281,-5.44883,-5.43146,-5.43088, -5.43153,-5.69066,-5.95094,-6.20946, -6.46844,-6.85583,-7.114,-7.48406, -7.73551,-8.12328,-8.38174,-8.63933, -8.92043,-9.31732,-9.56451,-9.8146, -10.066,-10.4381,-10.6869,-10.9359, -11.3085,-11.6812,-11.93,-12.1779, -12.5494,-12.9214,-13.2913,-13.6474, -14.1257,-14.3721,-14.7399,-14.9911, -15.235,-15.4814,-15.738,-16.1335, -16.3915,-16.6469,-16.9017,-17.2837, -17.6646,-17.9175,-18.0442,-18.085)
FOOTPRINT_POINT_LONGITUDE = (308.083,307.629,307.289,306.954, 306.943,306.941,306.942,306.943,306.945 ,306.947,306.948,306.949,306.95,306.951 ,306.952,306.952,306.953,306.953, 306.954,306.954,306.954,306.954,306.953 ,306.953,306.953,306.952,306.952, 306.951,306.951,306.95,306.949,306.949, 306.948,306.947,306.946,306.945,306.943 ,306.941,306.94,306.939,306.937,306.935 ,306.934,306.932,306.93,306.928,306.926 ,306.924,306.922,306.919,306.916, 306.915,306.915,307.59,308.01,308.021, 308.024,308.025,308.024,308.025,308.025 ,308.027,308.028,308.042,308.048, 308.049,308.05,308.052,308.036,308.031, 308.033,308.033,308.033,308.035,308.036 ,308.037,308.039,308.041,308.042, 308.043,308.046,308.048,308.051,308.064 ,308.08,308.082,308.086,308.085,308.088 ,308.09,308.084,308.071,308.071,308.072 ,308.074,308.077,308.08,308.083,308.084 ,308.083)
ORBIT_NUMBER = 4160
ORBITAL_ECCENTRICITY = 0.571
ORBITAL_INCLINATION = 86.68
ORBITAL_SEMIMAJOR_AXIS = 8616.98
PERIAPSIS_ALTITUDE = 302.27
PERIAPSIS_ARGUMENT_ANGLE = 345.33
PERIAPSIS_TIME = 2007-04-02T12:59:30.000Z
SPACECRAFT_ORIENTATION = (0.0,1.0,0.0)
^MEX_ORIENTATION_DESC = "MEX_ORIENTATION_DESC.TXT"
SPACECRAFT_POINTING_MODE = ACROSSTRACK
^MEX_POINTING_DESC = "MEX_POINTING_DESC.TXT"
RIGHT_ASCENSION = -1e+32
DECLINATION = -1e+32
OFFSET_ANGLE = -0.55
SPACECRAFT_SOLAR_DISTANCE = 2.10763e+08
TARGET_NAME = MARS
/* CAMERA DATA ELEMENTS */
DETECTOR_TEMPERATURE = 18.9822
FOCAL_PLANE_TEMPERATURE = 7.3599
INST_CMPRS_NAME = "DISCRETE COSINE TRANSFORMATION (DCT)"
INST_CMPRS_RATIO = 15.6761
INST_CMPRS_QUALITY = 0
INST_CMPRS_QUANTZ_TBL_ID = 0
INSTRUMENT_TEMPERATURE = 11.4379
LENS_TEMPERATURE = 9.6028
MACROPIXEL_SIZE = 4
MISSING_FRAMES = 0
PIXEL_SUBSAMPLING_FLAG = N
SIGNAL_CHAIN_ID = 2
/* RADIOMETRIC DATA ELEMENTS */
BANDWIDTH = 48.0
CENTER_FILTER_WAVELENGTH = 748.0
RADIANCE_OFFSET = 0.633084
RADIANCE_SCALING_FACTOR = 0.00355851
REFLECTANCE_SCALING_FACTOR = 0.000360731
MEX:REFLECTANCE_OFFSET = 0.0641766
/* IMAGE OBJECT DEFINITIONS */
OBJECT = IMAGE
  INTERCHANGE_FORMAT = BINARY
  LINES = 14995
  LINE_SAMPLES = 1353
  SAMPLE_TYPE = UNSIGNED_INTEGER
  SAMPLE_BITS = 8
  BANDS = 1
  BAND_STORAGE_TYPE = BAND_SEQUENTIAL
  MAXIMUM = 255
  MEAN = 93.7794
  MINIMUM = 1
  STANDARD_DEVIATION = 23.9692
END_OBJECT = IMAGE
/* MAP OBJECT DEFINITIONS */
OBJECT = IMAGE_MAP_PROJECTION
  ^DATA_SET_MAP_PROJECTION_CATALOG= "DSMAP.CAT"
  A_AXIS_RADIUS = 3396.0
  B_AXIS_RADIUS = 3396.0
  C_AXIS_RADIUS = 3396.0
  CENTER_LATITUDE = 0.0
  CENTER_LONGITUDE = 307.0
  COORDINATE_SYSTEM_NAME = PLANETOGRAPHIC
  COORDINATE_SYSTEM_TYPE = "BODY-FIXED ROTATING"
  EASTERNMOST_LONGITUDE = 308.09
  FIRST_STANDARD_PARALLEL = "N/A"
  LINE_FIRST_PIXEL = 1
  LINE_LAST_PIXEL = 14995
  LINE_PROJECTION_OFFSET = -6458.875
  MAP_PROJECTION_ROTATION = 0.0
  MAP_PROJECTION_TYPE = SINUSOIDAL
  MAP_RESOLUTION = 1185.42760773333
  MAP_SCALE = 0.05
  MAXIMUM_LATITUDE = -5.43088
  MINIMUM_LATITUDE = -18.122
  POSITIVE_LONGITUDE_DIRECTION = EAST
  REFERENCE_LATITUDE = "N/A"
  REFERENCE_LONGITUDE = "N/A"
  SAMPLE_FIRST_PIXEL = 1
  SAMPLE_LAST_PIXEL = 1353
  SAMPLE_PROJECTION_OFFSET = 115.125
  SECOND_STANDARD_PARALLEL = "N/A"
  WESTERNMOST_LONGITUDE = 306.915
END_OBJECT = IMAGE_MAP_PROJECTION
END
