PDS_VERSION_ID = PDS3
/* FILE DATA ELEMENTS */
RECORD_TYPE = UNDEFINED
/* POINTERS TO DATA OBJECTS */
^IMAGE = ("H4154_0000_P24.TIF")
/* IDENTIFICATION DATA ELEMENTS */
DATA_SET_ID = "MEX-M-HRSC-4-REFDR-MAPPROJECT-EXT1-V4.0"
DATA_SET_NAME = "MARS EXPRESS HRSC MAP PROJECTED REFDR EXTENSION1 V4.0"
DETECTOR_ID = MEX_HRSC_P2
EVENT_TYPE = "MARS-REGIONAL-MAPPING-Fl-Lc-La"
INSTRUMENT_HOST_ID = MEX
INSTRUMENT_HOST_NAME = "MARS EXPRESS"
INSTRUMENT_ID = HRSC
INSTRUMENT_NAME = "HIGH RESOLUTION STEREO CAMERA"
MISSION_NAME = "MARS EXPRESS"
MISSION_PHASE_NAME = ME_Phase_7
PROCESSING_LEVEL_ID = 4
PRODUCT_CREATION_TIME = 2023-02-09T23:17:53.000Z
PRODUCT_ID = "H4154_0000_P24.TIF"
RELEASE_ID = 0005
REVISION_ID = 0000
/* QUALITY DATA ELEMENTS */
DATA_QUALITY_ID = 1
DATA_QUALITY_DESC = "Data calculated based on original SPICE kernels"
/* TIME DATA ELEMENTS */
SPACECRAFT_CLOCK_START_COUNT = "1/0123453299.08361"
SPACECRAFT_CLOCK_STOP_COUNT = "1/0123453580.08419"
START_TIME = 2007-03-31T20:35:16.700Z
STOP_TIME = 2007-03-31T20:38:56.970Z
/* ORBITAL DATA ELEMENTS */
ASCENDING_NODE_LONGITUDE = 141.27
MAXIMUM_RESOLUTION = 0.0258
FOOTPRINT_POINT_LATITUDE = (-33.0419,-33.0385,-33.029,-33.0197, -33.0193,-32.9978,-32.5307,-32.218, -31.9049,-31.5913,-31.2772,-30.9622, -30.6467,-30.3304,-30.0139,-29.6968, -29.2302,-28.8299,-28.4282,-28.0252, -27.7565,-27.4866,-27.2161,-26.8099, -26.4021,-26.1311,-25.8592,-25.4505, -25.0413,-24.7684,-24.4978,-24.2339, -23.9678,-23.5703,-23.3046,-23.0382, -22.7696,-22.5092,-22.2516,-21.9929, -21.7341,-21.4751,-21.2143,-20.956, -20.6964,-20.4361,-20.1779,-19.9193, -19.2874,-19.1635,-19.1612,-19.164, -19.1576,-19.1576,-19.1579,-19.541, -19.9214,-20.1778,-20.5698,-20.8307, -21.0906,-21.3503,-21.7391,-21.9984, -22.5092,-22.9104,-23.1789,-23.4449, -23.7092,-23.9746,-24.2403,-24.6383, -24.9116,-25.1866,-25.4598,-25.7326, -26.0048,-26.274,-26.5465,-26.9535, -27.3622,-27.632,-27.9024,-28.308, -28.5731,-28.8398,-29.1075,-29.3929, -29.7075,-30.0289,-30.3457,-30.662, -31.1363,-31.4514,-31.7658,-32.0798, -32.5509,-32.8634,-33.0189,-33.0419)
FOOTPRINT_POINT_LONGITUDE = (177.202,176.724,176.039,175.577, 175.561,175.546,175.567,175.581,175.595 ,175.608,175.622,175.635,175.647, 175.659,175.672,175.683,175.701,175.716 ,175.729,175.742,175.75,175.758,175.766 ,175.778,175.788,175.796,175.803, 175.813,175.823,175.83,175.836,175.842, 175.848,175.857,175.862,175.868,175.872 ,175.878,175.884,175.888,175.893, 175.897,175.901,175.906,175.91,175.913, 175.918,175.921,175.928,175.931,175.931 ,176.616,177.081,177.092,177.096, 177.096,177.098,177.099,177.102,177.103 ,177.105,177.107,177.11,177.111,177.118 ,177.119,177.121,177.123,177.126, 177.128,177.13,177.133,177.136,177.137, 177.139,177.142,177.144,177.148,177.15, 177.153,177.155,177.158,177.16,177.162, 177.167,177.17,177.173,177.175,177.18, 177.182,177.185,177.189,177.193,177.197 ,177.2,177.204,177.208,177.211,177.213, 177.202)
ORBIT_NUMBER = 4154
ORBITAL_ECCENTRICITY = 0.571
ORBITAL_INCLINATION = 86.68
ORBITAL_SEMIMAJOR_AXIS = 8615.22
PERIAPSIS_ALTITUDE = 302.91
PERIAPSIS_ARGUMENT_ANGLE = 346.37
PERIAPSIS_TIME = 2007-03-31T20:40:40.000Z
SPACECRAFT_ORIENTATION = (0.0,1.0,0.0)
^MEX_ORIENTATION_DESC = "MEX_ORIENTATION_DESC.TXT"
SPACECRAFT_POINTING_MODE = NADIR
^MEX_POINTING_DESC = "MEX_POINTING_DESC.TXT"
RIGHT_ASCENSION = -1e+32
DECLINATION = -1e+32
OFFSET_ANGLE = -1e+32
SPACECRAFT_SOLAR_DISTANCE = 2.10974e+08
TARGET_NAME = MARS
/* CAMERA DATA ELEMENTS */
DETECTOR_TEMPERATURE = 18.7783
FOCAL_PLANE_TEMPERATURE = 9.195
INST_CMPRS_NAME = "DISCRETE COSINE TRANSFORMATION (DCT)"
INST_CMPRS_RATIO = 5.7765
INST_CMPRS_QUALITY = 0
INST_CMPRS_QUANTZ_TBL_ID = 0
INSTRUMENT_TEMPERATURE = 10.0106
LENS_TEMPERATURE = 9.8067
MACROPIXEL_SIZE = 2
MISSING_FRAMES = 0
PIXEL_SUBSAMPLING_FLAG = N
SIGNAL_CHAIN_ID = 3
/* RADIOMETRIC DATA ELEMENTS */
BANDWIDTH = 177.0
CENTER_FILTER_WAVELENGTH = 676.5
RADIANCE_OFFSET = 3.01871
RADIANCE_SCALING_FACTOR = 0.0116833
REFLECTANCE_SCALING_FACTOR = 0.000275729
MEX:REFLECTANCE_OFFSET = 0.0712422
/* IMAGE OBJECT DEFINITIONS */
OBJECT = IMAGE
  INTERCHANGE_FORMAT = BINARY
  LINES = 32823
  LINE_SAMPLES = 3277
  SAMPLE_TYPE = UNSIGNED_INTEGER
  SAMPLE_BITS = 8
  BANDS = 1
  BAND_STORAGE_TYPE = BAND_SEQUENTIAL
  MAXIMUM = 255
  MEAN = 132.013
  MINIMUM = 1
  STANDARD_DEVIATION = 40.0997
END_OBJECT = IMAGE
/* MAP OBJECT DEFINITIONS */
OBJECT = IMAGE_MAP_PROJECTION
  ^DATA_SET_MAP_PROJECTION_CATALOG= "DSMAP.CAT"
  A_AXIS_RADIUS = 3396.0
  B_AXIS_RADIUS = 3396.0
  C_AXIS_RADIUS = 3396.0
  CENTER_LATITUDE = 0.0
  CENTER_LONGITUDE = 176.0
  COORDINATE_SYSTEM_NAME = PLANETOGRAPHIC
  COORDINATE_SYSTEM_TYPE = "BODY-FIXED ROTATING"
  EASTERNMOST_LONGITUDE = 177.213
  FIRST_STANDARD_PARALLEL = "N/A"
  LINE_FIRST_PIXEL = 1
  LINE_LAST_PIXEL = 32823
  LINE_PROJECTION_OFFSET = -45437.75
  MAP_PROJECTION_ROTATION = 0.0
  MAP_PROJECTION_TYPE = SINUSOIDAL
  MAP_RESOLUTION = 2370.85521546667
  MAP_SCALE = 0.025
  MAXIMUM_LATITUDE = -19.1576
  MINIMUM_LATITUDE = -33.0419
  POSITIVE_LONGITUDE_DIRECTION = EAST
  REFERENCE_LATITUDE = "N/A"
  REFERENCE_LONGITUDE = "N/A"
  SAMPLE_FIRST_PIXEL = 1
  SAMPLE_LAST_PIXEL = 3277
  SAMPLE_PROJECTION_OFFSET = 842.25
  SECOND_STANDARD_PARALLEL = "N/A"
  WESTERNMOST_LONGITUDE = 175.546
END_OBJECT = IMAGE_MAP_PROJECTION
END
