PDS_VERSION_ID = PDS3
/* FILE DATA ELEMENTS */
RECORD_TYPE = UNDEFINED
/* POINTERS TO DATA OBJECTS */
^IMAGE = ("H4146_0000_BL4.TIF")
/* IDENTIFICATION DATA ELEMENTS */
DATA_SET_ID = "MEX-M-HRSC-4-REFDR-MAPPROJECT-EXT1-V4.0"
DATA_SET_NAME = "MARS EXPRESS HRSC MAP PROJECTED REFDR EXTENSION1 V4.0"
DETECTOR_ID = MEX_HRSC_BLUE
EVENT_TYPE = "MARS-REGIONAL-MAPPING-Vo"
INSTRUMENT_HOST_ID = MEX
INSTRUMENT_HOST_NAME = "MARS EXPRESS"
INSTRUMENT_ID = HRSC
INSTRUMENT_NAME = "HIGH RESOLUTION STEREO CAMERA"
MISSION_NAME = "MARS EXPRESS"
MISSION_PHASE_NAME = ME_Phase_7
PROCESSING_LEVEL_ID = 4
PRODUCT_CREATION_TIME = 2023-02-09T23:17:53.000Z
PRODUCT_ID = "H4146_0000_BL4.TIF"
RELEASE_ID = 0005
REVISION_ID = 0000
/* QUALITY DATA ELEMENTS */
DATA_QUALITY_ID = 1
DATA_QUALITY_DESC = "Data calculated based on original SPICE kernels"
/* TIME DATA ELEMENTS */
SPACECRAFT_CLOCK_START_COUNT = "1/0123259620.08236"
SPACECRAFT_CLOCK_STOP_COUNT = "1/0123260021.58316"
START_TIME = 2007-03-29T14:47:48.107Z
STOP_TIME = 2007-03-29T14:53:11.331Z
/* ORBITAL DATA ELEMENTS */
ASCENDING_NODE_LONGITUDE = 141.44
MAXIMUM_RESOLUTION = 0.1007
FOOTPRINT_POINT_LATITUDE = (-40.8481,-40.8373,-40.8217,-40.7934, -40.7927,-40.7828,-40.0505,-39.3302, -38.6218,-38.154,-37.6912,-37.2341, -36.7812,-36.3328,-35.8884,-35.4484, -35.013,-34.5787,-34.1521,-33.5146, -33.0967,-32.678,-32.2582,-31.8376, -31.416,-30.9935,-30.5702,-30.1459, -29.7208,-29.2948,-28.8895,-28.5313, -28.1725,-27.8132,-27.4533,-27.0929, -26.7321,-26.3706,-26.0087,-25.6463, -25.2834,-24.92,-24.5561,-24.194, -23.4876,-22.7798,-22.0742,-21.3869, -20.871,-20.6988,-20.6183,-20.6231, -20.6294,-20.6295,-20.6311,-21.4924, -22.18,-22.712,-23.421,-24.1284, -24.6705,-25.0348,-25.3985,-25.7618, -26.1246,-26.4869,-26.8487,-27.2101, -27.5708,-27.9311,-28.2909,-28.6502, -29.009,-29.4334,-29.86,-30.2857, -30.7106,-31.1346,-31.558,-31.9813, -32.4026,-32.8233,-33.2417,-33.6599, -34.3018,-34.7296,-35.1672,-35.6037, -36.0472,-36.4936,-36.9464,-37.4001, -37.8625,-38.5619,-39.0332,-39.5146, -39.9934,-40.4806,-40.7258,-40.8481)
FOOTPRINT_POINT_LONGITUDE = (243.066,242.473,241.815,240.904, 240.883,240.855,240.917,240.975,241.031 ,241.067,241.095,241.129,241.159, 241.189,241.217,241.245,241.271,241.296 ,241.319,241.354,241.375,241.396, 241.417,241.437,241.456,241.475,241.494 ,241.511,241.529,241.545,241.561, 241.574,241.587,241.599,241.611,241.623 ,241.635,241.646,241.657,241.668, 241.678,241.688,241.698,241.707,241.725 ,241.741,241.757,241.77,241.781,241.784 ,241.785,242.179,242.928,242.938, 242.946,242.95,242.953,242.956,242.96, 242.964,242.967,242.969,242.971,242.973 ,242.975,242.977,242.979,242.981, 242.984,242.986,242.988,242.99,242.992, 242.995,242.998,243.0,243.003,243.006, 243.009,243.01,243.013,243.016,243.02, 243.023,243.027,243.03,243.033,243.036, 243.041,243.043,243.046,243.049,243.052 ,243.057,243.06,243.06,243.067,243.072, 243.074,243.066)
ORBIT_NUMBER = 4146
ORBITAL_ECCENTRICITY = 0.572
ORBITAL_INCLINATION = 86.68
ORBITAL_SEMIMAJOR_AXIS = 8632.69
PERIAPSIS_ALTITUDE = 302.83
PERIAPSIS_ARGUMENT_ANGLE = 347.76
PERIAPSIS_TIME = 2007-03-29T14:55:24.000Z
SPACECRAFT_ORIENTATION = (0.0,1.0,0.0)
^MEX_ORIENTATION_DESC = "MEX_ORIENTATION_DESC.TXT"
SPACECRAFT_POINTING_MODE = ACROSSTRACK
^MEX_POINTING_DESC = "MEX_POINTING_DESC.TXT"
RIGHT_ASCENSION = -1e+32
DECLINATION = -1e+32
OFFSET_ANGLE = 0.3
SPACECRAFT_SOLAR_DISTANCE = 2.11261e+08
TARGET_NAME = MARS
/* CAMERA DATA ELEMENTS */
DETECTOR_TEMPERATURE = 18.5744
FOCAL_PLANE_TEMPERATURE = 8.9911
INST_CMPRS_NAME = "DISCRETE COSINE TRANSFORMATION (DCT)"
INST_CMPRS_RATIO = 13.4718
INST_CMPRS_QUALITY = 0
INST_CMPRS_QUANTZ_TBL_ID = 0
INSTRUMENT_TEMPERATURE = 11.6418
LENS_TEMPERATURE = 9.195
MACROPIXEL_SIZE = 8
MISSING_FRAMES = 0
PIXEL_SUBSAMPLING_FLAG = N
SIGNAL_CHAIN_ID = 2
/* RADIOMETRIC DATA ELEMENTS */
BANDWIDTH = 76.0
CENTER_FILTER_WAVELENGTH = 444.0
RADIANCE_OFFSET = 0.380862
RADIANCE_SCALING_FACTOR = 0.00209101
REFLECTANCE_SCALING_FACTOR = 9.5886e-05
MEX:REFLECTANCE_OFFSET = 0.017465
/* IMAGE OBJECT DEFINITIONS */
OBJECT = IMAGE
  INTERCHANGE_FORMAT = BINARY
  LINES = 11985
  LINE_SAMPLES = 1045
  SAMPLE_TYPE = UNSIGNED_INTEGER
  SAMPLE_BITS = 8
  BANDS = 1
  BAND_STORAGE_TYPE = BAND_SEQUENTIAL
  MAXIMUM = 255
  MEAN = 124.775
  MINIMUM = 1
  STANDARD_DEVIATION = 16.171
END_OBJECT = IMAGE
/* MAP OBJECT DEFINITIONS */
OBJECT = IMAGE_MAP_PROJECTION
  ^DATA_SET_MAP_PROJECTION_CATALOG= "DSMAP.CAT"
  A_AXIS_RADIUS = 3396.0
  B_AXIS_RADIUS = 3396.0
  C_AXIS_RADIUS = 3396.0
  CENTER_LATITUDE = 0.0
  CENTER_LONGITUDE = 242.0
  COORDINATE_SYSTEM_NAME = PLANETOGRAPHIC
  COORDINATE_SYSTEM_TYPE = "BODY-FIXED ROTATING"
  EASTERNMOST_LONGITUDE = 243.074
  FIRST_STANDARD_PARALLEL = "N/A"
  LINE_FIRST_PIXEL = 1
  LINE_LAST_PIXEL = 11985
  LINE_PROJECTION_OFFSET = -12223.4375
  MAP_PROJECTION_ROTATION = 0.0
  MAP_PROJECTION_TYPE = SINUSOIDAL
  MAP_RESOLUTION = 592.713803866667
  MAP_SCALE = 0.1
  MAXIMUM_LATITUDE = -20.6183
  MINIMUM_LATITUDE = -40.8481
  POSITIVE_LONGITUDE_DIRECTION = EAST
  REFERENCE_LATITUDE = "N/A"
  REFERENCE_LONGITUDE = "N/A"
  SAMPLE_FIRST_PIXEL = 1
  SAMPLE_LAST_PIXEL = 1045
  SAMPLE_PROJECTION_OFFSET = 519.9375
  SECOND_STANDARD_PARALLEL = "N/A"
  WESTERNMOST_LONGITUDE = 240.855
END_OBJECT = IMAGE_MAP_PROJECTION
END
