PDS_VERSION_ID = PDS3
/* FILE DATA ELEMENTS */
RECORD_TYPE = UNDEFINED
/* POINTERS TO DATA OBJECTS */
^IMAGE = ("H4144_0000_RE4.TIF")
/* IDENTIFICATION DATA ELEMENTS */
DATA_SET_ID = "MEX-M-HRSC-4-REFDR-MAPPROJECT-EXT1-V4.0"
DATA_SET_NAME = "MARS EXPRESS HRSC MAP PROJECTED REFDR EXTENSION1 V4.0"
DETECTOR_ID = MEX_HRSC_RED
EVENT_TYPE = "MARS-REGIONAL-VARIABLE-Gl-At"
INSTRUMENT_HOST_ID = MEX
INSTRUMENT_HOST_NAME = "MARS EXPRESS"
INSTRUMENT_ID = HRSC
INSTRUMENT_NAME = "HIGH RESOLUTION STEREO CAMERA"
MISSION_NAME = "MARS EXPRESS"
MISSION_PHASE_NAME = ME_Phase_7
PROCESSING_LEVEL_ID = 4
PRODUCT_CREATION_TIME = 2023-02-09T23:17:53.000Z
PRODUCT_ID = "H4144_0000_RE4.TIF"
RELEASE_ID = 0005
REVISION_ID = 0000
/* QUALITY DATA ELEMENTS */
DATA_QUALITY_ID = 1
DATA_QUALITY_DESC = "Data calculated based on original SPICE kernels"
/* TIME DATA ELEMENTS */
SPACECRAFT_CLOCK_START_COUNT = "1/0123209833.07296"
SPACECRAFT_CLOCK_STOP_COUNT = "1/0123210724.37849"
START_TIME = 2007-03-29T00:59:41.533Z
STOP_TIME = 2007-03-29T01:05:56.869Z
/* ORBITAL DATA ELEMENTS */
ASCENDING_NODE_LONGITUDE = 141.48
MAXIMUM_RESOLUTION = 0.2781
FOOTPRINT_POINT_LATITUDE = (-86.728,-86.7731,-86.7688,-86.737, -86.6788,-86.5956,-86.4892,-86.3616, -86.215,-86.0515,-85.873,-85.6816, -85.4788,-85.266,-85.0446,-84.8157, -84.5799,-84.3382,-84.0914,-83.8398, -83.5838,-83.3238,-83.0602,-82.7933, -82.5232,-82.2501,-81.9742,-81.9048, -81.7871,-81.6744,-81.5512,-81.4164, -81.23,-81.0706,-80.8996,-80.7179, -80.4759,-80.2703,-80.0564,-79.8323, -79.536,-79.2898,-79.0318,-78.6969, -78.4199,-78.1317,-77.8339,-77.5288, -77.2145,-76.8916,-76.4787,-76.2237, -75.9647,-75.877,-75.8559,-75.9844, -76.0861,-76.1846,-76.2799,-76.372, -76.4828,-76.6667,-76.7983,-76.9205, -77.0501,-77.1173,-77.2269,-77.3263, -77.3821,-77.4268,-77.4668,-77.4696, -77.4717,-77.8879,-78.2025,-78.5099, -78.9196,-79.3242,-79.7229,-80.1183, -80.5085,-80.8937,-81.2766,-81.6534, -82.0272,-82.3954,-82.7596,-83.115, -83.4719,-83.8202,-84.1647,-84.5042, -84.8383,-85.1675,-85.487,-85.9634, -86.2694,-86.4996,-86.5755,-86.728)
FOOTPRINT_POINT_LONGITUDE = (96.5126,88.7292,83.4944,78.3264, 73.3077,68.5093,63.9811,59.7505,55.8306 ,52.2252,48.926,45.9157,43.174,40.6802, 38.413,36.3483,34.4646,32.7446,31.1725, 29.7319,28.408,27.1894,26.0661,25.0285, 24.0679,23.1771,22.3499,22.1524,22.8191 ,24.7331,26.6123,28.4602,30.7281, 32.4856,34.2027,35.8737,37.896,39.4601, 40.9701,42.4317,44.1954,45.5481,46.8571 ,48.4251,49.6256,50.784,51.899,52.9693, 53.9987,54.9879,56.1685,56.8497,57.5103 ,57.7263,57.7778,58.7595,59.5699, 60.3905,61.2213,62.0625,63.1285,65.0873 ,66.6461,68.2329,70.3275,71.5075, 73.6584,76.087,77.8067,79.5417,82.046, 82.2971,82.3818,82.5499,82.6733,82.8114 ,82.9997,83.2023,83.4227,83.6574, 83.9122,84.1887,84.4835,84.8079,85.1579 ,85.5435,85.9654,86.4419,86.9506, 87.5276,88.1678,88.8854,89.6952,90.6116 ,91.6702,93.5329,95.0386,96.3185, 96.7815,96.5126)
ORBIT_NUMBER = 4144
ORBITAL_ECCENTRICITY = 0.571
ORBITAL_INCLINATION = 86.69
ORBITAL_SEMIMAJOR_AXIS = 8625.33
PERIAPSIS_ALTITUDE = 302.75
PERIAPSIS_ARGUMENT_ANGLE = 348.12
PERIAPSIS_TIME = 2007-03-29T01:29:10.000Z
SPACECRAFT_ORIENTATION = (0.0,1.0,0.0)
^MEX_ORIENTATION_DESC = "MEX_ORIENTATION_DESC.TXT"
SPACECRAFT_POINTING_MODE = ACROSSTRACK
^MEX_POINTING_DESC = "MEX_POINTING_DESC.TXT"
RIGHT_ASCENSION = -1e+32
DECLINATION = -1e+32
OFFSET_ANGLE = 0.3
SPACECRAFT_SOLAR_DISTANCE = 2.11335e+08
TARGET_NAME = MARS
/* CAMERA DATA ELEMENTS */
DETECTOR_TEMPERATURE = 18.9822
FOCAL_PLANE_TEMPERATURE = 8.7872
INST_CMPRS_NAME = "DISCRETE COSINE TRANSFORMATION (DCT)"
INST_CMPRS_RATIO = 8.71773
INST_CMPRS_QUALITY = 0
INST_CMPRS_QUANTZ_TBL_ID = 0
INSTRUMENT_TEMPERATURE = 12.0496
LENS_TEMPERATURE = 8.9911
MACROPIXEL_SIZE = 4
MISSING_FRAMES = 0
PIXEL_SUBSAMPLING_FLAG = N
SIGNAL_CHAIN_ID = 2
/* RADIOMETRIC DATA ELEMENTS */
BANDWIDTH = 48.0
CENTER_FILTER_WAVELENGTH = 748.0
RADIANCE_OFFSET = 0.663454
RADIANCE_SCALING_FACTOR = 0.00500342
REFLECTANCE_SCALING_FACTOR = 0.000509973
MEX:REFLECTANCE_OFFSET = 0.0676224
/* IMAGE OBJECT DEFINITIONS */
OBJECT = IMAGE
  INTERCHANGE_FORMAT = BINARY
  LINES = 3040
  LINE_SAMPLES = 2606
  SAMPLE_TYPE = UNSIGNED_INTEGER
  SAMPLE_BITS = 8
  BANDS = 1
  BAND_STORAGE_TYPE = BAND_SEQUENTIAL
  MAXIMUM = 255
  MEAN = 146.873
  MINIMUM = 1
  STANDARD_DEVIATION = 74.1152
END_OBJECT = IMAGE
/* MAP OBJECT DEFINITIONS */
OBJECT = IMAGE_MAP_PROJECTION
  ^DATA_SET_MAP_PROJECTION_CATALOG= "DSMAP.CAT"
  A_AXIS_RADIUS = 3396.0
  B_AXIS_RADIUS = 3396.0
  C_AXIS_RADIUS = 3396.0
  CENTER_LATITUDE = 0.0
  CENTER_LONGITUDE = 61.0
  COORDINATE_SYSTEM_NAME = PLANETOGRAPHIC
  COORDINATE_SYSTEM_TYPE = "BODY-FIXED ROTATING"
  EASTERNMOST_LONGITUDE = 96.78149999999999
  FIRST_STANDARD_PARALLEL = "N/A"
  LINE_FIRST_PIXEL = 1
  LINE_LAST_PIXEL = 3040
  LINE_PROJECTION_OFFSET = -22567.125
  MAP_PROJECTION_ROTATION = 0.0
  MAP_PROJECTION_TYPE = SINUSOIDAL
  MAP_RESOLUTION = 296.356901933333
  MAP_SCALE = 0.2
  MAXIMUM_LATITUDE = -75.85590000000001
  MINIMUM_LATITUDE = -86.7731
  POSITIVE_LONGITUDE_DIRECTION = EAST
  REFERENCE_LATITUDE = "N/A"
  REFERENCE_LONGITUDE = "N/A"
  SAMPLE_FIRST_PIXEL = 1
  SAMPLE_LAST_PIXEL = 2606
  SAMPLE_PROJECTION_OFFSET = 1427.125
  SECOND_STANDARD_PARALLEL = "N/A"
  WESTERNMOST_LONGITUDE = 22.1524
END_OBJECT = IMAGE_MAP_PROJECTION
END
