PDS_VERSION_ID = PDS3
/* FILE DATA ELEMENTS */
RECORD_TYPE = UNDEFINED
/* POINTERS TO DATA OBJECTS */
^IMAGE = ("H4136_0000_BL4.TIF")
/* IDENTIFICATION DATA ELEMENTS */
DATA_SET_ID = "MEX-M-HRSC-4-REFDR-MAPPROJECT-EXT1-V4.0"
DATA_SET_NAME = "MARS EXPRESS HRSC MAP PROJECTED REFDR EXTENSION1 V4.0"
DETECTOR_ID = MEX_HRSC_BLUE
EVENT_TYPE = "MARS-REGIONAL-MAPPING-Te-Fl-Mw"
INSTRUMENT_HOST_ID = MEX
INSTRUMENT_HOST_NAME = "MARS EXPRESS"
INSTRUMENT_ID = HRSC
INSTRUMENT_NAME = "HIGH RESOLUTION STEREO CAMERA"
MISSION_NAME = "MARS EXPRESS"
MISSION_PHASE_NAME = ME_Phase_7
PROCESSING_LEVEL_ID = 4
PRODUCT_CREATION_TIME = 2023-02-09T23:17:53.000Z
PRODUCT_ID = "H4136_0000_BL4.TIF"
RELEASE_ID = 0005
REVISION_ID = 0000
/* QUALITY DATA ELEMENTS */
DATA_QUALITY_ID = 1
DATA_QUALITY_DESC = "Data calculated based on original SPICE kernels"
/* TIME DATA ELEMENTS */
SPACECRAFT_CLOCK_START_COUNT = "1/0123018229.07291"
SPACECRAFT_CLOCK_STOP_COUNT = "1/0123018467.39800"
START_TIME = 2007-03-26T19:44:15.526Z
STOP_TIME = 2007-03-26T19:47:13.183Z
/* ORBITAL DATA ELEMENTS */
ASCENDING_NODE_LONGITUDE = 141.65
MAXIMUM_RESOLUTION = 0.0982
FOOTPRINT_POINT_LATITUDE = (-9.00212,-9.00316,-9.00381,-9.00396, -9.00396,-8.99971,-8.78085,-8.45292, -8.01593,-7.57833,-7.25011,-6.81253, -6.59363,-6.36838,-6.14201,-5.91449, -5.57414,-5.23554,-5.00937,-4.78242, -4.55574,-4.21438,-3.98735,-3.76156, -3.53471,-3.30896,-3.08273,-2.85606, -2.51695,-2.29081,-1.95161,-1.71747, -1.48346,-1.24973,-1.0162,-0.782445, -0.432137,-0.198847,0.151105,0.423416, 0.656719,1.01483,1.25589,1.49679, 1.73746,1.97808,2.21848,2.45862,2.57866 ,2.66869,2.67014,2.67158,2.67275, 2.67378,2.67382,2.67218,2.43199,2.19168 ,1.95128,1.71074,1.47011,1.22929, 0.988195,0.747609,0.397589,0.125441, -0.224849,-0.45836,-0.691914,-0.925771, -1.15958,-1.39369,-1.62747,-1.97756, -2.20365,-2.4302,-2.65601,-2.99471, -3.33436,-3.67419,-4.01435,-4.35366, -4.69405,-5.03367,-5.26027,-5.60269, -5.94276,-6.28192,-6.50928,-6.72979, -6.94869,-7.16746,-7.38633,-7.60511, -7.82398,-8.15219,-8.58918,-8.80801, -8.91753,-9.00212)
FOOTPRINT_POINT_LONGITUDE = (145.893,145.534,145.125,144.846, 144.836,144.827,144.826,144.826,144.826 ,144.824,144.823,144.821,144.82,144.82, 144.819,144.817,144.815,144.815,144.815 ,144.813,144.811,144.807,144.804, 144.804,144.801,144.801,144.799,144.796 ,144.794,144.792,144.788,144.786, 144.783,144.781,144.779,144.777,144.773 ,144.771,144.767,144.763,144.76,144.756 ,144.753,144.749,144.746,144.743, 144.739,144.736,144.735,144.733,145.063 ,145.383,145.648,145.891,145.902, 145.909,145.908,145.907,145.906,145.905 ,145.904,145.903,145.901,145.9,145.899, 145.898,145.897,145.896,145.895,145.895 ,145.894,145.893,145.893,145.892, 145.892,145.891,145.892,145.892,145.892 ,145.891,145.891,145.892,145.891, 145.892,145.892,145.889,145.889,145.892 ,145.891,145.891,145.892,145.892, 145.892,145.893,145.893,145.894,145.896 ,145.897,145.897,145.893)
ORBIT_NUMBER = 4136
ORBITAL_ECCENTRICITY = 0.571
ORBITAL_INCLINATION = 86.67
ORBITAL_SEMIMAJOR_AXIS = 8621.27
PERIAPSIS_ALTITUDE = 304.46
PERIAPSIS_ARGUMENT_ANGLE = 349.58
PERIAPSIS_TIME = 2007-03-26T19:43:59.000Z
SPACECRAFT_ORIENTATION = (0.0,1.0,0.0)
^MEX_ORIENTATION_DESC = "MEX_ORIENTATION_DESC.TXT"
SPACECRAFT_POINTING_MODE = ACROSSTRACK
^MEX_POINTING_DESC = "MEX_POINTING_DESC.TXT"
RIGHT_ASCENSION = -1e+32
DECLINATION = -1e+32
OFFSET_ANGLE = 0.0
SPACECRAFT_SOLAR_DISTANCE = 2.11632e+08
TARGET_NAME = MARS
/* CAMERA DATA ELEMENTS */
DETECTOR_TEMPERATURE = 18.3705
FOCAL_PLANE_TEMPERATURE = 9.3989
INST_CMPRS_NAME = "DISCRETE COSINE TRANSFORMATION (DCT)"
INST_CMPRS_RATIO = 8.36059
INST_CMPRS_QUALITY = 0
INST_CMPRS_QUANTZ_TBL_ID = 0
INSTRUMENT_TEMPERATURE = 11.4379
LENS_TEMPERATURE = 9.8067
MACROPIXEL_SIZE = 8
PIXEL_SUBSAMPLING_FLAG = N
SIGNAL_CHAIN_ID = 2
/* RADIOMETRIC DATA ELEMENTS */
BANDWIDTH = 76.0
CENTER_FILTER_WAVELENGTH = 444.0
RADIANCE_OFFSET = 0.505945
RADIANCE_SCALING_FACTOR = 0.00114467
REFLECTANCE_SCALING_FACTOR = 5.26746e-05
MEX:REFLECTANCE_OFFSET = 0.0232822
/* IMAGE OBJECT DEFINITIONS */
OBJECT = IMAGE
  INTERCHANGE_FORMAT = BINARY
  LINES = 6910
  LINE_SAMPLES = 709
  SAMPLE_TYPE = UNSIGNED_INTEGER
  SAMPLE_BITS = 8
  BANDS = 1
  BAND_STORAGE_TYPE = BAND_SEQUENTIAL
  MAXIMUM = 255
  MEAN = 145.261
  MINIMUM = 1
  STANDARD_DEVIATION = 32.539
END_OBJECT = IMAGE
/* MAP OBJECT DEFINITIONS */
OBJECT = IMAGE_MAP_PROJECTION
  ^DATA_SET_MAP_PROJECTION_CATALOG= "DSMAP.CAT"
  A_AXIS_RADIUS = 3396.0
  B_AXIS_RADIUS = 3396.0
  C_AXIS_RADIUS = 3396.0
  CENTER_LATITUDE = 0.0
  CENTER_LONGITUDE = 145.0
  COORDINATE_SYSTEM_NAME = PLANETOGRAPHIC
  COORDINATE_SYSTEM_TYPE = "BODY-FIXED ROTATING"
  EASTERNMOST_LONGITUDE = 145.909
  FIRST_STANDARD_PARALLEL = "N/A"
  LINE_FIRST_PIXEL = 1
  LINE_LAST_PIXEL = 6910
  LINE_PROJECTION_OFFSET = 1577.1875
  MAP_PROJECTION_ROTATION = 0.0
  MAP_PROJECTION_TYPE = SINUSOIDAL
  MAP_RESOLUTION = 592.713803866667
  MAP_SCALE = 0.1
  MAXIMUM_LATITUDE = 2.67382
  MINIMUM_LATITUDE = -9.003959999999999
  POSITIVE_LONGITUDE_DIRECTION = EAST
  REFERENCE_LATITUDE = "N/A"
  REFERENCE_LONGITUDE = "N/A"
  SAMPLE_FIRST_PIXEL = 1
  SAMPLE_LAST_PIXEL = 709
  SAMPLE_PROJECTION_OFFSET = 168.0625
  SECOND_STANDARD_PARALLEL = "N/A"
  WESTERNMOST_LONGITUDE = 144.733
END_OBJECT = IMAGE_MAP_PROJECTION
END
