PDS_VERSION_ID = PDS3
/* FILE DATA ELEMENTS */
RECORD_TYPE = UNDEFINED
/* POINTERS TO DATA OBJECTS */
^IMAGE = ("H4135_0000_S24.TIF")
/* IDENTIFICATION DATA ELEMENTS */
DATA_SET_ID = "MEX-M-HRSC-4-REFDR-MAPPROJECT-EXT1-V4.0"
DATA_SET_NAME = "MARS EXPRESS HRSC MAP PROJECTED REFDR EXTENSION1 V4.0"
DETECTOR_ID = MEX_HRSC_S2
EVENT_TYPE = "MARS-REGIONAL-MAPPING-Vo"
INSTRUMENT_HOST_ID = MEX
INSTRUMENT_HOST_NAME = "MARS EXPRESS"
INSTRUMENT_ID = HRSC
INSTRUMENT_NAME = "HIGH RESOLUTION STEREO CAMERA"
MISSION_NAME = "MARS EXPRESS"
MISSION_PHASE_NAME = ME_Phase_7
PROCESSING_LEVEL_ID = 4
PRODUCT_CREATION_TIME = 2023-02-09T23:17:53.000Z
PRODUCT_ID = "H4135_0000_S24.TIF"
RELEASE_ID = 0005
REVISION_ID = 0000
/* QUALITY DATA ELEMENTS */
DATA_QUALITY_ID = 1
DATA_QUALITY_DESC = "Data calculated based on original SPICE kernels"
/* TIME DATA ELEMENTS */
SPACECRAFT_CLOCK_START_COUNT = "1/0122993505.07288"
SPACECRAFT_CLOCK_STOP_COUNT = "1/0122993915.47158"
START_TIME = 2007-03-26T12:51:49.294Z
STOP_TIME = 2007-03-26T12:57:38.916Z
/* ORBITAL DATA ELEMENTS */
ASCENDING_NODE_LONGITUDE = 141.67
MAXIMUM_RESOLUTION = 0.0282
FOOTPRINT_POINT_LATITUDE = (-40.9447,-40.9388,-40.9301,-40.9194, -40.9109,-40.8966,-40.8804,-40.8657, -40.8645,-40.8261,-40.468,-40.232, -39.8778,-39.5282,-39.2963,-39.0682, -38.8432,-38.6145,-38.3878,-38.1602, -37.9365,-37.7111,-37.3717,-37.1507, -36.9308,-36.7166,-36.5059,-36.2868, -36.0679,-35.7438,-35.4153,-35.0961, -34.7779,-34.4647,-34.2558,-33.9431, -33.6356,-23.5805,-23.0863,-22.7567, -22.4257,-22.0946,-21.6797,-21.5134, -21.2817,-21.1151,-20.9483,-20.6979, -20.6144,-20.6085,-20.6177,-20.6232, -20.6267,-20.6297,-20.6327,-20.6329, -20.6334,-20.8009,-20.9681,-21.1352, -21.3854,-21.6173,-21.7839,-22.1159, -22.3645,-22.6134,-22.9442,-23.1919, -23.6034,-33.6798,-33.9884,-34.1983, -34.5115,-34.7202,-35.0381,-35.251, -35.4632,-35.7867,-36.003,-36.2178, -36.4371,-36.6568,-36.8763,-37.0977, -37.3196,-37.5407,-37.765,-37.9898, -38.3295,-38.5583,-38.7875,-39.0199, -39.2547,-39.4854,-39.8369,-40.0727, -40.42,-40.7781,-40.8986,-40.9447)
FOOTPRINT_POINT_LONGITUDE = (244.339,243.993,243.598,243.202,242.93 ,242.534,242.137,241.813,241.788, 241.765,241.799,241.821,241.853,241.884 ,241.905,241.926,241.948,241.966, 241.985,242.004,242.022,242.039,242.063 ,242.079,242.097,242.115,242.133, 242.149,242.163,242.184,242.203,242.223 ,242.244,242.263,242.276,242.295, 242.313,242.73,242.743,242.751,242.759, 242.767,242.777,242.781,242.786,242.79, 242.793,242.799,242.801,242.801,243.164 ,243.405,243.597,243.789,244.028,244.04 ,244.044,244.046,244.047,244.049, 244.051,244.053,244.055,244.059,244.061 ,244.064,244.067,244.07,244.074,244.209 ,244.214,244.217,244.223,244.227, 244.232,244.236,244.24,244.245,244.249, 244.253,244.257,244.261,244.265,244.269 ,244.274,244.278,244.283,244.288, 244.295,244.299,244.304,244.308,244.312 ,244.317,244.325,244.33,244.34,244.349, 244.351,244.339)
ORBIT_NUMBER = 4135
ORBITAL_ECCENTRICITY = 0.572
ORBITAL_INCLINATION = 86.67
ORBITAL_SEMIMAJOR_AXIS = 8634.75
PERIAPSIS_ALTITUDE = 303.77
PERIAPSIS_ARGUMENT_ANGLE = 349.71
PERIAPSIS_TIME = 2007-03-26T13:00:47.000Z
SPACECRAFT_ORIENTATION = (0.0,1.0,0.0)
^MEX_ORIENTATION_DESC = "MEX_ORIENTATION_DESC.TXT"
SPACECRAFT_POINTING_MODE = ACROSSTRACK
^MEX_POINTING_DESC = "MEX_POINTING_DESC.TXT"
RIGHT_ASCENSION = -1e+32
DECLINATION = -1e+32
OFFSET_ANGLE = 0.2
SPACECRAFT_SOLAR_DISTANCE = 2.1167e+08
TARGET_NAME = MARS
/* CAMERA DATA ELEMENTS */
DETECTOR_TEMPERATURE = 19.39
FOCAL_PLANE_TEMPERATURE = 9.3989
INST_CMPRS_NAME = "DISCRETE COSINE TRANSFORMATION (DCT)"
INST_CMPRS_RATIO = 8.35362
INST_CMPRS_QUALITY = 0
INST_CMPRS_QUANTZ_TBL_ID = 0
INSTRUMENT_TEMPERATURE = 11.8457
LENS_TEMPERATURE = 9.8067
MACROPIXEL_SIZE = 2
MISSING_FRAMES = 2715
PIXEL_SUBSAMPLING_FLAG = N
SIGNAL_CHAIN_ID = 1
/* RADIOMETRIC DATA ELEMENTS */
BANDWIDTH = 178.0
CENTER_FILTER_WAVELENGTH = 679.0
RADIANCE_OFFSET = 1.87871
RADIANCE_SCALING_FACTOR = 0.0249155
REFLECTANCE_SCALING_FACTOR = 0.000591183
MEX:REFLECTANCE_OFFSET = 0.0445771
/* IMAGE OBJECT DEFINITIONS */
OBJECT = IMAGE
  INTERCHANGE_FORMAT = BINARY
  LINES = 48103
  LINE_SAMPLES = 4280
  SAMPLE_TYPE = UNSIGNED_INTEGER
  SAMPLE_BITS = 8
  BANDS = 1
  BAND_STORAGE_TYPE = BAND_SEQUENTIAL
  MAXIMUM = 255
  MEAN = 96.5149
  MINIMUM = 1
  STANDARD_DEVIATION = 19.6217
END_OBJECT = IMAGE
/* MAP OBJECT DEFINITIONS */
OBJECT = IMAGE_MAP_PROJECTION
  ^DATA_SET_MAP_PROJECTION_CATALOG= "DSMAP.CAT"
  A_AXIS_RADIUS = 3396.0
  B_AXIS_RADIUS = 3396.0
  C_AXIS_RADIUS = 3396.0
  CENTER_LATITUDE = 0.0
  CENTER_LONGITUDE = 243.0
  COORDINATE_SYSTEM_NAME = PLANETOGRAPHIC
  COORDINATE_SYSTEM_TYPE = "BODY-FIXED ROTATING"
  EASTERNMOST_LONGITUDE = 244.351
  FIRST_STANDARD_PARALLEL = "N/A"
  LINE_FIRST_PIXEL = 1
  LINE_LAST_PIXEL = 48103
  LINE_PROJECTION_OFFSET = -48780.75
  MAP_PROJECTION_ROTATION = 0.0
  MAP_PROJECTION_TYPE = SINUSOIDAL
  MAP_RESOLUTION = 2370.85521546667
  MAP_SCALE = 0.025
  MAXIMUM_LATITUDE = -20.6085
  MINIMUM_LATITUDE = -40.9447
  POSITIVE_LONGITUDE_DIRECTION = EAST
  REFERENCE_LATITUDE = "N/A"
  REFERENCE_LONGITUDE = "N/A"
  SAMPLE_FIRST_PIXEL = 1
  SAMPLE_LAST_PIXEL = 4280
  SAMPLE_PROJECTION_OFFSET = 2002.75
  SECOND_STANDARD_PARALLEL = "N/A"
  WESTERNMOST_LONGITUDE = 241.765
END_OBJECT = IMAGE_MAP_PROJECTION
END
