PDS_VERSION_ID = PDS3
/* FILE DATA ELEMENTS */
RECORD_TYPE = UNDEFINED
/* POINTERS TO DATA OBJECTS */
^IMAGE = ("H4127_0000_S24.TIF")
/* IDENTIFICATION DATA ELEMENTS */
DATA_SET_ID = "MEX-M-HRSC-4-REFDR-MAPPROJECT-EXT1-V4.0"
DATA_SET_NAME = "MARS EXPRESS HRSC MAP PROJECTED REFDR EXTENSION1 V4.0"
DETECTOR_ID = MEX_HRSC_S2
EVENT_TYPE = "MARS-REGIONAL-MAPPING-Vo-Im-Fl"
INSTRUMENT_HOST_ID = MEX
INSTRUMENT_HOST_NAME = "MARS EXPRESS"
INSTRUMENT_ID = HRSC
INSTRUMENT_NAME = "HIGH RESOLUTION STEREO CAMERA"
MISSION_NAME = "MARS EXPRESS"
MISSION_PHASE_NAME = ME_Phase_7
PROCESSING_LEVEL_ID = 4
PRODUCT_CREATION_TIME = 2023-02-09T23:17:53.000Z
PRODUCT_ID = "H4127_0000_S24.TIF"
RELEASE_ID = 0005
REVISION_ID = 0000
/* QUALITY DATA ELEMENTS */
DATA_QUALITY_ID = 1
DATA_QUALITY_DESC = "Data calculated based on original SPICE kernels"
/* TIME DATA ELEMENTS */
SPACECRAFT_CLOCK_START_COUNT = "1/0122800093.07284"
SPACECRAFT_CLOCK_STOP_COUNT = "1/0122800421.22636"
START_TIME = 2007-03-24T07:08:17.304Z
STOP_TIME = 2007-03-24T07:12:45.407Z
/* ORBITAL DATA ELEMENTS */
ASCENDING_NODE_LONGITUDE = 141.84
MAXIMUM_RESOLUTION = 0.0283
FOOTPRINT_POINT_LATITUDE = (-34.1385,-34.1412,-34.1375,-34.1298, -34.1295,-34.0954,-33.5431,-33.1774, -32.8173,-32.4545,-32.0995,-31.5696, -31.2204,-30.8704,-30.5282,-30.1845, -29.6766,-29.1644,-28.8213,-28.49, -28.1614,-27.8459,-27.5201,-27.1927, -26.8649,-26.537,-26.2083,-25.8786, -25.5478,-25.216,-24.8834,-24.5501, -24.217,-23.8822,-23.5588,-22.9972, -22.714,-22.4313,-22.1481,-21.8644, -21.5789,-21.2924,-21.0071,-20.7162, -20.4335,-20.1457,-19.8581,-19.5699, -19.2807,-18.847,-18.2854,-18.1445, -18.1146,-18.1079,-18.099,-18.0987, -18.0991,-18.524,-19.0899,-19.3803, -19.6692,-19.9578,-20.246,-20.5341, -20.9654,-21.2509,-21.6792,-21.9647, -22.2493,-22.5355,-22.9574,-23.2382, -23.5196,-23.8386,-24.1739,-24.6738, -25.0073,-25.3394,-25.837,-26.1649, -26.6621,-27.1528,-27.4798,-27.8068, -28.2986,-28.6317,-28.9636,-29.3006, -29.6398,-29.977,-30.3206,-30.8363, -31.1863,-31.711,-32.2451,-32.7845, -33.3282,-33.8735,-34.0576,-34.1385)
FOOTPRINT_POINT_LONGITUDE = (310.906,310.086,309.484,308.922, 308.903,308.888,308.918,308.938,308.956 ,308.974,308.991,309.017,309.033, 309.048,309.063,309.078,309.099,309.118 ,309.128,309.141,309.154,309.167, 309.178,309.189,309.2,309.21,309.221, 309.23,309.24,309.249,309.259,309.267, 309.276,309.285,309.293,309.307,309.313 ,309.319,309.325,309.331,309.337, 309.342,309.348,309.352,309.358,309.363 ,309.368,309.373,309.377,309.384, 309.392,309.393,309.394,310.069,310.608 ,310.62,310.625,310.629,310.637,310.64, 310.644,310.648,310.652,310.655,310.661 ,310.665,310.672,310.676,310.68,310.684 ,310.692,310.697,310.702,310.707, 310.712,310.722,310.727,310.733,310.742 ,310.749,310.757,310.767,310.773, 310.779,310.789,310.796,310.802,310.809 ,310.816,310.823,310.831,310.843,310.85 ,310.863,310.875,310.888,310.901, 310.918,310.923,310.906)
ORBIT_NUMBER = 4127
ORBITAL_ECCENTRICITY = 0.571
ORBITAL_INCLINATION = 86.68
ORBITAL_SEMIMAJOR_AXIS = 8620.32
PERIAPSIS_ALTITUDE = 305.04
PERIAPSIS_ARGUMENT_ANGLE = 351.17
PERIAPSIS_TIME = 2007-03-24T07:15:37.000Z
SPACECRAFT_ORIENTATION = (0.0,1.0,0.0)
^MEX_ORIENTATION_DESC = "MEX_ORIENTATION_DESC.TXT"
SPACECRAFT_POINTING_MODE = ACROSSTRACK
^MEX_POINTING_DESC = "MEX_POINTING_DESC.TXT"
RIGHT_ASCENSION = -1e+32
DECLINATION = -1e+32
OFFSET_ANGLE = -0.2
SPACECRAFT_SOLAR_DISTANCE = 2.11976e+08
TARGET_NAME = MARS
/* CAMERA DATA ELEMENTS */
DETECTOR_TEMPERATURE = 18.9822
FOCAL_PLANE_TEMPERATURE = 9.3989
INST_CMPRS_NAME = "DISCRETE COSINE TRANSFORMATION (DCT)"
INST_CMPRS_RATIO = 11.7685
INST_CMPRS_QUALITY = 0
INST_CMPRS_QUANTZ_TBL_ID = 0
INSTRUMENT_TEMPERATURE = 11.6418
LENS_TEMPERATURE = 9.8067
MACROPIXEL_SIZE = 2
MISSING_FRAMES = 0
PIXEL_SUBSAMPLING_FLAG = N
SIGNAL_CHAIN_ID = 1
/* RADIOMETRIC DATA ELEMENTS */
BANDWIDTH = 178.0
CENTER_FILTER_WAVELENGTH = 679.0
RADIANCE_OFFSET = 2.7588
RADIANCE_SCALING_FACTOR = 0.00808681
REFLECTANCE_SCALING_FACTOR = 0.000192435
MEX:REFLECTANCE_OFFSET = 0.0656488
/* IMAGE OBJECT DEFINITIONS */
OBJECT = IMAGE
  INTERCHANGE_FORMAT = BINARY
  LINES = 37953
  LINE_SAMPLES = 3687
  SAMPLE_TYPE = UNSIGNED_INTEGER
  SAMPLE_BITS = 8
  BANDS = 1
  BAND_STORAGE_TYPE = BAND_SEQUENTIAL
  MAXIMUM = 255
  MEAN = 99.9097
  MINIMUM = 1
  STANDARD_DEVIATION = 23.8169
END_OBJECT = IMAGE
/* MAP OBJECT DEFINITIONS */
OBJECT = IMAGE_MAP_PROJECTION
  ^DATA_SET_MAP_PROJECTION_CATALOG= "DSMAP.CAT"
  A_AXIS_RADIUS = 3396.0
  B_AXIS_RADIUS = 3396.0
  C_AXIS_RADIUS = 3396.0
  CENTER_LATITUDE = 0.0
  CENTER_LONGITUDE = 310.0
  COORDINATE_SYSTEM_NAME = PLANETOGRAPHIC
  COORDINATE_SYSTEM_TYPE = "BODY-FIXED ROTATING"
  EASTERNMOST_LONGITUDE = 310.923
  FIRST_STANDARD_PARALLEL = "N/A"
  LINE_FIRST_PIXEL = 1
  LINE_LAST_PIXEL = 37953
  LINE_PROJECTION_OFFSET = -42893.25
  MAP_PROJECTION_ROTATION = 0.0
  MAP_PROJECTION_TYPE = SINUSOIDAL
  MAP_RESOLUTION = 2370.85521546667
  MAP_SCALE = 0.025
  MAXIMUM_LATITUDE = -18.0987
  MINIMUM_LATITUDE = -34.1412
  POSITIVE_LONGITUDE_DIRECTION = EAST
  REFERENCE_LATITUDE = "N/A"
  REFERENCE_LONGITUDE = "N/A"
  SAMPLE_FIRST_PIXEL = 1
  SAMPLE_LAST_PIXEL = 3687
  SAMPLE_PROJECTION_OFFSET = 2039.25
  SECOND_STANDARD_PARALLEL = "N/A"
  WESTERNMOST_LONGITUDE = 308.888
END_OBJECT = IMAGE_MAP_PROJECTION
END
