PDS_VERSION_ID = PDS3
/* FILE DATA ELEMENTS */
RECORD_TYPE = UNDEFINED
/* POINTERS TO DATA OBJECTS */
^IMAGE = ("H4118_0000_GR4.TIF")
/* IDENTIFICATION DATA ELEMENTS */
DATA_SET_ID = "MEX-M-HRSC-4-REFDR-MAPPROJECT-EXT1-V4.0"
DATA_SET_NAME = "MARS EXPRESS HRSC MAP PROJECTED REFDR EXTENSION1 V4.0"
DETECTOR_ID = MEX_HRSC_GREEN
EVENT_TYPE = "MARS-REGIONAL-MAPPING-Vo-Te"
INSTRUMENT_HOST_ID = MEX
INSTRUMENT_HOST_NAME = "MARS EXPRESS"
INSTRUMENT_ID = HRSC
INSTRUMENT_NAME = "HIGH RESOLUTION STEREO CAMERA"
MISSION_NAME = "MARS EXPRESS"
MISSION_PHASE_NAME = ME_Phase_7
PROCESSING_LEVEL_ID = 4
PRODUCT_CREATION_TIME = 2023-02-09T23:17:53.000Z
PRODUCT_ID = "H4118_0000_GR4.TIF"
RELEASE_ID = 0005
REVISION_ID = 0000
/* QUALITY DATA ELEMENTS */
DATA_QUALITY_ID = 1
DATA_QUALITY_DESC = "Data calculated based on original SPICE kernels"
/* TIME DATA ELEMENTS */
SPACECRAFT_CLOCK_START_COUNT = "1/0122582474.09093"
SPACECRAFT_CLOCK_STOP_COUNT = "1/0122582707.08272"
START_TIME = 2007-03-21T18:42:03.947Z
STOP_TIME = 2007-03-21T18:44:45.800Z
/* ORBITAL DATA ELEMENTS */
ASCENDING_NODE_LONGITUDE = 142.02
MAXIMUM_RESOLUTION = 0.104
FOOTPRINT_POINT_LATITUDE = (-27.7212,-27.7195,-27.718,-27.7143, -27.7118,-27.709,-27.7089,-27.7091, -27.3607,-27.1281,-26.8953,-26.6623, -26.4291,-26.1956,-25.9619,-25.7281, -25.494,-25.2596,-25.025,-24.6731, -24.4542,-24.0601,-23.6655,-23.4679, -23.2703,-23.0726,-22.8748,-22.6768, -22.4787,-22.2804,-22.082,-21.8836, -21.6851,-21.4864,-21.2875,-21.0886, -20.8895,-20.6904,-20.4912,-20.2918, -20.0924,-19.8929,-19.595,-19.2083, -18.918,-18.5307,-18.1431,-17.7551, -17.3705,-17.2766,-17.2702,-17.2717, -17.2721,-17.2724,-17.2724,-17.2724, -17.274,-17.7528,-18.335,-18.7228, -19.1102,-19.4006,-19.7921,-19.9918, -20.1915,-20.3911,-20.5906,-20.7899, -20.9891,-21.1883,-21.3873,-21.5863, -21.785,-21.9837,-22.1822,-22.48, -22.6784,-22.8765,-23.0746,-23.2725, -23.4703,-23.668,-23.8656,-24.0631, -24.4576,-24.6758,-24.9108,-25.1456, -25.4976,-25.7319,-25.9661,-26.2, -26.4337,-26.6673,-26.9007,-27.1338, -27.3667,-27.5994,-27.7156,-27.7212)
FOOTPRINT_POINT_LONGITUDE = (114.932,114.548,114.32,113.893,113.665 ,113.436,113.422,113.41,113.421,113.429 ,113.436,113.443,113.45,113.457,113.464 ,113.471,113.478,113.485,113.491,113.5, 113.506,113.516,113.526,113.53,113.535, 113.539,113.544,113.548,113.552,113.557 ,113.561,113.565,113.569,113.573, 113.577,113.58,113.584,113.588,113.591, 113.595,113.598,113.602,113.606,113.612 ,113.617,113.622,113.628,113.633, 113.638,113.639,113.639,114.034,114.265 ,114.486,114.794,114.805,114.812, 114.817,114.823,114.827,114.831,114.834 ,114.838,114.84,114.842,114.844,114.847 ,114.849,114.851,114.853,114.856, 114.858,114.86,114.862,114.865,114.868, 114.871,114.873,114.876,114.878,114.881 ,114.883,114.885,114.888,114.893, 114.896,114.899,114.902,114.907,114.91, 114.913,114.916,114.92,114.923,114.926, 114.93,114.933,114.936,114.938,114.932)
ORBIT_NUMBER = 4118
ORBITAL_ECCENTRICITY = 0.571
ORBITAL_INCLINATION = 86.66
ORBITAL_SEMIMAJOR_AXIS = 8627.21
PERIAPSIS_ALTITUDE = 305.44
PERIAPSIS_ARGUMENT_ANGLE = 352.73
PERIAPSIS_TIME = 2007-03-21T18:47:14.000Z
SPACECRAFT_ORIENTATION = (0.0,1.0,0.0)
^MEX_ORIENTATION_DESC = "MEX_ORIENTATION_DESC.TXT"
SPACECRAFT_POINTING_MODE = NADIR
^MEX_POINTING_DESC = "MEX_POINTING_DESC.TXT"
RIGHT_ASCENSION = -1e+32
DECLINATION = -1e+32
OFFSET_ANGLE = -1e+32
SPACECRAFT_SOLAR_DISTANCE = 2.12329e+08
TARGET_NAME = MARS
/* CAMERA DATA ELEMENTS */
DETECTOR_TEMPERATURE = 18.5744
FOCAL_PLANE_TEMPERATURE = 10.4184
INST_CMPRS_NAME = "DISCRETE COSINE TRANSFORMATION (DCT)"
INST_CMPRS_RATIO = 11.4121
INST_CMPRS_QUALITY = 0
INST_CMPRS_QUANTZ_TBL_ID = 0
INSTRUMENT_TEMPERATURE = 11.4379
LENS_TEMPERATURE = 50.9945
MACROPIXEL_SIZE = 8
MISSING_FRAMES = 0
PIXEL_SUBSAMPLING_FLAG = N
SIGNAL_CHAIN_ID = 2
/* RADIOMETRIC DATA ELEMENTS */
BANDWIDTH = 88.0
CENTER_FILTER_WAVELENGTH = 538.0
RADIANCE_OFFSET = 1.01512
RADIANCE_SCALING_FACTOR = 0.00270987
REFLECTANCE_SCALING_FACTOR = 0.000105186
MEX:REFLECTANCE_OFFSET = 0.0394029
/* IMAGE OBJECT DEFINITIONS */
OBJECT = IMAGE
  INTERCHANGE_FORMAT = BINARY
  LINES = 6188
  LINE_SAMPLES = 820
  SAMPLE_TYPE = UNSIGNED_INTEGER
  SAMPLE_BITS = 8
  BANDS = 1
  BAND_STORAGE_TYPE = BAND_SEQUENTIAL
  MAXIMUM = 255
  MEAN = 97.6175
  MINIMUM = 1
  STANDARD_DEVIATION = 19.9715
END_OBJECT = IMAGE
/* MAP OBJECT DEFINITIONS */
OBJECT = IMAGE_MAP_PROJECTION
  ^DATA_SET_MAP_PROJECTION_CATALOG= "DSMAP.CAT"
  A_AXIS_RADIUS = 3396.0
  B_AXIS_RADIUS = 3396.0
  C_AXIS_RADIUS = 3396.0
  CENTER_LATITUDE = 0.0
  CENTER_LONGITUDE = 114.0
  COORDINATE_SYSTEM_NAME = PLANETOGRAPHIC
  COORDINATE_SYSTEM_TYPE = "BODY-FIXED ROTATING"
  EASTERNMOST_LONGITUDE = 114.938
  FIRST_STANDARD_PARALLEL = "N/A"
  LINE_FIRST_PIXEL = 1
  LINE_LAST_PIXEL = 6188
  LINE_PROJECTION_OFFSET = -10251.9375
  MAP_PROJECTION_ROTATION = 0.0
  MAP_PROJECTION_TYPE = SINUSOIDAL
  MAP_RESOLUTION = 592.713803866667
  MAP_SCALE = 0.1
  MAXIMUM_LATITUDE = -17.2702
  MINIMUM_LATITUDE = -27.7212
  POSITIVE_LONGITUDE_DIRECTION = EAST
  REFERENCE_LATITUDE = "N/A"
  REFERENCE_LONGITUDE = "N/A"
  SAMPLE_FIRST_PIXEL = 1
  SAMPLE_LAST_PIXEL = 820
  SAMPLE_PROJECTION_OFFSET = 323.0625
  SECOND_STANDARD_PARALLEL = "N/A"
  WESTERNMOST_LONGITUDE = 113.41
END_OBJECT = IMAGE_MAP_PROJECTION
END
