PDS_VERSION_ID = PDS3
/* FILE DATA ELEMENTS */
RECORD_TYPE = UNDEFINED
/* POINTERS TO DATA OBJECTS */
^IMAGE = ("H4117_0000_S24.TIF")
/* IDENTIFICATION DATA ELEMENTS */
DATA_SET_ID = "MEX-M-HRSC-4-REFDR-MAPPROJECT-EXT1-V4.0"
DATA_SET_NAME = "MARS EXPRESS HRSC MAP PROJECTED REFDR EXTENSION1 V4.0"
DETECTOR_ID = MEX_HRSC_S2
EVENT_TYPE = "MARS-REGIONAL-MAPPING-Vo-Te-Fl"
INSTRUMENT_HOST_ID = MEX
INSTRUMENT_HOST_NAME = "MARS EXPRESS"
INSTRUMENT_ID = HRSC
INSTRUMENT_NAME = "HIGH RESOLUTION STEREO CAMERA"
MISSION_NAME = "MARS EXPRESS"
MISSION_PHASE_NAME = ME_Phase_7
PROCESSING_LEVEL_ID = 4
PRODUCT_CREATION_TIME = 2023-02-09T23:17:53.000Z
PRODUCT_ID = "H4117_0000_S24.TIF"
RELEASE_ID = 0005
REVISION_ID = 0000
/* QUALITY DATA ELEMENTS */
DATA_QUALITY_ID = 1
DATA_QUALITY_DESC = "Data calculated based on original SPICE kernels"
/* TIME DATA ELEMENTS */
SPACECRAFT_CLOCK_START_COUNT = "1/0122558289.07289"
SPACECRAFT_CLOCK_STOP_COUNT = "1/0122558592.24401"
START_TIME = 2007-03-21T11:58:13.319Z
STOP_TIME = 2007-03-21T12:02:19.196Z
/* ORBITAL DATA ELEMENTS */
ASCENDING_NODE_LONGITUDE = 142.05
MAXIMUM_RESOLUTION = 0.0269
FOOTPRINT_POINT_LATITUDE = (-27.0785,-27.0772,-27.0733,-27.0649, -27.0646,-27.0483,-26.7104,-26.3697, -26.0349,-25.5357,-25.2021,-24.8677, -24.5329,-24.1967,-23.8596,-23.5217, -23.1778,-22.838,-22.3308,-21.9895, -21.663,-21.3746,-20.9424,-20.6511, -20.3607,-20.0712,-19.6384,-19.3422, -19.048,-18.6153,-18.327,-17.894, -17.4509,-17.006,-16.7212,-16.4324, -16.1452,-15.8501,-15.4092,-15.1201, -14.8334,-14.2731,-13.7111,-13.4299, -13.1482,-12.8531,-12.5705,-12.0093, -11.8724,-11.8671,-11.8684,-11.869, -11.8683,-11.8683,-11.8688,-12.57, -12.8529,-13.149,-13.4327,-13.8568, -14.1382,-14.4205,-14.8384,-15.1299, -15.4151,-15.7019,-16.1318,-16.4194, -16.7066,-16.9932,-17.4356,-17.7306, -18.0253,-18.3194,-18.6128,-19.0498, -19.3515,-19.6426,-20.079,-20.3707, -20.6536,-20.9431,-21.2313,-21.6638, -21.9905,-22.3322,-22.6784,-23.1959, -23.5292,-24.0337,-24.3711,-24.7071, -25.2077,-25.541,-25.8743,-26.2063, -26.5437,-26.8805,-27.0521,-27.0785)
FOOTPRINT_POINT_LONGITUDE = (213.29,212.676,212.236,211.686,211.67, 211.66,211.672,211.684,211.694,211.711, 211.721,211.732,211.742,211.752,211.761 ,211.77,211.778,211.787,211.801,211.809 ,211.817,211.823,211.833,211.838, 211.844,211.85,211.859,211.863,211.868, 211.877,211.884,211.893,211.899,211.905 ,211.909,211.913,211.916,211.918,211.92 ,211.923,211.926,211.932,211.937,211.94 ,211.942,211.944,211.946,211.95,211.951 ,211.951,212.247,212.741,213.07,213.081 ,213.085,213.091,213.093,213.096, 213.098,213.102,213.104,213.107,213.112 ,213.114,213.118,213.122,213.128, 213.131,213.134,213.138,213.143,213.147 ,213.151,213.154,213.158,213.165, 213.166,213.17,213.176,213.18,213.187, 213.191,213.195,213.202,213.207,213.212 ,213.216,213.222,213.23,213.239,213.245 ,213.251,213.261,213.267,213.273,213.28 ,213.286,213.294,213.296,213.29)
ORBIT_NUMBER = 4117
ORBITAL_ECCENTRICITY = 0.571
ORBITAL_INCLINATION = 86.68
ORBITAL_SEMIMAJOR_AXIS = 8623.94
PERIAPSIS_ALTITUDE = 305.74
PERIAPSIS_ARGUMENT_ANGLE = 352.91
PERIAPSIS_TIME = 2007-03-21T12:04:01.000Z
SPACECRAFT_ORIENTATION = (0.0,1.0,0.0)
^MEX_ORIENTATION_DESC = "MEX_ORIENTATION_DESC.TXT"
SPACECRAFT_POINTING_MODE = NADIR
^MEX_POINTING_DESC = "MEX_POINTING_DESC.TXT"
RIGHT_ASCENSION = -1e+32
DECLINATION = -1e+32
OFFSET_ANGLE = -1e+32
SPACECRAFT_SOLAR_DISTANCE = 2.12369e+08
TARGET_NAME = MARS
/* CAMERA DATA ELEMENTS */
DETECTOR_TEMPERATURE = 18.9822
FOCAL_PLANE_TEMPERATURE = 9.3989
INST_CMPRS_NAME = "DISCRETE COSINE TRANSFORMATION (DCT)"
INST_CMPRS_RATIO = 7.06093
INST_CMPRS_QUALITY = 0
INST_CMPRS_QUANTZ_TBL_ID = 0
INSTRUMENT_TEMPERATURE = 11.6418
LENS_TEMPERATURE = 9.8067
MACROPIXEL_SIZE = 2
MISSING_FRAMES = 4
PIXEL_SUBSAMPLING_FLAG = N
SIGNAL_CHAIN_ID = 1
/* RADIOMETRIC DATA ELEMENTS */
BANDWIDTH = 178.0
CENTER_FILTER_WAVELENGTH = 679.0
RADIANCE_OFFSET = 2.63302
RADIANCE_SCALING_FACTOR = 0.018182
REFLECTANCE_SCALING_FACTOR = 0.000434264
MEX:REFLECTANCE_OFFSET = 0.0628879
/* IMAGE OBJECT DEFINITIONS */
OBJECT = IMAGE
  INTERCHANGE_FORMAT = BINARY
  LINES = 35978
  LINE_SAMPLES = 3244
  SAMPLE_TYPE = UNSIGNED_INTEGER
  SAMPLE_BITS = 8
  BANDS = 1
  BAND_STORAGE_TYPE = BAND_SEQUENTIAL
  MAXIMUM = 255
  MEAN = 103.432
  MINIMUM = 1
  STANDARD_DEVIATION = 25.3907
END_OBJECT = IMAGE
/* MAP OBJECT DEFINITIONS */
OBJECT = IMAGE_MAP_PROJECTION
  ^DATA_SET_MAP_PROJECTION_CATALOG= "DSMAP.CAT"
  A_AXIS_RADIUS = 3396.0
  B_AXIS_RADIUS = 3396.0
  C_AXIS_RADIUS = 3396.0
  CENTER_LATITUDE = 0.0
  CENTER_LONGITUDE = 213.0
  COORDINATE_SYSTEM_NAME = PLANETOGRAPHIC
  COORDINATE_SYSTEM_TYPE = "BODY-FIXED ROTATING"
  EASTERNMOST_LONGITUDE = 213.296
  FIRST_STANDARD_PARALLEL = "N/A"
  LINE_FIRST_PIXEL = 1
  LINE_LAST_PIXEL = 35978
  LINE_PROJECTION_OFFSET = -28126.75
  MAP_PROJECTION_ROTATION = 0.0
  MAP_PROJECTION_TYPE = SINUSOIDAL
  MAP_RESOLUTION = 2370.85521546667
  MAP_SCALE = 0.025
  MAXIMUM_LATITUDE = -11.8671
  MINIMUM_LATITUDE = -27.0785
  POSITIVE_LONGITUDE_DIRECTION = EAST
  REFERENCE_LATITUDE = "N/A"
  REFERENCE_LONGITUDE = "N/A"
  SAMPLE_FIRST_PIXEL = 1
  SAMPLE_LAST_PIXEL = 3244
  SAMPLE_PROJECTION_OFFSET = 2728.25
  SECOND_STANDARD_PARALLEL = "N/A"
  WESTERNMOST_LONGITUDE = 211.66
END_OBJECT = IMAGE_MAP_PROJECTION
END
