PDS_VERSION_ID = PDS3
/* FILE DATA ELEMENTS */
RECORD_TYPE = UNDEFINED
/* POINTERS TO DATA OBJECTS */
^IMAGE = ("H4114_0000_P24.TIF")
/* IDENTIFICATION DATA ELEMENTS */
DATA_SET_ID = "MEX-M-HRSC-4-REFDR-MAPPROJECT-EXT1-V4.0"
DATA_SET_NAME = "MARS EXPRESS HRSC MAP PROJECTED REFDR EXTENSION1 V4.0"
DETECTOR_ID = MEX_HRSC_P2
EVENT_TYPE = "MARS-REGIONAL-MAPPING-Im-Fl-Mw"
INSTRUMENT_HOST_ID = MEX
INSTRUMENT_HOST_NAME = "MARS EXPRESS"
INSTRUMENT_ID = HRSC
INSTRUMENT_NAME = "HIGH RESOLUTION STEREO CAMERA"
MISSION_NAME = "MARS EXPRESS"
MISSION_PHASE_NAME = ME_Phase_7
PROCESSING_LEVEL_ID = 4
PRODUCT_CREATION_TIME = 2023-02-09T23:17:53.000Z
PRODUCT_ID = "H4114_0000_P24.TIF"
RELEASE_ID = 0005
REVISION_ID = 0000
/* QUALITY DATA ELEMENTS */
DATA_QUALITY_ID = 1
DATA_QUALITY_DESC = "Data calculated based on original SPICE kernels"
/* TIME DATA ELEMENTS */
SPACECRAFT_CLOCK_START_COUNT = "1/0122485574.09051"
SPACECRAFT_CLOCK_STOP_COUNT = "1/0122485894.49089"
START_TIME = 2007-03-20T15:46:37.455Z
STOP_TIME = 2007-03-20T15:50:44.104Z
/* ORBITAL DATA ELEMENTS */
ASCENDING_NODE_LONGITUDE = 142.11
MAXIMUM_RESOLUTION = 0.0294
FOOTPRINT_POINT_LATITUDE = (-35.0809,-35.0989,-35.1101,-35.1199, -35.1282,-35.1407,-35.141,-35.1187, -34.618,-34.2858,-33.9582,-33.6306, -33.3078,-32.984,-32.5062,-32.1867, -31.7166,-31.4033,-31.0951,-30.7862, -30.3293,-30.0256,-29.5741,-29.2769, -28.8311,-28.5395,-28.246,-27.808, -27.519,-27.2306,-26.9457,-26.5221, -26.2395,-25.9569,-25.5427,-24.9893, -24.7114,-24.2943,-23.8758,-23.4564, -23.1758,-22.8938,-22.4708,-22.1886, -21.7664,-21.4828,-21.0574,-20.5791, -20.4602,-20.4495,-20.4331,-20.4038, -20.3794,-20.3786,-20.3788,-20.7358, -21.258,-21.6834,-21.9664,-22.2487, -22.5307,-22.8121,-23.0942,-23.5171, -23.797,-24.0761,-24.3554,-24.632, -24.9117,-25.1885,-25.7413,-26.0196, -26.2991,-26.5803,-26.863,-27.2941, -27.5823,-27.8697,-28.1651,-28.4556, -28.7479,-29.0483,-29.494,-29.9449, -30.2487,-30.5515,-30.8606,-31.1692, -31.4799,-31.795,-32.1082,-32.428, -32.9061,-33.394,-33.7131,-34.0419, -34.3783,-34.8743,-35.0444,-35.0809)
FOOTPRINT_POINT_LONGITUDE = (149.671,149.186,148.838,148.494, 148.154,147.484,147.463,147.46,147.482, 147.497,147.51,147.524,147.536,147.549, 147.567,147.579,147.595,147.606,147.616 ,147.626,147.64,147.65,147.663,147.671, 147.683,147.691,147.699,147.71,147.718, 147.725,147.731,147.74,147.746,147.752, 147.761,147.771,147.776,147.784,147.791 ,147.798,147.802,147.807,147.813, 147.817,147.822,147.826,147.831,147.836 ,147.837,147.838,148.188,148.739, 149.209,149.223,149.229,149.238,149.251 ,149.261,149.268,149.275,149.282, 149.289,149.295,149.303,149.31,149.318, 149.325,149.335,149.34,149.349,149.366, 149.374,149.387,149.397,149.404,149.417 ,149.426,149.434,149.441,149.454, 149.464,149.469,149.487,149.502,149.513 ,149.524,149.535,149.546,149.557, 149.567,149.579,149.59,149.608,149.626, 149.646,149.66,149.665,149.692,149.696, 149.671)
ORBIT_NUMBER = 4114
ORBITAL_ECCENTRICITY = 0.571
ORBITAL_INCLINATION = 86.67
ORBITAL_SEMIMAJOR_AXIS = 8622.79
PERIAPSIS_ALTITUDE = 306.37
PERIAPSIS_ARGUMENT_ANGLE = 353.48
PERIAPSIS_TIME = 2007-03-20T15:54:39.000Z
SPACECRAFT_ORIENTATION = (0.0,1.0,0.0)
^MEX_ORIENTATION_DESC = "MEX_ORIENTATION_DESC.TXT"
SPACECRAFT_POINTING_MODE = ACROSSTRACK
^MEX_POINTING_DESC = "MEX_POINTING_DESC.TXT"
RIGHT_ASCENSION = -1e+32
DECLINATION = -1e+32
OFFSET_ANGLE = -1.145
SPACECRAFT_SOLAR_DISTANCE = 2.12489e+08
TARGET_NAME = MARS
/* CAMERA DATA ELEMENTS */
DETECTOR_TEMPERATURE = 18.9822
FOCAL_PLANE_TEMPERATURE = 9.195
INST_CMPRS_NAME = "DISCRETE COSINE TRANSFORMATION (DCT)"
INST_CMPRS_RATIO = 5.82845
INST_CMPRS_QUALITY = 0
INST_CMPRS_QUANTZ_TBL_ID = 0
INSTRUMENT_TEMPERATURE = 11.6418
LENS_TEMPERATURE = 9.3989
MACROPIXEL_SIZE = 2
MISSING_FRAMES = 0
PIXEL_SUBSAMPLING_FLAG = N
SIGNAL_CHAIN_ID = 3
/* RADIOMETRIC DATA ELEMENTS */
BANDWIDTH = 177.0
CENTER_FILTER_WAVELENGTH = 676.5
RADIANCE_OFFSET = 1.8897
RADIANCE_SCALING_FACTOR = 0.00781775
REFLECTANCE_SCALING_FACTOR = 0.00018716
MEX:REFLECTANCE_OFFSET = 0.0452401
/* IMAGE OBJECT DEFINITIONS */
OBJECT = IMAGE
  INTERCHANGE_FORMAT = BINARY
  LINES = 34795
  LINE_SAMPLES = 4104
  SAMPLE_TYPE = UNSIGNED_INTEGER
  SAMPLE_BITS = 8
  BANDS = 1
  BAND_STORAGE_TYPE = BAND_SEQUENTIAL
  MAXIMUM = 255
  MEAN = 100.142
  MINIMUM = 1
  STANDARD_DEVIATION = 25.3623
END_OBJECT = IMAGE
/* MAP OBJECT DEFINITIONS */
OBJECT = IMAGE_MAP_PROJECTION
  ^DATA_SET_MAP_PROJECTION_CATALOG= "DSMAP.CAT"
  A_AXIS_RADIUS = 3396.0
  B_AXIS_RADIUS = 3396.0
  C_AXIS_RADIUS = 3396.0
  CENTER_LATITUDE = 0.0
  CENTER_LONGITUDE = 149.0
  COORDINATE_SYSTEM_NAME = PLANETOGRAPHIC
  COORDINATE_SYSTEM_TYPE = "BODY-FIXED ROTATING"
  EASTERNMOST_LONGITUDE = 149.696
  FIRST_STANDARD_PARALLEL = "N/A"
  LINE_FIRST_PIXEL = 1
  LINE_LAST_PIXEL = 34795
  LINE_PROJECTION_OFFSET = -48381.25
  MAP_PROJECTION_ROTATION = 0.0
  MAP_PROJECTION_TYPE = SINUSOIDAL
  MAP_RESOLUTION = 2370.85521546667
  MAP_SCALE = 0.025
  MAXIMUM_LATITUDE = -20.3786
  MINIMUM_LATITUDE = -35.141
  POSITIVE_LONGITUDE_DIRECTION = EAST
  REFERENCE_LATITUDE = "N/A"
  REFERENCE_LONGITUDE = "N/A"
  SAMPLE_FIRST_PIXEL = 1
  SAMPLE_LAST_PIXEL = 4104
  SAMPLE_PROJECTION_OFFSET = 2884.75
  SECOND_STANDARD_PARALLEL = "N/A"
  WESTERNMOST_LONGITUDE = 147.46
END_OBJECT = IMAGE_MAP_PROJECTION
END
