PDS_VERSION_ID = PDS3
/* FILE DATA ELEMENTS */
RECORD_TYPE = UNDEFINED
/* POINTERS TO DATA OBJECTS */
^IMAGE = ("H4114_0000_IR4.TIF")
/* IDENTIFICATION DATA ELEMENTS */
DATA_SET_ID = "MEX-M-HRSC-4-REFDR-MAPPROJECT-EXT1-V4.0"
DATA_SET_NAME = "MARS EXPRESS HRSC MAP PROJECTED REFDR EXTENSION1 V4.0"
DETECTOR_ID = MEX_HRSC_IR
EVENT_TYPE = "MARS-REGIONAL-MAPPING-Im-Fl-Mw"
INSTRUMENT_HOST_ID = MEX
INSTRUMENT_HOST_NAME = "MARS EXPRESS"
INSTRUMENT_ID = HRSC
INSTRUMENT_NAME = "HIGH RESOLUTION STEREO CAMERA"
MISSION_NAME = "MARS EXPRESS"
MISSION_PHASE_NAME = ME_Phase_7
PROCESSING_LEVEL_ID = 4
PRODUCT_CREATION_TIME = 2023-02-09T23:17:53.000Z
PRODUCT_ID = "H4114_0000_IR4.TIF"
RELEASE_ID = 0005
REVISION_ID = 0000
/* QUALITY DATA ELEMENTS */
DATA_QUALITY_ID = 1
DATA_QUALITY_DESC = "Data calculated based on original SPICE kernels"
/* TIME DATA ELEMENTS */
SPACECRAFT_CLOCK_START_COUNT = "1/0122485574.09051"
SPACECRAFT_CLOCK_STOP_COUNT = "1/0122485894.49089"
START_TIME = 2007-03-20T15:47:48.084Z
STOP_TIME = 2007-03-20T15:51:31.712Z
/* ORBITAL DATA ELEMENTS */
ASCENDING_NODE_LONGITUDE = 142.11
MAXIMUM_RESOLUTION = 0.0567
FOOTPRINT_POINT_LATITUDE = (-35.0772,-35.0483,-35.0248,-35.0003, -34.9995,-35.024,-34.6847,-34.1827, -33.8494,-33.5176,-33.1914,-32.8654, -32.5415,-32.2236,-31.9054,-31.4308, -31.1196,-30.8079,-30.3439,-30.0392, -29.7356,-29.4304,-29.1322,-28.8346, -28.536,-28.0895,-27.6451,-27.3477, -27.0467,-26.7475,-26.449,-26.1501, -25.7005,-25.4008,-25.0998,-24.8005, -24.5022,-24.0666,-23.8143,-23.31, -22.8076,-22.5556,-22.3034,-22.0508, -21.7962,-21.5442,-21.1654,-20.9124, -20.5312,-20.4047,-20.3713,-20.3875, -20.4051,-20.4227,-20.4437,-20.4444, -20.4455,-20.952,-21.2049,-21.4572, -21.7095,-21.9627,-22.2154,-22.4676, -22.9718,-23.4732,-23.9774,-24.38, -24.6819,-24.9809,-25.2805,-25.5808, -25.8814,-26.1849,-26.4866,-26.9348, -27.2331,-27.5314,-27.9787,-28.4266, -28.7249,-29.0193,-29.3175,-29.772, -30.2292,-30.5341,-31.0005,-31.3115, -31.6231,-31.9406,-32.2589,-32.5779, -33.0637,-33.388,-33.7215,-34.0552, -34.3795,-34.8861,-35.0559,-35.0772)
FOOTPRINT_POINT_LONGITUDE = (149.563,148.768,148.178,147.601, 147.584,147.584,147.596,147.614,147.625 ,147.635,147.645,147.655,147.665, 147.674,147.683,147.697,147.705,147.713 ,147.724,147.732,147.739,147.746, 147.752,147.759,147.765,147.774,147.784 ,147.789,147.794,147.799,147.805,147.81 ,147.817,147.822,147.826,147.83,147.835 ,147.84,147.843,147.849,147.855,147.858 ,147.861,147.863,147.865,147.868, 147.871,147.873,147.876,147.877,147.877 ,148.172,148.476,148.776,149.183, 149.196,149.2,149.211,149.217,149.221, 149.226,149.232,149.238,149.243,149.253 ,149.261,149.273,149.282,149.291, 149.297,149.303,149.311,149.319,149.331 ,149.341,149.352,149.359,149.366, 149.377,149.39,149.398,149.403,149.412, 149.427,149.439,149.449,149.462,149.471 ,149.48,149.489,149.498,149.508,149.523 ,149.532,149.55,149.562,149.563,149.582 ,149.588,149.563)
ORBIT_NUMBER = 4114
ORBITAL_ECCENTRICITY = 0.571
ORBITAL_INCLINATION = 86.67
ORBITAL_SEMIMAJOR_AXIS = 8622.79
PERIAPSIS_ALTITUDE = 306.37
PERIAPSIS_ARGUMENT_ANGLE = 353.48
PERIAPSIS_TIME = 2007-03-20T15:54:39.000Z
SPACECRAFT_ORIENTATION = (0.0,1.0,0.0)
^MEX_ORIENTATION_DESC = "MEX_ORIENTATION_DESC.TXT"
SPACECRAFT_POINTING_MODE = ACROSSTRACK
^MEX_POINTING_DESC = "MEX_POINTING_DESC.TXT"
RIGHT_ASCENSION = -1e+32
DECLINATION = -1e+32
OFFSET_ANGLE = -1.145
SPACECRAFT_SOLAR_DISTANCE = 2.12489e+08
TARGET_NAME = MARS
/* CAMERA DATA ELEMENTS */
DETECTOR_TEMPERATURE = 17.7588
FOCAL_PLANE_TEMPERATURE = 9.195
INST_CMPRS_NAME = "DISCRETE COSINE TRANSFORMATION (DCT)"
INST_CMPRS_RATIO = 7.35456
INST_CMPRS_QUALITY = 0
INST_CMPRS_QUANTZ_TBL_ID = 0
INSTRUMENT_TEMPERATURE = 11.6418
LENS_TEMPERATURE = 9.3989
MACROPIXEL_SIZE = 4
MISSING_FRAMES = 0
PIXEL_SUBSAMPLING_FLAG = N
SIGNAL_CHAIN_ID = 2
/* RADIOMETRIC DATA ELEMENTS */
BANDWIDTH = 81.0
CENTER_FILTER_WAVELENGTH = 955.5
RADIANCE_OFFSET = 0.376285
RADIANCE_SCALING_FACTOR = 0.00200991
REFLECTANCE_SCALING_FACTOR = 0.000195785
MEX:REFLECTANCE_OFFSET = 0.0366539
/* IMAGE OBJECT DEFINITIONS */
OBJECT = IMAGE
  INTERCHANGE_FORMAT = BINARY
  LINES = 17398
  LINE_SAMPLES = 2052
  SAMPLE_TYPE = UNSIGNED_INTEGER
  SAMPLE_BITS = 8
  BANDS = 1
  BAND_STORAGE_TYPE = BAND_SEQUENTIAL
  MAXIMUM = 255
  MEAN = 99.8023
  MINIMUM = 1
  STANDARD_DEVIATION = 25.704
END_OBJECT = IMAGE
/* MAP OBJECT DEFINITIONS */
OBJECT = IMAGE_MAP_PROJECTION
  ^DATA_SET_MAP_PROJECTION_CATALOG= "DSMAP.CAT"
  A_AXIS_RADIUS = 3396.0
  B_AXIS_RADIUS = 3396.0
  C_AXIS_RADIUS = 3396.0
  CENTER_LATITUDE = 0.0
  CENTER_LONGITUDE = 149.0
  COORDINATE_SYSTEM_NAME = PLANETOGRAPHIC
  COORDINATE_SYSTEM_TYPE = "BODY-FIXED ROTATING"
  EASTERNMOST_LONGITUDE = 149.588
  FIRST_STANDARD_PARALLEL = "N/A"
  LINE_FIRST_PIXEL = 1
  LINE_LAST_PIXEL = 17398
  LINE_PROJECTION_OFFSET = -24190.875
  MAP_PROJECTION_ROTATION = 0.0
  MAP_PROJECTION_TYPE = SINUSOIDAL
  MAP_RESOLUTION = 1185.42760773333
  MAP_SCALE = 0.05
  MAXIMUM_LATITUDE = -20.3713
  MINIMUM_LATITUDE = -35.0772
  POSITIVE_LONGITUDE_DIRECTION = EAST
  REFERENCE_LATITUDE = "N/A"
  REFERENCE_LONGITUDE = "N/A"
  SAMPLE_FIRST_PIXEL = 1
  SAMPLE_LAST_PIXEL = 2052
  SAMPLE_PROJECTION_OFFSET = 1442.125
  SECOND_STANDARD_PARALLEL = "N/A"
  WESTERNMOST_LONGITUDE = 147.584
END_OBJECT = IMAGE_MAP_PROJECTION
END
