PDS_VERSION_ID = PDS3
/* FILE DATA ELEMENTS */
RECORD_TYPE = UNDEFINED
/* POINTERS TO DATA OBJECTS */
^IMAGE = ("H4112_0000_P14.TIF")
/* IDENTIFICATION DATA ELEMENTS */
DATA_SET_ID = "MEX-M-HRSC-4-REFDR-MAPPROJECT-EXT1-V4.0"
DATA_SET_NAME = "MARS EXPRESS HRSC MAP PROJECTED REFDR EXTENSION1 V4.0"
DETECTOR_ID = MEX_HRSC_P1
EVENT_TYPE = "MARS-REGIONAL-MAPPING-Im-Fl-La"
INSTRUMENT_HOST_ID = MEX
INSTRUMENT_HOST_NAME = "MARS EXPRESS"
INSTRUMENT_ID = HRSC
INSTRUMENT_NAME = "HIGH RESOLUTION STEREO CAMERA"
MISSION_NAME = "MARS EXPRESS"
MISSION_PHASE_NAME = ME_Phase_7
PROCESSING_LEVEL_ID = 4
PRODUCT_CREATION_TIME = 2023-02-09T23:17:53.000Z
PRODUCT_ID = "H4112_0000_P14.TIF"
RELEASE_ID = 0005
REVISION_ID = 0000
/* QUALITY DATA ELEMENTS */
DATA_QUALITY_ID = 1
DATA_QUALITY_DESC = "Data calculated based on original SPICE kernels"
/* TIME DATA ELEMENTS */
SPACECRAFT_CLOCK_START_COUNT = "1/0122437465.07309"
SPACECRAFT_CLOCK_STOP_COUNT = "1/0122437745.40812"
START_TIME = 2007-03-20T02:28:08.014Z
STOP_TIME = 2007-03-20T02:28:58.408Z
/* ORBITAL DATA ELEMENTS */
ASCENDING_NODE_LONGITUDE = 142.16
MAXIMUM_RESOLUTION = 0.0508
FOOTPRINT_POINT_LATITUDE = (-7.96649,-7.96671,-7.96699,-7.96724, -7.9674,-7.96759,-7.96789,-7.96811, -7.96834,-7.96858,-7.96879,-7.96905, -7.96927,-7.9693,-7.97805,-7.91229, -7.84634,-7.78028,-7.65208,-7.55661, -7.42908,-7.30156,-7.17464,-7.01496, -6.85514,-6.75949,-6.63247,-6.53752, -6.442,-6.31422,-6.18313,-6.11718, -5.98747,-5.89089,-5.79303,-5.72743, -5.6288,-5.53011,-5.46402,-5.36467, -5.26273,-5.1636,-5.09779,-5.03209, -4.93395,-4.83569,-4.76992,-4.70387, -4.67086,-4.66929,-4.66835,-4.66811, -4.66765,-4.66738,-4.66642,-4.66653, -4.66613,-4.66553,-4.66463,-4.66478, -4.66476,-4.66554,-4.76393,-4.82972, -4.92852,-4.99464,-5.06077,-5.12651, -5.19229,-5.25813,-5.35693,-5.45564, -5.52153,-5.58746,-5.65349,-5.71935, -5.81799,-5.88372,-5.9496,-6.04858, -6.14748,-6.21341,-6.31152,-6.4388, -6.62959,-6.75698,-6.85272,-6.94864, -7.04419,-7.17165,-7.29914,-7.39452, -7.48984,-7.58517,-7.68056,-7.80978, -7.87593,-7.94285,-7.9768,-7.96649)
FOOTPRINT_POINT_LONGITUDE = (344.392,344.291,344.171,344.06,343.99, 343.909,343.789,343.708,343.628,343.548 ,343.477,343.397,343.326,343.316, 343.309,343.309,343.309,343.309,343.309 ,343.309,343.308,343.308,343.308, 343.308,343.308,343.308,343.307,343.307 ,343.307,343.307,343.306,343.306, 343.305,343.303,343.302,343.302,343.302 ,343.301,343.301,343.301,343.302, 343.302,343.302,343.301,343.301,343.3, 343.3,343.3,343.3,343.3,343.421,343.492 ,343.563,343.654,343.785,343.907, 343.998,344.15,344.281,344.373,344.383, 344.386,344.386,344.387,344.387,344.387 ,344.387,344.388,344.388,344.388, 344.388,344.388,344.389,344.389,344.389 ,344.389,344.389,344.389,344.39,344.39, 344.39,344.39,344.391,344.391,344.392, 344.392,344.393,344.393,344.394,344.394 ,344.395,344.395,344.395,344.395, 344.396,344.396,344.396,344.397,344.398 ,344.392)
ORBIT_NUMBER = 4112
ORBITAL_ECCENTRICITY = 0.571
ORBITAL_INCLINATION = 86.67
ORBITAL_SEMIMAJOR_AXIS = 8620.49
PERIAPSIS_ALTITUDE = 306.46
PERIAPSIS_ARGUMENT_ANGLE = 353.79
PERIAPSIS_TIME = 2007-03-20T02:28:18.000Z
SPACECRAFT_ORIENTATION = (0.0,1.0,0.0)
^MEX_ORIENTATION_DESC = "MEX_ORIENTATION_DESC.TXT"
SPACECRAFT_POINTING_MODE = NADIR
^MEX_POINTING_DESC = "MEX_POINTING_DESC.TXT"
RIGHT_ASCENSION = -1e+32
DECLINATION = -1e+32
OFFSET_ANGLE = -1e+32
SPACECRAFT_SOLAR_DISTANCE = 2.12569e+08
TARGET_NAME = MARS
/* CAMERA DATA ELEMENTS */
DETECTOR_TEMPERATURE = 17.7588
FOCAL_PLANE_TEMPERATURE = 8.9911
INST_CMPRS_NAME = "DISCRETE COSINE TRANSFORMATION (DCT)"
INST_CMPRS_RATIO = 11.6667
INST_CMPRS_QUALITY = 0
INST_CMPRS_QUANTZ_TBL_ID = 0
INSTRUMENT_TEMPERATURE = 11.4379
LENS_TEMPERATURE = 8.1755
MACROPIXEL_SIZE = 4
MISSING_FRAMES = 0
PIXEL_SUBSAMPLING_FLAG = N
SIGNAL_CHAIN_ID = 3
/* RADIOMETRIC DATA ELEMENTS */
BANDWIDTH = 174.0
CENTER_FILTER_WAVELENGTH = 675.0
RADIANCE_OFFSET = 2.43976
RADIANCE_SCALING_FACTOR = 0.00442949
REFLECTANCE_SCALING_FACTOR = 0.000107657
MEX:REFLECTANCE_OFFSET = 0.0592974
/* IMAGE OBJECT DEFINITIONS */
OBJECT = IMAGE
  INTERCHANGE_FORMAT = BINARY
  LINES = 2499
  LINE_SAMPLES = 1292
  SAMPLE_TYPE = UNSIGNED_INTEGER
  SAMPLE_BITS = 8
  BANDS = 1
  BAND_STORAGE_TYPE = BAND_SEQUENTIAL
  MAXIMUM = 255
  MEAN = 104.484
  MINIMUM = 15
  STANDARD_DEVIATION = 25.1562
END_OBJECT = IMAGE
/* MAP OBJECT DEFINITIONS */
OBJECT = IMAGE_MAP_PROJECTION
  ^DATA_SET_MAP_PROJECTION_CATALOG= "DSMAP.CAT"
  A_AXIS_RADIUS = 3396.0
  B_AXIS_RADIUS = 3396.0
  C_AXIS_RADIUS = 3396.0
  CENTER_LATITUDE = 0.0
  CENTER_LONGITUDE = 344.0
  COORDINATE_SYSTEM_NAME = PLANETOGRAPHIC
  COORDINATE_SYSTEM_TYPE = "BODY-FIXED ROTATING"
  EASTERNMOST_LONGITUDE = 344.398
  FIRST_STANDARD_PARALLEL = "N/A"
  LINE_FIRST_PIXEL = 1
  LINE_LAST_PIXEL = 2499
  LINE_PROJECTION_OFFSET = -5513.125
  MAP_PROJECTION_ROTATION = 0.0
  MAP_PROJECTION_TYPE = SINUSOIDAL
  MAP_RESOLUTION = 1185.42760773333
  MAP_SCALE = 0.05
  MAXIMUM_LATITUDE = -4.66463
  MINIMUM_LATITUDE = -7.97805
  POSITIVE_LONGITUDE_DIRECTION = EAST
  REFERENCE_LATITUDE = "N/A"
  REFERENCE_LONGITUDE = "N/A"
  SAMPLE_FIRST_PIXEL = 1
  SAMPLE_LAST_PIXEL = 1292
  SAMPLE_PROJECTION_OFFSET = 830.625
  SECOND_STANDARD_PARALLEL = "N/A"
  WESTERNMOST_LONGITUDE = 343.3
END_OBJECT = IMAGE_MAP_PROJECTION
END
