PDS_VERSION_ID = PDS3
/* FILE DATA ELEMENTS */
RECORD_TYPE = UNDEFINED
/* POINTERS TO DATA OBJECTS */
^IMAGE = ("H4111_0000_RE4.TIF")
/* IDENTIFICATION DATA ELEMENTS */
DATA_SET_ID = "MEX-M-HRSC-4-REFDR-MAPPROJECT-EXT1-V4.0"
DATA_SET_NAME = "MARS EXPRESS HRSC MAP PROJECTED REFDR EXTENSION1 V4.0"
DETECTOR_ID = MEX_HRSC_RED
EVENT_TYPE = "MARS-REGIONAL-MAPPING-Im-Fl"
INSTRUMENT_HOST_ID = MEX
INSTRUMENT_HOST_NAME = "MARS EXPRESS"
INSTRUMENT_ID = HRSC
INSTRUMENT_NAME = "HIGH RESOLUTION STEREO CAMERA"
MISSION_NAME = "MARS EXPRESS"
MISSION_PHASE_NAME = ME_Phase_7
PROCESSING_LEVEL_ID = 4
PRODUCT_CREATION_TIME = 2023-02-09T23:17:53.000Z
PRODUCT_ID = "H4111_0000_RE4.TIF"
RELEASE_ID = 0005
REVISION_ID = 0000
/* QUALITY DATA ELEMENTS */
DATA_QUALITY_ID = 1
DATA_QUALITY_DESC = "Data calculated based on original SPICE kernels"
/* TIME DATA ELEMENTS */
SPACECRAFT_CLOCK_START_COUNT = "1/0122413205.07299"
SPACECRAFT_CLOCK_STOP_COUNT = "1/0122413522.05476"
START_TIME = 2007-03-19T19:40:15.934Z
STOP_TIME = 2007-03-19T19:44:34.707Z
/* ORBITAL DATA ELEMENTS */
ASCENDING_NODE_LONGITUDE = 142.17
MAXIMUM_RESOLUTION = 0.1023 <m/pixel>
FOOTPRINT_POINT_LATITUDE = (-23.2849,-23.2851,-23.2831,-23.2775, -23.2774,-23.2652,-22.6889,-22.3035, -21.9186,-21.5328,-20.9772,-20.6522, -20.3266,-19.9995,-19.5083,-19.18, -18.852,-18.5227,-18.1925,-17.6955, -17.3642,-17.0331,-16.6999,-16.3669, -16.0433,-15.7202,-15.2304,-14.9053, -14.5852,-14.2576,-13.9428,-13.6257, -13.1494,-12.8319,-12.5137,-12.1954, -11.8764,-11.4028,-10.782,-10.3158, -9.85264,-9.54331,-9.2326,-8.92208, -8.60817,-8.29522,-7.98433,-7.67329, -7.35982,-7.04731,-6.89158,-6.88218, -6.88096,-6.87956,-6.8795,-6.88102, -7.35091,-7.82114,-8.28944,-8.91049, -9.22493,-9.53772,-9.84776,-10.1565, -10.6189,-11.2416,-11.7109,-12.0301, -12.3487,-12.6677,-12.986,-13.3019, -13.6196,-13.9359,-14.4146,-14.7408, -15.0666,-15.3908,-15.7155,-16.0392, -16.3596,-16.6969,-17.1855,-17.5178, -17.8526,-18.3554,-18.686,-19.1772, -19.5044,-19.8322,-20.1592,-20.486, -20.9754,-21.3369,-21.724,-22.1106, -22.4954,-23.0721,-23.2632,-23.2849)
FOOTPRINT_POINT_LONGITUDE = (82.8295,82.4631,81.9613,81.4049, 81.3913,81.3808,81.3951,81.4044,81.4138 ,81.423,81.4355,81.4427,81.4497,81.4562 ,81.4658,81.472,81.4783,81.4841,81.4897 ,81.4975,81.5028,81.5081,81.5128, 81.5173,81.5214,81.5258,81.5304,81.5341 ,81.5396,81.5423,81.5456,81.5482, 81.5519,81.5543,81.5566,81.5588,81.5607 ,81.5639,81.5659,81.5673,81.5697, 81.5711,81.572,81.573,81.5727,81.5728, 81.5736,81.5743,81.5742,81.5744,81.5746 ,81.5746,82.1245,82.6258,82.6359, 82.6426,82.6452,82.6477,82.6507,82.6559 ,82.657,82.6586,82.6612,82.6642,82.6689 ,82.6726,82.6769,82.6798,82.6828, 82.6856,82.6886,82.6924,82.6954,82.6989 ,82.7041,82.7078,82.7115,82.7157, 82.7195,82.7237,82.7289,82.7315,82.7421 ,82.7465,82.7499,82.7544,82.759,82.7672 ,82.7726,82.7776,82.7828,82.7878, 82.7953,82.8009,82.8072,82.8135,82.8201 ,82.8297,82.8332,82.8295)
ORBIT_NUMBER = 4111
ORBITAL_ECCENTRICITY = 0.571
ORBITAL_INCLINATION = 86.68
ORBITAL_SEMIMAJOR_AXIS = 8628.64
PERIAPSIS_ALTITUDE = 305.62
PERIAPSIS_ARGUMENT_ANGLE = 353.97
PERIAPSIS_TIME = 2007-03-19T19:45:11.000Z
SPACECRAFT_ORIENTATION = (0.0,1.0,0.0)
^MEX_ORIENTATION_DESC = "MEX_ORIENTATION_DESC.TXT"
SPACECRAFT_POINTING_MODE = NADIR
^MEX_POINTING_DESC = "MEX_POINTING_DESC.TXT"
RIGHT_ASCENSION = -1e+32
DECLINATION = -1e+32
OFFSET_ANGLE = -1e+32
SPACECRAFT_SOLAR_DISTANCE = 2.1261e+08
TARGET_NAME = MARS
/* CAMERA DATA ELEMENTS */
DETECTOR_TEMPERATURE = 18.5744 <degC>
FOCAL_PLANE_TEMPERATURE = 8.3794 <degC>
INST_CMPRS_NAME = "DISCRETE COSINE TRANSFORMATION (DCT)"
INST_CMPRS_RATIO = 16.8949
INST_CMPRS_QUALITY = 0
INST_CMPRS_QUANTZ_TBL_ID = 0
INSTRUMENT_TEMPERATURE = 11.0301 <degC>
LENS_TEMPERATURE = 8.9911 <degC>
MACROPIXEL_SIZE = 8
MISSING_FRAMES = 0
PIXEL_SUBSAMPLING_FLAG = N
SIGNAL_CHAIN_ID = 2
/* RADIOMETRIC DATA ELEMENTS */
BANDWIDTH = 48.0 <nm>
CENTER_FILTER_WAVELENGTH = 748.0 <nm>
RADIANCE_OFFSET = 0.563266 <W*m**-2*sr**-1>
RADIANCE_SCALING_FACTOR = 0.00215566 <W*m**-2*sr**-1>
REFLECTANCE_SCALING_FACTOR = 0.000222369
MEX:REFLECTANCE_OFFSET = 0.0581043
/* IMAGE OBJECT DEFINITIONS */
OBJECT = IMAGE
  INTERCHANGE_FORMAT = BINARY
  LINES = 9721
  LINE_SAMPLES = 766
  SAMPLE_TYPE = UNSIGNED_INTEGER
  SAMPLE_BITS = 8
  BANDS = 1
  BAND_STORAGE_TYPE = BAND_SEQUENTIAL
  MAXIMUM = 255
  MEAN = 97.4801
  MINIMUM = 1
  STANDARD_DEVIATION = 39.8784
END_OBJECT = IMAGE
/* MAP OBJECT DEFINITIONS */
OBJECT = IMAGE_MAP_PROJECTION
  ^DATA_SET_MAP_PROJECTION_CATALOG= "DSMAP.CAT"
  A_AXIS_RADIUS = 3396.0 <km>
  B_AXIS_RADIUS = 3396.0 <km>
  C_AXIS_RADIUS = 3396.0 <km>
  CENTER_LATITUDE = 0.0
  CENTER_LONGITUDE = 82.0
  COORDINATE_SYSTEM_NAME = PLANETOGRAPHIC
  COORDINATE_SYSTEM_TYPE = "BODY-FIXED ROTATING"
  EASTERNMOST_LONGITUDE = 82.83320000000001
  FIRST_STANDARD_PARALLEL = "N/A"
  LINE_FIRST_PIXEL = 1
  LINE_LAST_PIXEL = 9721
  LINE_PROJECTION_OFFSET = -4070.1875
  MAP_PROJECTION_ROTATION = 0.0
  MAP_PROJECTION_TYPE = SINUSOIDAL
  MAP_RESOLUTION = 592.713803866667 <pixel/degree>
  MAP_SCALE = 0.1 <km/pixel>
  MAXIMUM_LATITUDE = -6.8795
  MINIMUM_LATITUDE = -23.2851
  POSITIVE_LONGITUDE_DIRECTION = EAST
  REFERENCE_LATITUDE = "N/A"
  REFERENCE_LONGITUDE = "N/A"
  SAMPLE_FIRST_PIXEL = 1
  SAMPLE_LAST_PIXEL = 766
  SAMPLE_PROJECTION_OFFSET = 327.1875
  SECOND_STANDARD_PARALLEL = "N/A"
  WESTERNMOST_LONGITUDE = 81.38079999999999
END_OBJECT = IMAGE_MAP_PROJECTION
END
