PDS_VERSION_ID = PDS3
/* FILE DATA ELEMENTS */
RECORD_TYPE = UNDEFINED
/* POINTERS TO DATA OBJECTS */
^IMAGE = ("H4108_0000_S24.TIF")
/* IDENTIFICATION DATA ELEMENTS */
DATA_SET_ID = "MEX-M-HRSC-4-REFDR-MAPPROJECT-EXT1-V4.0"
DATA_SET_NAME = "MARS EXPRESS HRSC MAP PROJECTED REFDR EXTENSION1 V4.0"
DETECTOR_ID = MEX_HRSC_S2
EVENT_TYPE = "MARS-GLOBAL-MAPPING-Te-Im-Eo"
INSTRUMENT_HOST_ID = MEX
INSTRUMENT_HOST_NAME = "MARS EXPRESS"
INSTRUMENT_ID = HRSC
INSTRUMENT_NAME = "HIGH RESOLUTION STEREO CAMERA"
MISSION_NAME = "MARS EXPRESS"
MISSION_PHASE_NAME = ME_Phase_7
PROCESSING_LEVEL_ID = 4
PRODUCT_CREATION_TIME = 2023-02-09T23:17:53.000Z
PRODUCT_ID = "H4108_0000_S24.TIF"
RELEASE_ID = 0005
REVISION_ID = 0000
/* QUALITY DATA ELEMENTS */
DATA_QUALITY_ID = 1
DATA_QUALITY_DESC = "Data calculated based on original SPICE kernels"
/* TIME DATA ELEMENTS */
SPACECRAFT_CLOCK_START_COUNT = "1/0122340362.09055"
SPACECRAFT_CLOCK_STOP_COUNT = "1/0122340731.40122"
START_TIME = 2007-03-18T23:26:06.346Z
STOP_TIME = 2007-03-18T23:31:03.567Z
/* ORBITAL DATA ELEMENTS */
ASCENDING_NODE_LONGITUDE = 142.24
MAXIMUM_RESOLUTION = 0.0328
FOOTPRINT_POINT_LATITUDE = (-37.9012,-37.9538,-37.9883,-38.0198, -38.0482,-38.0739,-38.0971,-38.0984, -38.0565,-37.6638,-37.2762,-36.8996, -36.3314,-35.9446,-35.5681,-35.2003, -34.8278,-34.4542,-34.0898,-33.5546, -33.197,-32.665,-32.3112,-31.9635, -31.6152,-31.2714,-30.7604,-30.2483, -29.9161,-29.5833,-29.0864,-28.5934, -28.106,-27.7803,-27.462,-27.1427, -26.8239,-26.5108,-26.1968,-25.7296, -25.4245,-25.1211,-24.6608,-24.3586, -24.0545,-23.7547,-23.4525,-22.7039, -22.1188,-21.5309,-21.3836,-21.35, -21.2766,-21.2278,-21.1596,-21.1574, -21.1571,-21.8921,-22.4771,-23.0722, -23.6677,-23.9715,-24.4254,-24.7279, -25.037,-25.3476,-25.6553,-25.9681, -26.2816,-26.5943,-26.9119,-27.2313, -27.5493,-28.0347,-28.3587,-28.6877, -29.181,-29.5153,-30.0148,-30.3559, -30.6955,-31.0362,-31.3786,-31.9043, -32.2567,-32.6109,-33.1387,-33.4949, -33.8573,-34.2214,-34.5876,-34.9561, -35.5152,-35.8896,-36.2754,-36.6573, -37.041,-37.6237,-37.8204,-37.9012)
FOOTPRINT_POINT_LONGITUDE = (20.7182,20.1031,19.6648,19.2338, 18.8103,18.3929,17.9814,17.9559,17.9629 ,17.9801,17.9963,18.0087,18.0294, 18.0467,18.0607,18.072,18.0853,18.1004, 18.1119,18.1255,18.1361,18.1512,18.161, 18.1699,18.1785,18.1872,18.1982,18.2112 ,18.2173,18.2234,18.2337,18.2424,18.252 ,18.2579,18.263,18.2681,18.2729,18.2773 ,18.2816,18.2877,18.2897,18.2901, 18.2967,18.2993,18.3023,18.3048,18.3102 ,18.3189,18.3234,18.3277,18.3288,18.329 ,18.9624,19.3654,19.9012,19.9179, 19.9239,19.9481,19.9681,19.9888,20.0104 ,20.0209,20.0398,20.0516,20.0634, 20.0737,20.0865,20.0988,20.1125,20.1263 ,20.1401,20.1535,20.1677,20.1904, 20.2043,20.219,20.2417,20.2572,20.2826, 20.2976,20.3133,20.3338,20.3526,20.3766 ,20.3925,20.411,20.4474,20.4696,20.4911 ,20.5128,20.5355,20.5602,20.5965, 20.6223,20.6414,20.6679,20.6958,20.7389 ,20.7525,20.7182)
ORBIT_NUMBER = 4108
ORBITAL_ECCENTRICITY = 0.571
ORBITAL_INCLINATION = 86.66
ORBITAL_SEMIMAJOR_AXIS = 8626.03
PERIAPSIS_ALTITUDE = 306.76
PERIAPSIS_ARGUMENT_ANGLE = 354.52
PERIAPSIS_TIME = 2007-03-18T23:35:43.000Z
SPACECRAFT_ORIENTATION = (0.0,1.0,0.0)
^MEX_ORIENTATION_DESC = "MEX_ORIENTATION_DESC.TXT"
SPACECRAFT_POINTING_MODE = ACROSSTRACK
^MEX_POINTING_DESC = "MEX_POINTING_DESC.TXT"
RIGHT_ASCENSION = -1e+32
DECLINATION = -1e+32
OFFSET_ANGLE = -2.0
SPACECRAFT_SOLAR_DISTANCE = 2.12732e+08
TARGET_NAME = MARS
/* CAMERA DATA ELEMENTS */
DETECTOR_TEMPERATURE = 18.9822
FOCAL_PLANE_TEMPERATURE = 8.7872
INST_CMPRS_NAME = "DISCRETE COSINE TRANSFORMATION (DCT)"
INST_CMPRS_RATIO = 9.19138
INST_CMPRS_QUALITY = 0
INST_CMPRS_QUANTZ_TBL_ID = 0
INSTRUMENT_TEMPERATURE = 11.4379
LENS_TEMPERATURE = 9.195
MACROPIXEL_SIZE = 2
MISSING_FRAMES = 0
PIXEL_SUBSAMPLING_FLAG = N
SIGNAL_CHAIN_ID = 1
/* RADIOMETRIC DATA ELEMENTS */
BANDWIDTH = 178.0
CENTER_FILTER_WAVELENGTH = 679.0
RADIANCE_OFFSET = 2.09631
RADIANCE_SCALING_FACTOR = 0.00940732
REFLECTANCE_SCALING_FACTOR = 0.000225457
MEX:REFLECTANCE_OFFSET = 0.0502404
/* IMAGE OBJECT DEFINITIONS */
OBJECT = IMAGE
  INTERCHANGE_FORMAT = BINARY
  LINES = 39671
  LINE_SAMPLES = 4726
  SAMPLE_TYPE = UNSIGNED_INTEGER
  SAMPLE_BITS = 8
  BANDS = 1
  BAND_STORAGE_TYPE = BAND_SEQUENTIAL
  MAXIMUM = 255
  MEAN = 91.2338
  MINIMUM = 1
  STANDARD_DEVIATION = 22.381
END_OBJECT = IMAGE
/* MAP OBJECT DEFINITIONS */
OBJECT = IMAGE_MAP_PROJECTION
  ^DATA_SET_MAP_PROJECTION_CATALOG= "DSMAP.CAT"
  A_AXIS_RADIUS = 3396.0
  B_AXIS_RADIUS = 3396.0
  C_AXIS_RADIUS = 3396.0
  CENTER_LATITUDE = 0.0
  CENTER_LONGITUDE = 19.0
  COORDINATE_SYSTEM_NAME = PLANETOGRAPHIC
  COORDINATE_SYSTEM_TYPE = "BODY-FIXED ROTATING"
  EASTERNMOST_LONGITUDE = 20.7525
  FIRST_STANDARD_PARALLEL = "N/A"
  LINE_FIRST_PIXEL = 1
  LINE_LAST_PIXEL = 39671
  LINE_PROJECTION_OFFSET = -50340.25
  MAP_PROJECTION_ROTATION = 0.0
  MAP_PROJECTION_TYPE = SINUSOIDAL
  MAP_RESOLUTION = 2370.85521546667
  MAP_SCALE = 0.025
  MAXIMUM_LATITUDE = -21.1571
  MINIMUM_LATITUDE = -38.0984
  POSITIVE_LONGITUDE_DIRECTION = EAST
  REFERENCE_LATITUDE = "N/A"
  REFERENCE_LONGITUDE = "N/A"
  SAMPLE_FIRST_PIXEL = 1
  SAMPLE_LAST_PIXEL = 4726
  SAMPLE_PROJECTION_OFFSET = 1754.25
  SECOND_STANDARD_PARALLEL = "N/A"
  WESTERNMOST_LONGITUDE = 17.9559
END_OBJECT = IMAGE_MAP_PROJECTION
END
