PDS_VERSION_ID = PDS3
/* FILE DATA ELEMENTS */
RECORD_TYPE = UNDEFINED
/* POINTERS TO DATA OBJECTS */
^IMAGE = ("H4105_0000_S14.TIF")
/* IDENTIFICATION DATA ELEMENTS */
DATA_SET_ID = "MEX-M-HRSC-4-REFDR-MAPPROJECT-EXT1-V4.0"
DATA_SET_NAME = "MARS EXPRESS HRSC MAP PROJECTED REFDR EXTENSION1 V4.0"
DETECTOR_ID = MEX_HRSC_S1
EVENT_TYPE = "MARS-REGIONAL-MAPPING-Te-Fl"
INSTRUMENT_HOST_ID = MEX
INSTRUMENT_HOST_NAME = "MARS EXPRESS"
INSTRUMENT_ID = HRSC
INSTRUMENT_NAME = "HIGH RESOLUTION STEREO CAMERA"
MISSION_NAME = "MARS EXPRESS"
MISSION_PHASE_NAME = ME_Phase_7
PROCESSING_LEVEL_ID = 4
PRODUCT_CREATION_TIME = 2023-02-09T23:17:53.000Z
PRODUCT_ID = "H4105_0000_S14.TIF"
RELEASE_ID = 0005
REVISION_ID = 0000
/* QUALITY DATA ELEMENTS */
DATA_QUALITY_ID = 1
DATA_QUALITY_DESC = "Data calculated based on original SPICE kernels"
/* TIME DATA ELEMENTS */
SPACECRAFT_CLOCK_START_COUNT = "1/0122267928.08225"
SPACECRAFT_CLOCK_STOP_COUNT = "1/0122268182.33338"
START_TIME = 2007-03-18T03:20:18.689Z
STOP_TIME = 2007-03-18T03:23:04.678Z
/* ORBITAL DATA ELEMENTS */
ASCENDING_NODE_LONGITUDE = 142.3
MAXIMUM_RESOLUTION = 0.0145
FOOTPRINT_POINT_LATITUDE = (-30.3283,-30.3213,-30.3154,-30.3093, -30.3031,-30.2966,-30.2899,-30.2895, -30.3141,-30.0675,-29.8233,-29.5833, -29.344,-29.1041,-28.8638,-28.6276, -28.3935,-28.1585,-27.9239,-27.6894, -27.4543,-27.2188,-26.8658,-26.5128, -26.2773,-26.0418,-25.8067,-25.5705, -25.3342,-25.0981,-24.8624,-24.6256, -24.271,-24.0338,-23.684,-23.1882, -22.8913,-22.4961,-22.195,-21.8979, -21.5015,-21.3028,-21.1039,-20.9039, -20.7045,-20.3083,-19.9116,-19.7128, -19.4147,-19.3153,-19.3148,-19.3205, -19.326,-19.3347,-19.3418,-19.347, -19.3471,-19.3475,-19.6451,-20.0413, -20.4381,-20.6383,-20.838,-21.0372, -21.2362,-21.4348,-21.6337,-21.8331, -22.2302,-22.528,-22.9247,-23.3214, -23.7183,-23.9489,-24.1859,-24.4227, -24.6591,-25.0141,-25.2506,-25.4871, -25.7244,-25.961,-26.1959,-26.4311, -26.6667,-27.0203,-27.2555,-27.6084, -27.8433,-28.0775,-28.3113,-28.5457, -28.7794,-29.0189,-29.3818,-29.6233, -29.8649,-30.2317,-30.3589,-30.3283)
FOOTPRINT_POINT_LONGITUDE = (313.001,312.66,312.39,312.12,311.852, 311.586,311.32,311.303,311.291,311.299, 311.307,311.315,311.323,311.33,311.338, 311.345,311.352,311.359,311.366,311.372 ,311.379,311.385,311.395,311.404,311.41 ,311.416,311.421,311.427,311.433, 311.438,311.443,311.449,311.456,311.461 ,311.468,311.478,311.484,311.491, 311.496,311.501,311.508,311.511,311.514 ,311.517,311.52,311.526,311.531,311.534 ,311.538,311.539,311.539,311.799, 312.023,312.337,312.578,312.795,312.808 ,312.814,312.818,312.823,312.828, 312.832,312.836,312.839,312.842,312.845 ,312.849,312.852,312.859,312.864,312.87 ,312.877,312.884,312.888,312.892, 312.897,312.901,312.908,312.912,312.917 ,312.922,312.927,312.931,312.935,312.94 ,312.947,312.951,312.958,312.963, 312.967,312.971,312.976,312.98,312.986, 312.994,313.0,313.006,313.013,313.018, 313.001)
ORBIT_NUMBER = 4105
ORBITAL_ECCENTRICITY = 0.57
ORBITAL_INCLINATION = 86.68
ORBITAL_SEMIMAJOR_AXIS = 8621.5
PERIAPSIS_ALTITUDE = 306.95
PERIAPSIS_ARGUMENT_ANGLE = 355.07
PERIAPSIS_TIME = 2007-03-18T03:26:15.000Z
SPACECRAFT_ORIENTATION = (0.0,1.0,0.0)
^MEX_ORIENTATION_DESC = "MEX_ORIENTATION_DESC.TXT"
SPACECRAFT_POINTING_MODE = ACROSSTRACK
^MEX_POINTING_DESC = "MEX_POINTING_DESC.TXT"
RIGHT_ASCENSION = -1e+32
DECLINATION = -1e+32
OFFSET_ANGLE = -0.4
SPACECRAFT_SOLAR_DISTANCE = 2.12854e+08
TARGET_NAME = MARS
/* CAMERA DATA ELEMENTS */
DETECTOR_TEMPERATURE = 18.1666
FOCAL_PLANE_TEMPERATURE = 10.0106
INST_CMPRS_NAME = "DISCRETE COSINE TRANSFORMATION (DCT)"
INST_CMPRS_RATIO = 5.89546
INST_CMPRS_QUALITY = 0
INST_CMPRS_QUANTZ_TBL_ID = 0
INSTRUMENT_TEMPERATURE = 12.0496
LENS_TEMPERATURE = 10.4184
MACROPIXEL_SIZE = 1
MISSING_FRAMES = 0
PIXEL_SUBSAMPLING_FLAG = N
SIGNAL_CHAIN_ID = 2
/* RADIOMETRIC DATA ELEMENTS */
BANDWIDTH = 180.0
CENTER_FILTER_WAVELENGTH = 677.0
RADIANCE_OFFSET = 2.23181
RADIANCE_SCALING_FACTOR = 0.00539136
REFLECTANCE_SCALING_FACTOR = 0.000127441
MEX:REFLECTANCE_OFFSET = 0.0527556
/* IMAGE OBJECT DEFINITIONS */
OBJECT = IMAGE
  INTERCHANGE_FORMAT = BINARY
  LINES = 52151
  LINE_SAMPLES = 7455
  SAMPLE_TYPE = UNSIGNED_INTEGER
  SAMPLE_BITS = 8
  BANDS = 1
  BAND_STORAGE_TYPE = BAND_SEQUENTIAL
  MAXIMUM = 255
  MEAN = 120.695
  MINIMUM = 1
  STANDARD_DEVIATION = 26.5033
END_OBJECT = IMAGE
/* MAP OBJECT DEFINITIONS */
OBJECT = IMAGE_MAP_PROJECTION
  ^DATA_SET_MAP_PROJECTION_CATALOG= "DSMAP.CAT"
  A_AXIS_RADIUS = 3396.0
  B_AXIS_RADIUS = 3396.0
  C_AXIS_RADIUS = 3396.0
  CENTER_LATITUDE = 0.0
  CENTER_LONGITUDE = 312.0
  COORDINATE_SYSTEM_NAME = PLANETOGRAPHIC
  COORDINATE_SYSTEM_TYPE = "BODY-FIXED ROTATING"
  EASTERNMOST_LONGITUDE = 313.018
  FIRST_STANDARD_PARALLEL = "N/A"
  LINE_FIRST_PIXEL = 1
  LINE_LAST_PIXEL = 52151
  LINE_PROJECTION_OFFSET = -91715.0
  MAP_PROJECTION_ROTATION = 0.0
  MAP_PROJECTION_TYPE = SINUSOIDAL
  MAP_RESOLUTION = 4741.71043093333
  MAP_SCALE = 0.0125
  MAXIMUM_LATITUDE = -19.3148
  MINIMUM_LATITUDE = -30.3589
  POSITIVE_LONGITUDE_DIRECTION = EAST
  REFERENCE_LATITUDE = "N/A"
  REFERENCE_LONGITUDE = "N/A"
  SAMPLE_FIRST_PIXEL = 1
  SAMPLE_LAST_PIXEL = 7455
  SAMPLE_PROJECTION_OFFSET = 3117.0
  SECOND_STANDARD_PARALLEL = "N/A"
  WESTERNMOST_LONGITUDE = 311.291
END_OBJECT = IMAGE_MAP_PROJECTION
END
