PDS_VERSION_ID = PDS3
/* FILE DATA ELEMENTS */
RECORD_TYPE = UNDEFINED
/* POINTERS TO DATA OBJECTS */
^IMAGE = ("H4098_0000_RE4.TIF")
/* IDENTIFICATION DATA ELEMENTS */
DATA_SET_ID = "MEX-M-HRSC-4-REFDR-MAPPROJECT-EXT1-V4.0"
DATA_SET_NAME = "MARS EXPRESS HRSC MAP PROJECTED REFDR EXTENSION1 V4.0"
DETECTOR_ID = MEX_HRSC_RED
EVENT_TYPE = "MARS-REGIONAL-MAPPING-Vo-Te"
INSTRUMENT_HOST_ID = MEX
INSTRUMENT_HOST_NAME = "MARS EXPRESS"
INSTRUMENT_ID = HRSC
INSTRUMENT_NAME = "HIGH RESOLUTION STEREO CAMERA"
MISSION_NAME = "MARS EXPRESS"
MISSION_PHASE_NAME = ME_Phase_7
PROCESSING_LEVEL_ID = 4
PRODUCT_CREATION_TIME = 2023-02-09T23:17:53.000Z
PRODUCT_ID = "H4098_0000_RE4.TIF"
RELEASE_ID = 0005
REVISION_ID = 0000
/* QUALITY DATA ELEMENTS */
DATA_QUALITY_ID = 1
DATA_QUALITY_DESC = "Data calculated based on original SPICE kernels"
/* TIME DATA ELEMENTS */
SPACECRAFT_CLOCK_START_COUNT = "1/0122098701.07282"
SPACECRAFT_CLOCK_STOP_COUNT = "1/0122098930.16122"
START_TIME = 2007-03-16T04:18:32.431Z
STOP_TIME = 2007-03-16T04:21:18.508Z
/* ORBITAL DATA ELEMENTS */
ASCENDING_NODE_LONGITUDE = 142.44
MAXIMUM_RESOLUTION = 0.1115
FOOTPRINT_POINT_LATITUDE = (-23.9469,-23.9473,-23.9465,-23.945, -23.9414,-23.9386,-23.9384,-23.9359, -23.6074,-23.3879,-23.1729,-22.9582, -22.7434,-22.4203,-22.2049,-21.9889, -21.7725,-21.5558,-21.3387,-21.1212, -20.9031,-20.6848,-20.4667,-20.2482, -19.92,-19.7008,-19.4805,-19.2601, -19.0394,-18.8184,-18.6177,-18.2467, -17.8749,-17.6886,-17.502,-17.3154, -17.1286,-16.8482,-16.661,-16.2876, -16.1004,-15.8179,-15.6291,-15.3447, -15.1546,-14.9655,-14.6814,-14.492, -14.3021,-14.112,-13.9217,-13.8293, -13.7614,-13.7628,-13.7624,-13.7611, -13.761,-13.7626,-14.0432,-14.2334, -14.4235,-14.7086,-14.8987,-15.185, -15.4696,-15.6596,-15.8485,-16.0371, -16.224,-16.5036,-16.7818,-17.1561, -17.3431,-17.5301,-17.9029,-18.2754, -18.647,-18.8528,-19.0733,-19.4037, -19.624,-19.8438,-20.1735,-20.3924, -20.611,-20.8297,-21.0479,-21.3738, -21.591,-21.8081,-22.0245,-22.2411, -22.4573,-22.7807,-22.9963,-23.2099, -23.5359,-23.7556,-23.8654,-23.9469)
FOOTPRINT_POINT_LONGITUDE = (280.368,279.971,279.663,279.428, 279.047,278.827,278.812,278.804,278.814 ,278.821,278.827,278.833,278.839, 278.848,278.854,278.859,278.865,278.871 ,278.876,278.881,278.886,278.891, 278.897,278.902,278.909,278.914,278.918 ,278.923,278.927,278.931,278.935, 278.942,278.949,278.953,278.956,278.959 ,278.962,278.967,278.97,278.976,278.98, 278.984,278.986,278.99,278.992,278.994, 278.998,279.001,279.003,279.005,279.007 ,279.008,279.009,279.521,279.9,280.179, 280.19,280.197,280.201,280.204,280.206, 280.21,280.212,280.215,280.219,280.221, 280.224,280.226,280.229,280.235,280.24, 280.246,280.249,280.252,280.258,280.263 ,280.269,280.273,280.277,280.282, 280.286,280.29,280.295,280.299,280.303, 280.307,280.311,280.317,280.321,280.326 ,280.33,280.334,280.338,280.344,280.348 ,280.353,280.36,280.364,280.366, 280.368)
ORBIT_NUMBER = 4098
ORBITAL_ECCENTRICITY = 0.571
ORBITAL_INCLINATION = 86.67
ORBITAL_SEMIMAJOR_AXIS = 8631.32
PERIAPSIS_ALTITUDE = 307.17
PERIAPSIS_ARGUMENT_ANGLE = 356.3
PERIAPSIS_TIME = 2007-03-16T04:24:17.000Z
SPACECRAFT_ORIENTATION = (0.0,1.0,0.0)
^MEX_ORIENTATION_DESC = "MEX_ORIENTATION_DESC.TXT"
SPACECRAFT_POINTING_MODE = NADIR
^MEX_POINTING_DESC = "MEX_POINTING_DESC.TXT"
RIGHT_ASCENSION = -1e+32
DECLINATION = -1e+32
OFFSET_ANGLE = -1e+32
SPACECRAFT_SOLAR_DISTANCE = 2.13145e+08
TARGET_NAME = MARS
/* CAMERA DATA ELEMENTS */
DETECTOR_TEMPERATURE = 18.7783
FOCAL_PLANE_TEMPERATURE = 8.9911
INST_CMPRS_NAME = "DISCRETE COSINE TRANSFORMATION (DCT)"
INST_CMPRS_RATIO = 12.4047
INST_CMPRS_QUALITY = 0
INST_CMPRS_QUANTZ_TBL_ID = 0
INSTRUMENT_TEMPERATURE = 11.234
LENS_TEMPERATURE = 10.4184
MACROPIXEL_SIZE = 8
MISSING_FRAMES = 0
PIXEL_SUBSAMPLING_FLAG = N
SIGNAL_CHAIN_ID = 2
/* RADIOMETRIC DATA ELEMENTS */
BANDWIDTH = 48.0
CENTER_FILTER_WAVELENGTH = 748.0
RADIANCE_OFFSET = 0.420762
RADIANCE_SCALING_FACTOR = 0.00280954
REFLECTANCE_SCALING_FACTOR = 0.000291282
MEX:REFLECTANCE_OFFSET = 0.043623
/* IMAGE OBJECT DEFINITIONS */
OBJECT = IMAGE
  INTERCHANGE_FORMAT = BINARY
  LINES = 6037
  LINE_SAMPLES = 814
  SAMPLE_TYPE = UNSIGNED_INTEGER
  SAMPLE_BITS = 8
  BANDS = 1
  BAND_STORAGE_TYPE = BAND_SEQUENTIAL
  MAXIMUM = 255
  MEAN = 72.7578
  MINIMUM = 1
  STANDARD_DEVIATION = 20.0343
END_OBJECT = IMAGE
/* MAP OBJECT DEFINITIONS */
OBJECT = IMAGE_MAP_PROJECTION
  ^DATA_SET_MAP_PROJECTION_CATALOG= "DSMAP.CAT"
  A_AXIS_RADIUS = 3396.0
  B_AXIS_RADIUS = 3396.0
  C_AXIS_RADIUS = 3396.0
  CENTER_LATITUDE = 0.0
  CENTER_LONGITUDE = 280.0
  COORDINATE_SYSTEM_NAME = PLANETOGRAPHIC
  COORDINATE_SYSTEM_TYPE = "BODY-FIXED ROTATING"
  EASTERNMOST_LONGITUDE = 280.368
  FIRST_STANDARD_PARALLEL = "N/A"
  LINE_FIRST_PIXEL = 1
  LINE_LAST_PIXEL = 6037
  LINE_PROJECTION_OFFSET = -8144.5625
  MAP_PROJECTION_ROTATION = 0.0
  MAP_PROJECTION_TYPE = SINUSOIDAL
  MAP_RESOLUTION = 592.713803866667
  MAP_SCALE = 0.1
  MAXIMUM_LATITUDE = -13.761
  MINIMUM_LATITUDE = -23.9473
  POSITIVE_LONGITUDE_DIRECTION = EAST
  REFERENCE_LATITUDE = "N/A"
  REFERENCE_LONGITUDE = "N/A"
  SAMPLE_FIRST_PIXEL = 1
  SAMPLE_LAST_PIXEL = 814
  SAMPLE_PROJECTION_OFFSET = 633.9375
  SECOND_STANDARD_PARALLEL = "N/A"
  WESTERNMOST_LONGITUDE = 278.804
END_OBJECT = IMAGE_MAP_PROJECTION
END
