PDS_VERSION_ID = PDS3
/* FILE DATA ELEMENTS */
RECORD_TYPE = UNDEFINED
/* POINTERS TO DATA OBJECTS */
^IMAGE = ("H4098_0000_P14.TIF")
/* IDENTIFICATION DATA ELEMENTS */
DATA_SET_ID = "MEX-M-HRSC-4-REFDR-MAPPROJECT-EXT1-V4.0"
DATA_SET_NAME = "MARS EXPRESS HRSC MAP PROJECTED REFDR EXTENSION1 V4.0"
DETECTOR_ID = MEX_HRSC_P1
EVENT_TYPE = "MARS-REGIONAL-MAPPING-Vo-Te"
INSTRUMENT_HOST_ID = MEX
INSTRUMENT_HOST_NAME = "MARS EXPRESS"
INSTRUMENT_ID = HRSC
INSTRUMENT_NAME = "HIGH RESOLUTION STEREO CAMERA"
MISSION_NAME = "MARS EXPRESS"
MISSION_PHASE_NAME = ME_Phase_7
PROCESSING_LEVEL_ID = 4
PRODUCT_CREATION_TIME = 2023-02-09T23:17:53.000Z
PRODUCT_ID = "H4098_0000_P14.TIF"
RELEASE_ID = 0005
REVISION_ID = 0000
/* QUALITY DATA ELEMENTS */
DATA_QUALITY_ID = 1
DATA_QUALITY_DESC = "Data calculated based on original SPICE kernels"
/* TIME DATA ELEMENTS */
SPACECRAFT_CLOCK_START_COUNT = "1/0122098701.07282"
SPACECRAFT_CLOCK_STOP_COUNT = "1/0122098930.16122"
START_TIME = 2007-03-16T04:19:27.831Z
STOP_TIME = 2007-03-16T04:22:02.664Z
/* ORBITAL DATA ELEMENTS */
ASCENDING_NODE_LONGITUDE = 142.44
MAXIMUM_RESOLUTION = 0.0263
FOOTPRINT_POINT_LATITUDE = (-23.914,-23.9134,-23.9127,-23.912, -23.911,-23.9089,-23.9088,-23.9085, -23.555,-23.3189,-22.9647,-22.6103, -22.3739,-22.1373,-21.9004,-21.6991, -21.5007,-21.2028,-21.0042,-20.8057, -20.5074,-20.3083,-20.0093,-19.8098, -19.6106,-19.4116,-19.1128,-18.9135, -18.6145,-18.315,-18.0153,-17.8155, -17.6157,-17.4159,-17.2158,-17.0158, -16.7182,-16.5243,-16.3296,-16.0378, -15.7472,-15.5537,-15.1676,-14.8767, -14.6827,-14.3961,-13.8335,-13.7397, -13.7193,-13.719,-13.7191,-13.7188, -13.7184,-13.7184,-13.7188,-14.0942, -14.3756,-14.6614,-14.8549,-15.048, -15.3376,-15.6271,-15.8209,-16.1118, -16.4052,-16.6009,-16.7953,-16.9951, -17.1955,-17.3954,-17.5954,-17.8954, -18.0952,-18.2949,-18.4945,-18.694, -18.8937,-19.0936,-19.2933,-19.4927, -19.7917,-19.9907,-20.1899,-20.3891, -20.6877,-20.8865,-21.185,-21.3841, -21.5827,-21.7812,-21.9979,-22.2345, -22.471,-22.7074,-23.0623,-23.2988, -23.535,-23.7709,-23.8888,-23.914)
FOOTPRINT_POINT_LONGITUDE = (280.309,279.957,279.717,279.506, 279.281,278.872,278.858,278.853,278.862 ,278.868,278.877,278.885,278.891, 278.896,278.902,278.906,278.91,278.917, 278.921,278.924,278.93,278.934,278.94, 278.944,278.947,278.951,278.956,278.959 ,278.964,278.969,278.973,278.976, 278.979,278.982,278.985,278.988,278.992 ,278.994,278.997,279.001,279.005, 279.007,279.01,279.013,279.015,279.018, 279.023,279.024,279.024,279.225,279.503 ,279.748,280.16,280.172,280.176,280.179 ,280.182,280.185,280.187,280.189, 280.191,280.194,280.196,280.2,280.204, 280.208,280.21,280.213,280.215,280.218, 280.22,280.224,280.226,280.229,280.231, 280.234,280.237,280.239,280.242,280.245 ,280.249,280.251,280.254,280.257, 280.261,280.264,280.268,280.271,280.274 ,280.277,280.28,280.284,280.287,280.291 ,280.296,280.3,280.304,280.307,280.309, 280.309)
ORBIT_NUMBER = 4098
ORBITAL_ECCENTRICITY = 0.571
ORBITAL_INCLINATION = 86.67
ORBITAL_SEMIMAJOR_AXIS = 8631.32
PERIAPSIS_ALTITUDE = 307.17
PERIAPSIS_ARGUMENT_ANGLE = 356.3
PERIAPSIS_TIME = 2007-03-16T04:24:17.000Z
SPACECRAFT_ORIENTATION = (0.0,1.0,0.0)
^MEX_ORIENTATION_DESC = "MEX_ORIENTATION_DESC.TXT"
SPACECRAFT_POINTING_MODE = NADIR
^MEX_POINTING_DESC = "MEX_POINTING_DESC.TXT"
RIGHT_ASCENSION = -1e+32
DECLINATION = -1e+32
OFFSET_ANGLE = -1e+32
SPACECRAFT_SOLAR_DISTANCE = 2.13145e+08
TARGET_NAME = MARS
/* CAMERA DATA ELEMENTS */
DETECTOR_TEMPERATURE = 17.5549
FOCAL_PLANE_TEMPERATURE = 8.9911
INST_CMPRS_NAME = "DISCRETE COSINE TRANSFORMATION (DCT)"
INST_CMPRS_RATIO = 9.18769
INST_CMPRS_QUALITY = 0
INST_CMPRS_QUANTZ_TBL_ID = 0
INSTRUMENT_TEMPERATURE = 11.234
LENS_TEMPERATURE = 10.4184
MACROPIXEL_SIZE = 2
MISSING_FRAMES = 0
PIXEL_SUBSAMPLING_FLAG = N
SIGNAL_CHAIN_ID = 3
/* RADIOMETRIC DATA ELEMENTS */
BANDWIDTH = 174.0
CENTER_FILTER_WAVELENGTH = 675.0
RADIANCE_OFFSET = 1.61762
RADIANCE_SCALING_FACTOR = 0.00991188
REFLECTANCE_SCALING_FACTOR = 0.000242211
MEX:REFLECTANCE_OFFSET = 0.0395289
/* IMAGE OBJECT DEFINITIONS */
OBJECT = IMAGE
  INTERCHANGE_FORMAT = BINARY
  LINES = 24147
  LINE_SAMPLES = 3254
  SAMPLE_TYPE = UNSIGNED_INTEGER
  SAMPLE_BITS = 8
  BANDS = 1
  BAND_STORAGE_TYPE = BAND_SEQUENTIAL
  MAXIMUM = 255
  MEAN = 70.4863
  MINIMUM = 1
  STANDARD_DEVIATION = 18.3279
END_OBJECT = IMAGE
/* MAP OBJECT DEFINITIONS */
OBJECT = IMAGE_MAP_PROJECTION
  ^DATA_SET_MAP_PROJECTION_CATALOG= "DSMAP.CAT"
  A_AXIS_RADIUS = 3396.0
  B_AXIS_RADIUS = 3396.0
  C_AXIS_RADIUS = 3396.0
  CENTER_LATITUDE = 0.0
  CENTER_LONGITUDE = 280.0
  COORDINATE_SYSTEM_NAME = PLANETOGRAPHIC
  COORDINATE_SYSTEM_TYPE = "BODY-FIXED ROTATING"
  EASTERNMOST_LONGITUDE = 280.309
  FIRST_STANDARD_PARALLEL = "N/A"
  LINE_FIRST_PIXEL = 1
  LINE_LAST_PIXEL = 24147
  LINE_PROJECTION_OFFSET = -32576.75
  MAP_PROJECTION_ROTATION = 0.0
  MAP_PROJECTION_TYPE = SINUSOIDAL
  MAP_RESOLUTION = 2370.85521546667
  MAP_SCALE = 0.025
  MAXIMUM_LATITUDE = -13.7184
  MINIMUM_LATITUDE = -23.914
  POSITIVE_LONGITUDE_DIRECTION = EAST
  REFERENCE_LATITUDE = "N/A"
  REFERENCE_LONGITUDE = "N/A"
  SAMPLE_FIRST_PIXEL = 1
  SAMPLE_LAST_PIXEL = 3254
  SAMPLE_PROJECTION_OFFSET = 2537.25
  SECOND_STANDARD_PARALLEL = "N/A"
  WESTERNMOST_LONGITUDE = 278.853
END_OBJECT = IMAGE_MAP_PROJECTION
END
