PDS_VERSION_ID = PDS3
/* FILE DATA ELEMENTS */
RECORD_TYPE = UNDEFINED
/* POINTERS TO DATA OBJECTS */
^IMAGE = ("H4097_0000_S24.TIF")
/* IDENTIFICATION DATA ELEMENTS */
DATA_SET_ID = "MEX-M-HRSC-4-REFDR-MAPPROJECT-EXT1-V4.0"
DATA_SET_NAME = "MARS EXPRESS HRSC MAP PROJECTED REFDR EXTENSION1 V4.0"
DETECTOR_ID = MEX_HRSC_S2
EVENT_TYPE = "MARS-GLOBAL-MAPPING-Te-Im-Eo"
INSTRUMENT_HOST_ID = MEX
INSTRUMENT_HOST_NAME = "MARS EXPRESS"
INSTRUMENT_ID = HRSC
INSTRUMENT_NAME = "HIGH RESOLUTION STEREO CAMERA"
MISSION_NAME = "MARS EXPRESS"
MISSION_PHASE_NAME = ME_Phase_7
PROCESSING_LEVEL_ID = 4
PRODUCT_CREATION_TIME = 2023-02-09T23:17:53.000Z
PRODUCT_ID = "H4097_0000_S24.TIF"
RELEASE_ID = 0005
REVISION_ID = 0000
/* QUALITY DATA ELEMENTS */
DATA_QUALITY_ID = 1
DATA_QUALITY_DESC = "Data calculated based on original SPICE kernels"
/* TIME DATA ELEMENTS */
SPACECRAFT_CLOCK_START_COUNT = "1/0122074212.08240"
SPACECRAFT_CLOCK_STOP_COUNT = "1/0122074617.05943"
START_TIME = 2007-03-15T21:30:16.378Z
STOP_TIME = 2007-03-15T21:35:49.309Z
/* ORBITAL DATA ELEMENTS */
ASCENDING_NODE_LONGITUDE = 142.47
MAXIMUM_RESOLUTION = 0.0337
FOOTPRINT_POINT_LATITUDE = (-39.6606,-39.6586,-39.6542,-39.6463, -39.6358,-39.6226,-39.6031,-39.602, -39.5637,-38.9125,-38.2576,-37.8321, -37.4113,-36.7885,-36.3753,-35.9696, -35.5704,-35.1688,-34.7696,-34.3753, -33.7907,-33.4052,-33.0224,-32.6416, -32.2664,-31.8921,-31.5207,-31.152, -30.7891,-30.2458,-29.8883,-29.533, -29.0055,-28.6594,-28.3162,-27.9711, -27.6303,-27.291,-26.9492,-26.6171, -26.2875,-25.9595,-25.63,-25.3051, -24.9837,-24.4997,-23.8659,-23.397, -22.6173,-21.6942,-21.5398,-21.5028, -21.5079,-21.5093,-21.5087,-21.5086, -21.5091,-22.2768,-22.7389,-23.0542, -23.6759,-23.9945,-24.3135,-24.7887, -25.1122,-25.4349,-25.9281,-26.2568, -26.5907,-26.9256,-27.2668,-27.7767, -28.1209,-28.6365,-28.9873,-29.3373, -29.6933,-30.2281,-30.5887,-30.9548, -31.507,-31.8767,-32.4361,-32.8234, -33.3942,-33.7786,-34.1687,-34.5625, -34.9591,-35.3612,-35.7682,-36.3772, -36.9904,-37.6272,-38.05,-38.4791, -38.9136,-39.3394,-39.5557,-39.6606)
FOOTPRINT_POINT_LONGITUDE = (19.1697,18.617,18.1811,17.6873,17.2232 ,16.7589,16.2064,16.1773,16.1559, 16.2177,16.2725,16.309,16.3443,16.3957, 16.4274,16.459,16.4906,16.5194,16.5471, 16.5737,16.6125,16.6371,16.661,16.6837, 16.7061,16.7278,16.748,16.7679,16.788, 16.8153,16.8334,16.8505,16.8755,16.8928 ,16.9086,16.9236,16.9378,16.9519,16.964 ,16.9776,16.9919,17.0042,17.016,17.0278 ,17.0395,17.0554,17.0763,17.0914,17.114 ,17.1379,17.1418,17.1426,17.576,17.9225 ,18.6164,18.6308,18.6361,18.6517, 18.6603,18.6662,18.6803,18.6872,18.6939 ,18.7061,18.7137,18.7213,18.7331,18.741 ,18.7492,18.7574,18.7644,18.7775, 18.7862,18.8007,18.8103,18.8199,18.83, 18.8458,18.8564,18.8666,18.883,18.8949, 18.914,18.9233,18.9434,18.9569,18.9705, 18.9843,18.9984,19.0119,19.026,19.0501, 19.0775,19.1001,19.1182,19.1359,19.1537 ,19.1772,19.1882,19.1697)
ORBIT_NUMBER = 4097
ORBITAL_ECCENTRICITY = 0.571
ORBITAL_INCLINATION = 86.66
ORBITAL_SEMIMAJOR_AXIS = 8626.65
PERIAPSIS_ALTITUDE = 307.7
PERIAPSIS_ARGUMENT_ANGLE = 356.47
PERIAPSIS_TIME = 2007-03-15T21:41:03.000Z
SPACECRAFT_ORIENTATION = (0.0,1.0,0.0)
^MEX_ORIENTATION_DESC = "MEX_ORIENTATION_DESC.TXT"
SPACECRAFT_POINTING_MODE = NADIR
^MEX_POINTING_DESC = "MEX_POINTING_DESC.TXT"
RIGHT_ASCENSION = -1e+32
DECLINATION = -1e+32
OFFSET_ANGLE = -1e+32
SPACECRAFT_SOLAR_DISTANCE = 2.13187e+08
TARGET_NAME = MARS
/* CAMERA DATA ELEMENTS */
DETECTOR_TEMPERATURE = 18.9822
FOCAL_PLANE_TEMPERATURE = 8.9911
INST_CMPRS_NAME = "DISCRETE COSINE TRANSFORMATION (DCT)"
INST_CMPRS_RATIO = 9.07162
INST_CMPRS_QUALITY = 0
INST_CMPRS_QUANTZ_TBL_ID = 0
INSTRUMENT_TEMPERATURE = 11.4379
LENS_TEMPERATURE = 9.195
MACROPIXEL_SIZE = 2
MISSING_FRAMES = 0
PIXEL_SUBSAMPLING_FLAG = N
SIGNAL_CHAIN_ID = 1
/* RADIOMETRIC DATA ELEMENTS */
BANDWIDTH = 178.0
CENTER_FILTER_WAVELENGTH = 679.0
RADIANCE_OFFSET = 1.95444
RADIANCE_SCALING_FACTOR = 0.0108835
REFLECTANCE_SCALING_FACTOR = 0.000261954
MEX:REFLECTANCE_OFFSET = 0.0470411
/* IMAGE OBJECT DEFINITIONS */
OBJECT = IMAGE
  INTERCHANGE_FORMAT = BINARY
  LINES = 42943
  LINE_SAMPLES = 4919
  SAMPLE_TYPE = UNSIGNED_INTEGER
  SAMPLE_BITS = 8
  BANDS = 1
  BAND_STORAGE_TYPE = BAND_SEQUENTIAL
  MAXIMUM = 255
  MEAN = 88.1402
  MINIMUM = 1
  STANDARD_DEVIATION = 21.2694
END_OBJECT = IMAGE
/* MAP OBJECT DEFINITIONS */
OBJECT = IMAGE_MAP_PROJECTION
  ^DATA_SET_MAP_PROJECTION_CATALOG= "DSMAP.CAT"
  A_AXIS_RADIUS = 3396.0
  B_AXIS_RADIUS = 3396.0
  C_AXIS_RADIUS = 3396.0
  CENTER_LATITUDE = 0.0
  CENTER_LONGITUDE = 18.0
  COORDINATE_SYSTEM_NAME = PLANETOGRAPHIC
  COORDINATE_SYSTEM_TYPE = "BODY-FIXED ROTATING"
  EASTERNMOST_LONGITUDE = 19.1882
  FIRST_STANDARD_PARALLEL = "N/A"
  LINE_FIRST_PIXEL = 1
  LINE_LAST_PIXEL = 42943
  LINE_PROJECTION_OFFSET = -50933.25
  MAP_PROJECTION_ROTATION = 0.0
  MAP_PROJECTION_TYPE = SINUSOIDAL
  MAP_RESOLUTION = 2370.85521546667
  MAP_SCALE = 0.025
  MAXIMUM_LATITUDE = -21.5028
  MINIMUM_LATITUDE = -39.6606
  POSITIVE_LONGITUDE_DIRECTION = EAST
  REFERENCE_LATITUDE = "N/A"
  REFERENCE_LONGITUDE = "N/A"
  SAMPLE_FIRST_PIXEL = 1
  SAMPLE_LAST_PIXEL = 4919
  SAMPLE_PROJECTION_OFFSET = 3074.75
  SECOND_STANDARD_PARALLEL = "N/A"
  WESTERNMOST_LONGITUDE = 16.1559
END_OBJECT = IMAGE_MAP_PROJECTION
END
