PDS_VERSION_ID = PDS3
/* FILE DATA ELEMENTS */
RECORD_TYPE = UNDEFINED
/* POINTERS TO DATA OBJECTS */
^IMAGE = ("H4097_0000_RE4.TIF")
/* IDENTIFICATION DATA ELEMENTS */
DATA_SET_ID = "MEX-M-HRSC-4-REFDR-MAPPROJECT-EXT1-V4.0"
DATA_SET_NAME = "MARS EXPRESS HRSC MAP PROJECTED REFDR EXTENSION1 V4.0"
DETECTOR_ID = MEX_HRSC_RED
EVENT_TYPE = "MARS-GLOBAL-MAPPING-Te-Im-Eo"
INSTRUMENT_HOST_ID = MEX
INSTRUMENT_HOST_NAME = "MARS EXPRESS"
INSTRUMENT_ID = HRSC
INSTRUMENT_NAME = "HIGH RESOLUTION STEREO CAMERA"
MISSION_NAME = "MARS EXPRESS"
MISSION_PHASE_NAME = ME_Phase_7
PROCESSING_LEVEL_ID = 4
PRODUCT_CREATION_TIME = 2023-02-09T23:17:53.000Z
PRODUCT_ID = "H4097_0000_RE4.TIF"
RELEASE_ID = 0005
REVISION_ID = 0000
/* QUALITY DATA ELEMENTS */
DATA_QUALITY_ID = 1
DATA_QUALITY_DESC = "Data calculated based on original SPICE kernels"
/* TIME DATA ELEMENTS */
SPACECRAFT_CLOCK_START_COUNT = "1/0122074212.08240"
SPACECRAFT_CLOCK_STOP_COUNT = "1/0122074617.05943"
START_TIME = 2007-03-15T21:30:30.154Z
STOP_TIME = 2007-03-15T21:35:56.157Z
/* ORBITAL DATA ELEMENTS */
ASCENDING_NODE_LONGITUDE = 142.47
MAXIMUM_RESOLUTION = 0.131
FOOTPRINT_POINT_LATITUDE = (-39.6353,-39.6338,-39.6288,-39.6175, -39.5988,-39.5827,-39.5817,-39.5484, -38.8981,-38.2506,-37.8272,-37.4081, -36.997,-36.3792,-35.9764,-35.578, -34.9813,-34.3921,-33.8107,-33.428, -33.0475,-32.6704,-32.1106,-31.7401, -31.3733,-30.8311,-30.4688,-30.1138, -29.7589,-29.4084,-29.0583,-28.5451, -28.2036,-27.8644,-27.5241,-27.1893, -26.6879,-26.3637,-26.0349,-25.7098, -25.3873,-24.9054,-24.589,-24.2744, -23.8027,-23.4916,-23.1795,-22.7211, -22.2601,-21.6451,-21.4904,-21.4885, -21.4924,-21.4945,-21.4938,-21.4937, -21.4956,-22.1102,-22.8789,-23.4978, -24.2798,-24.753,-25.2319,-25.5553, -25.8779,-26.2066,-26.6996,-27.2048, -27.5396,-28.0491,-28.3894,-28.7341, -29.0792,-29.4301,-29.7802,-30.1357, -30.4913,-30.8543,-31.3998,-31.7661, -32.1401,-32.7011,-33.0776,-33.4587, -33.8416,-34.2288,-34.6204,-35.0149, -35.4144,-35.8193,-36.4256,-36.8295, -37.2436,-37.6679,-38.0885,-38.5149, -38.9464,-39.372,-39.5892,-39.6353)
FOOTPRINT_POINT_LONGITUDE = (19.1249,18.7162,18.1724,17.4929, 16.7597,16.2697,16.2424,16.2171,16.2759 ,16.3281,16.3629,16.3967,16.4305,16.476 ,16.5066,16.5364,16.5774,16.6161, 16.6529,16.6764,16.6995,16.721,16.7527, 16.7729,16.7921,16.8208,16.8382,16.8557 ,16.8727,16.8888,16.9046,16.9288, 16.9438,16.9579,16.9713,16.984,17.0028, 17.0164,17.0283,17.0396,17.0508,17.067, 17.0774,17.0885,17.1022,17.1116,17.1206 ,17.1336,17.1452,17.1607,17.1643, 17.1643,17.5191,17.9986,18.6022,18.6159 ,18.6251,18.6372,18.651,18.6636,18.68, 18.6916,18.7023,18.7096,18.717,18.7245, 18.7361,18.7465,18.7543,18.7671,18.7754 ,18.7849,18.7939,18.803,18.8126,18.8225 ,18.8325,18.8419,18.8572,18.8681, 18.8778,18.8948,18.9066,18.919,18.9315, 18.944,18.9569,18.9699,18.9823,18.9951, 19.0176,19.0356,19.051,19.0639,19.0807, 19.0969,19.1133,19.135,19.1452,19.1249)
ORBIT_NUMBER = 4097
ORBITAL_ECCENTRICITY = 0.571
ORBITAL_INCLINATION = 86.66
ORBITAL_SEMIMAJOR_AXIS = 8626.65
PERIAPSIS_ALTITUDE = 307.7
PERIAPSIS_ARGUMENT_ANGLE = 356.47
PERIAPSIS_TIME = 2007-03-15T21:41:03.000Z
SPACECRAFT_ORIENTATION = (0.0,1.0,0.0)
^MEX_ORIENTATION_DESC = "MEX_ORIENTATION_DESC.TXT"
SPACECRAFT_POINTING_MODE = NADIR
^MEX_POINTING_DESC = "MEX_POINTING_DESC.TXT"
RIGHT_ASCENSION = -1e+32
DECLINATION = -1e+32
OFFSET_ANGLE = -1e+32
SPACECRAFT_SOLAR_DISTANCE = 2.13187e+08
TARGET_NAME = MARS
/* CAMERA DATA ELEMENTS */
DETECTOR_TEMPERATURE = 18.9822
FOCAL_PLANE_TEMPERATURE = 8.9911
INST_CMPRS_NAME = "DISCRETE COSINE TRANSFORMATION (DCT)"
INST_CMPRS_RATIO = 9.14094
INST_CMPRS_QUALITY = 0
INST_CMPRS_QUANTZ_TBL_ID = 0
INSTRUMENT_TEMPERATURE = 11.4379
LENS_TEMPERATURE = 9.195
MACROPIXEL_SIZE = 8
MISSING_FRAMES = 0
PIXEL_SUBSAMPLING_FLAG = N
SIGNAL_CHAIN_ID = 2
/* RADIOMETRIC DATA ELEMENTS */
BANDWIDTH = 48.0
CENTER_FILTER_WAVELENGTH = 748.0
RADIANCE_OFFSET = 0.481663
RADIANCE_SCALING_FACTOR = 0.00301786
REFLECTANCE_SCALING_FACTOR = 0.000313005
MEX:REFLECTANCE_OFFSET = 0.0499569
/* IMAGE OBJECT DEFINITIONS */
OBJECT = IMAGE
  INTERCHANGE_FORMAT = BINARY
  LINES = 10736
  LINE_SAMPLES = 1230
  SAMPLE_TYPE = UNSIGNED_INTEGER
  SAMPLE_BITS = 8
  BANDS = 1
  BAND_STORAGE_TYPE = BAND_SEQUENTIAL
  MAXIMUM = 255
  MEAN = 83.681
  MINIMUM = 1
  STANDARD_DEVIATION = 20.7359
END_OBJECT = IMAGE
/* MAP OBJECT DEFINITIONS */
OBJECT = IMAGE_MAP_PROJECTION
  ^DATA_SET_MAP_PROJECTION_CATALOG= "DSMAP.CAT"
  A_AXIS_RADIUS = 3396.0
  B_AXIS_RADIUS = 3396.0
  C_AXIS_RADIUS = 3396.0
  CENTER_LATITUDE = 0.0
  CENTER_LONGITUDE = 18.0
  COORDINATE_SYSTEM_NAME = PLANETOGRAPHIC
  COORDINATE_SYSTEM_TYPE = "BODY-FIXED ROTATING"
  EASTERNMOST_LONGITUDE = 19.1452
  FIRST_STANDARD_PARALLEL = "N/A"
  LINE_FIRST_PIXEL = 1
  LINE_LAST_PIXEL = 10736
  LINE_PROJECTION_OFFSET = -12733.6875
  MAP_PROJECTION_ROTATION = 0.0
  MAP_PROJECTION_TYPE = SINUSOIDAL
  MAP_RESOLUTION = 592.713803866667
  MAP_SCALE = 0.1
  MAXIMUM_LATITUDE = -21.4885
  MINIMUM_LATITUDE = -39.6353
  POSITIVE_LONGITUDE_DIRECTION = EAST
  REFERENCE_LATITUDE = "N/A"
  REFERENCE_LONGITUDE = "N/A"
  SAMPLE_FIRST_PIXEL = 1
  SAMPLE_LAST_PIXEL = 1230
  SAMPLE_PROJECTION_OFFSET = 768.3125
  SECOND_STANDARD_PARALLEL = "N/A"
  WESTERNMOST_LONGITUDE = 16.2171
END_OBJECT = IMAGE_MAP_PROJECTION
END
