PDS_VERSION_ID = PDS3
/* FILE DATA ELEMENTS */
RECORD_TYPE = UNDEFINED
/* POINTERS TO DATA OBJECTS */
^IMAGE = ("H4097_0000_BL4.TIF")
/* IDENTIFICATION DATA ELEMENTS */
DATA_SET_ID = "MEX-M-HRSC-4-REFDR-MAPPROJECT-EXT1-V4.0"
DATA_SET_NAME = "MARS EXPRESS HRSC MAP PROJECTED REFDR EXTENSION1 V4.0"
DETECTOR_ID = MEX_HRSC_BLUE
EVENT_TYPE = "MARS-GLOBAL-MAPPING-Te-Im-Eo"
INSTRUMENT_HOST_ID = MEX
INSTRUMENT_HOST_NAME = "MARS EXPRESS"
INSTRUMENT_ID = HRSC
INSTRUMENT_NAME = "HIGH RESOLUTION STEREO CAMERA"
MISSION_NAME = "MARS EXPRESS"
MISSION_PHASE_NAME = ME_Phase_7
PROCESSING_LEVEL_ID = 4
PRODUCT_CREATION_TIME = 2023-02-09T23:17:53.000Z
PRODUCT_ID = "H4097_0000_BL4.TIF"
RELEASE_ID = 0005
REVISION_ID = 0000
/* QUALITY DATA ELEMENTS */
DATA_QUALITY_ID = 1
DATA_QUALITY_DESC = "Data calculated based on original SPICE kernels"
/* TIME DATA ELEMENTS */
SPACECRAFT_CLOCK_START_COUNT = "1/0122074212.08240"
SPACECRAFT_CLOCK_STOP_COUNT = "1/0122074617.05943"
START_TIME = 2007-03-15T21:31:15.949Z
STOP_TIME = 2007-03-15T21:36:20.406Z
/* ORBITAL DATA ELEMENTS */
ASCENDING_NODE_LONGITUDE = 142.47
MAXIMUM_RESOLUTION = 0.1215
FOOTPRINT_POINT_LATITUDE = (-39.5915,-39.5885,-39.5817,-39.567, -39.5488,-39.5481,-39.538,-38.885, -38.4535,-38.0271,-37.6045,-37.1876, -36.7741,-36.3628,-35.9592,-35.3571, -34.763,-34.1765,-33.7885,-33.4067, -33.0264,-32.6502,-32.2766,-31.9067, -31.5387,-31.1747,-30.8131,-30.4551, -30.0979,-29.7468,-29.3947,-29.0484, -28.7038,-28.361,-28.0223,-27.5147, -27.0153,-26.6822,-26.3579,-26.0318, -25.705,-25.3861,-25.0669,-24.5887, -23.8071,-23.1793,-22.5489,-22.2324, -21.7577,-21.5992,-21.4762,-21.4787, -21.4806,-21.4806,-21.4806,-21.4826, -21.7996,-22.1164,-22.7489,-23.3794, -24.0074,-24.6327,-24.9518,-25.2718, -25.5914,-25.9155,-26.2423,-26.5684, -26.8992,-27.2333,-27.566,-28.0748, -28.4141,-28.9315,-29.2771,-29.8045, -30.1562,-30.5149,-30.8735,-31.237, -31.6019,-31.9711,-32.3404,-32.7172, -33.0941,-33.4761,-34.0538,-34.4426, -34.8372,-35.4342,-36.0391,-36.6517, -37.0634,-37.4825,-37.9045,-38.3303, -38.7597,-39.1939,-39.4117,-39.5915)
FOOTPRINT_POINT_LONGITUDE = (19.0107,18.5346,17.9338,17.1085, 16.3824,16.3574,16.332,16.3859,16.4167, 16.4495,16.4805,16.5109,16.5407,16.5683 ,16.5979,16.6364,16.6728,16.7076, 16.7301,16.7514,16.7724,16.7921,16.8117 ,16.8305,16.8483,16.8656,16.8832, 16.8987,16.9147,16.9303,16.945,16.9594, 16.9746,16.989,17.002,17.0204,17.0367, 17.0485,17.0615,17.0723,17.0828,17.0929 ,17.1032,17.1168,17.14,17.1573,17.1728, 17.1794,17.1905,17.194,17.1966,17.5634, 18.1161,18.577,18.5902,18.599,18.6046, 18.61,18.6202,18.6306,18.6423,18.6553, 18.6614,18.6677,18.6739,18.6803,18.6868 ,18.6934,18.7001,18.7053,18.7121, 18.7231,18.7301,18.7421,18.7497,18.7618 ,18.7701,18.7784,18.7862,18.7949,18.803 ,18.8122,18.8241,18.8309,18.8401, 18.8501,18.8656,18.876,18.8864,18.9013, 18.9173,18.9359,18.9502,18.9608,18.9738 ,18.9868,18.9995,19.015,19.0243, 19.0107)
ORBIT_NUMBER = 4097
ORBITAL_ECCENTRICITY = 0.571
ORBITAL_INCLINATION = 86.66
ORBITAL_SEMIMAJOR_AXIS = 8626.65
PERIAPSIS_ALTITUDE = 307.7
PERIAPSIS_ARGUMENT_ANGLE = 356.47
PERIAPSIS_TIME = 2007-03-15T21:41:03.000Z
SPACECRAFT_ORIENTATION = (0.0,1.0,0.0)
^MEX_ORIENTATION_DESC = "MEX_ORIENTATION_DESC.TXT"
SPACECRAFT_POINTING_MODE = NADIR
^MEX_POINTING_DESC = "MEX_POINTING_DESC.TXT"
RIGHT_ASCENSION = -1e+32
DECLINATION = -1e+32
OFFSET_ANGLE = -1e+32
SPACECRAFT_SOLAR_DISTANCE = 2.13187e+08
TARGET_NAME = MARS
/* CAMERA DATA ELEMENTS */
DETECTOR_TEMPERATURE = 18.5744
FOCAL_PLANE_TEMPERATURE = 8.9911
INST_CMPRS_NAME = "DISCRETE COSINE TRANSFORMATION (DCT)"
INST_CMPRS_RATIO = 7.8527
INST_CMPRS_QUALITY = 0
INST_CMPRS_QUANTZ_TBL_ID = 0
INSTRUMENT_TEMPERATURE = 11.4379
LENS_TEMPERATURE = 9.195
MACROPIXEL_SIZE = 8
MISSING_FRAMES = 0
PIXEL_SUBSAMPLING_FLAG = N
SIGNAL_CHAIN_ID = 2
/* RADIOMETRIC DATA ELEMENTS */
BANDWIDTH = 76.0
CENTER_FILTER_WAVELENGTH = 444.0
RADIANCE_OFFSET = 0.362183
RADIANCE_SCALING_FACTOR = 0.00114474
REFLECTANCE_SCALING_FACTOR = 5.34549e-05
MEX:REFLECTANCE_OFFSET = 0.0169125
/* IMAGE OBJECT DEFINITIONS */
OBJECT = IMAGE
  INTERCHANGE_FORMAT = BINARY
  LINES = 10736
  LINE_SAMPLES = 1230
  SAMPLE_TYPE = UNSIGNED_INTEGER
  SAMPLE_BITS = 8
  BANDS = 1
  BAND_STORAGE_TYPE = BAND_SEQUENTIAL
  MAXIMUM = 255
  MEAN = 112.445
  MINIMUM = 1
  STANDARD_DEVIATION = 29.0285
END_OBJECT = IMAGE
/* MAP OBJECT DEFINITIONS */
OBJECT = IMAGE_MAP_PROJECTION
  ^DATA_SET_MAP_PROJECTION_CATALOG= "DSMAP.CAT"
  A_AXIS_RADIUS = 3396.0
  B_AXIS_RADIUS = 3396.0
  C_AXIS_RADIUS = 3396.0
  CENTER_LATITUDE = 0.0
  CENTER_LONGITUDE = 18.0
  COORDINATE_SYSTEM_NAME = PLANETOGRAPHIC
  COORDINATE_SYSTEM_TYPE = "BODY-FIXED ROTATING"
  EASTERNMOST_LONGITUDE = 19.0243
  FIRST_STANDARD_PARALLEL = "N/A"
  LINE_FIRST_PIXEL = 1
  LINE_LAST_PIXEL = 10736
  LINE_PROJECTION_OFFSET = -12733.6875
  MAP_PROJECTION_ROTATION = 0.0
  MAP_PROJECTION_TYPE = SINUSOIDAL
  MAP_RESOLUTION = 592.713803866667
  MAP_SCALE = 0.1
  MAXIMUM_LATITUDE = -21.4762
  MINIMUM_LATITUDE = -39.5915
  POSITIVE_LONGITUDE_DIRECTION = EAST
  REFERENCE_LATITUDE = "N/A"
  REFERENCE_LONGITUDE = "N/A"
  SAMPLE_FIRST_PIXEL = 1
  SAMPLE_LAST_PIXEL = 1230
  SAMPLE_PROJECTION_OFFSET = 768.3125
  SECOND_STANDARD_PARALLEL = "N/A"
  WESTERNMOST_LONGITUDE = 16.332
END_OBJECT = IMAGE_MAP_PROJECTION
END
