PDS_VERSION_ID = PDS3
/* FILE DATA ELEMENTS */
RECORD_TYPE = UNDEFINED
/* POINTERS TO DATA OBJECTS */
^IMAGE = ("H4095_0000_S14.TIF")
/* IDENTIFICATION DATA ELEMENTS */
DATA_SET_ID = "MEX-M-HRSC-4-REFDR-MAPPROJECT-EXT1-V4.0"
DATA_SET_NAME = "MARS EXPRESS HRSC MAP PROJECTED REFDR EXTENSION1 V4.0"
DETECTOR_ID = MEX_HRSC_S1
EVENT_TYPE = "MARS-REGIONAL-MAPPING-Vo-Te-Im"
INSTRUMENT_HOST_ID = MEX
INSTRUMENT_HOST_NAME = "MARS EXPRESS"
INSTRUMENT_ID = HRSC
INSTRUMENT_NAME = "HIGH RESOLUTION STEREO CAMERA"
MISSION_NAME = "MARS EXPRESS"
MISSION_PHASE_NAME = ME_Phase_7
PROCESSING_LEVEL_ID = 4
PRODUCT_CREATION_TIME = 2023-02-09T23:17:53.000Z
PRODUCT_ID = "H4095_0000_S14.TIF"
RELEASE_ID = 0005
REVISION_ID = 0000
/* QUALITY DATA ELEMENTS */
DATA_QUALITY_ID = 1
DATA_QUALITY_DESC = "Data calculated based on original SPICE kernels"
/* TIME DATA ELEMENTS */
SPACECRAFT_CLOCK_START_COUNT = "1/0122026059.08433"
SPACECRAFT_CLOCK_STOP_COUNT = "1/0122026339.06786"
START_TIME = 2007-03-15T08:09:06.697Z
STOP_TIME = 2007-03-15T08:12:21.325Z
/* ORBITAL DATA ELEMENTS */
ASCENDING_NODE_LONGITUDE = 142.51
MAXIMUM_RESOLUTION = 0.0277
FOOTPRINT_POINT_LATITUDE = (-27.0187,-27.0348,-27.0506,-27.0689, -27.0694,-27.0875,-26.7941,-26.5071, -26.2204,-25.9349,-25.6501,-25.3641, -25.0771,-24.7898,-24.4987,-24.2154, -23.925,-23.4904,-23.2019,-22.9147, -22.6321,-22.201,-21.913,-21.495, -21.254,-21.0113,-20.766,-20.5207, -20.1568,-19.9201,-19.6793,-19.4389, -19.2042,-18.962,-18.7149,-18.4732, -18.2311,-17.989,-17.747,-17.5048, -17.2625,-16.8991,-16.6569,-16.2935, -16.0521,-15.6946,-15.3419,-15.1059, -14.6429,-14.2934,-14.1761,-14.1752, -14.1505,-14.1317,-14.1128,-14.1122, -14.1124,-14.347,-14.8162,-15.0508, -15.4029,-15.7548,-15.9895,-16.3509, -16.5932,-16.9569,-17.199,-17.4415, -17.6832,-17.9251,-18.1673,-18.4093, -18.6516,-19.0151,-19.3781,-19.7414, -19.9835,-20.2254,-20.5884,-20.8301, -21.1931,-21.4352,-21.8537,-22.1421, -22.4307,-22.8627,-23.1504,-23.5814, -23.8692,-24.2999,-24.5871,-25.019, -25.3031,-25.5922,-26.0244,-26.312, -26.5984,-26.8886,-27.0356,-27.0187)
FOOTPRINT_POINT_LONGITUDE = (214.268,213.776,213.275,212.666, 212.649,212.63,212.642,212.654,212.666, 212.677,212.686,212.697,212.707,212.718 ,212.728,212.735,212.747,212.764, 212.774,212.783,212.787,212.799,212.808 ,212.819,212.825,212.833,212.842, 212.851,212.86,212.862,212.867,212.871, 212.871,212.877,212.886,212.891,212.895 ,212.9,212.905,212.91,212.914,212.921, 212.925,212.931,212.936,212.946,212.952 ,212.957,212.958,212.961,212.963, 212.963,213.326,213.768,214.155,214.166 ,214.17,214.172,214.175,214.176,214.179 ,214.181,214.182,214.185,214.186, 214.189,214.191,214.192,214.194,214.196 ,214.198,214.199,214.201,214.204, 214.206,214.209,214.211,214.213,214.215 ,214.217,214.22,214.222,214.225,214.227 ,214.229,214.233,214.235,214.239, 214.241,214.244,214.247,214.25,214.253, 214.255,214.258,214.261,214.263,214.265 ,214.267,214.268)
ORBIT_NUMBER = 4095
ORBITAL_ECCENTRICITY = 0.571
ORBITAL_INCLINATION = 86.68
ORBITAL_SEMIMAJOR_AXIS = 8626.16
PERIAPSIS_ALTITUDE = 307.63
PERIAPSIS_ARGUMENT_ANGLE = 356.82
PERIAPSIS_TIME = 2007-03-15T08:14:40.000Z
SPACECRAFT_ORIENTATION = (0.0,1.0,0.0)
^MEX_ORIENTATION_DESC = "MEX_ORIENTATION_DESC.TXT"
SPACECRAFT_POINTING_MODE = ACROSSTRACK
^MEX_POINTING_DESC = "MEX_POINTING_DESC.TXT"
RIGHT_ASCENSION = -1e+32
DECLINATION = -1e+32
OFFSET_ANGLE = 0.85
SPACECRAFT_SOLAR_DISTANCE = 2.13271e+08
TARGET_NAME = MARS
/* CAMERA DATA ELEMENTS */
DETECTOR_TEMPERATURE = 17.5549
FOCAL_PLANE_TEMPERATURE = 8.1755
INST_CMPRS_NAME = "DISCRETE COSINE TRANSFORMATION (DCT)"
INST_CMPRS_RATIO = 6.77878
INST_CMPRS_QUALITY = 0
INST_CMPRS_QUANTZ_TBL_ID = 0
INSTRUMENT_TEMPERATURE = 11.234
LENS_TEMPERATURE = 8.5833
MACROPIXEL_SIZE = 2
MISSING_FRAMES = 1
PIXEL_SUBSAMPLING_FLAG = N
SIGNAL_CHAIN_ID = 1
/* RADIOMETRIC DATA ELEMENTS */
BANDWIDTH = 180.0
CENTER_FILTER_WAVELENGTH = 677.0
RADIANCE_OFFSET = 2.49989
RADIANCE_SCALING_FACTOR = 0.0166659
REFLECTANCE_SCALING_FACTOR = 0.000395492
MEX:REFLECTANCE_OFFSET = 0.0593238
/* IMAGE OBJECT DEFINITIONS */
OBJECT = IMAGE
  INTERCHANGE_FORMAT = BINARY
  LINES = 30694
  LINE_SAMPLES = 3629
  SAMPLE_TYPE = UNSIGNED_INTEGER
  SAMPLE_BITS = 8
  BANDS = 1
  BAND_STORAGE_TYPE = BAND_SEQUENTIAL
  MAXIMUM = 255
  MEAN = 84.4205
  MINIMUM = 1
  STANDARD_DEVIATION = 21.7227
END_OBJECT = IMAGE
/* MAP OBJECT DEFINITIONS */
OBJECT = IMAGE_MAP_PROJECTION
  ^DATA_SET_MAP_PROJECTION_CATALOG= "DSMAP.CAT"
  A_AXIS_RADIUS = 3396.0
  B_AXIS_RADIUS = 3396.0
  C_AXIS_RADIUS = 3396.0
  CENTER_LATITUDE = 0.0
  CENTER_LONGITUDE = 214.0
  COORDINATE_SYSTEM_NAME = PLANETOGRAPHIC
  COORDINATE_SYSTEM_TYPE = "BODY-FIXED ROTATING"
  EASTERNMOST_LONGITUDE = 214.268
  FIRST_STANDARD_PARALLEL = "N/A"
  LINE_FIRST_PIXEL = 1
  LINE_LAST_PIXEL = 30694
  LINE_PROJECTION_OFFSET = -33534.25
  MAP_PROJECTION_ROTATION = 0.0
  MAP_PROJECTION_TYPE = SINUSOIDAL
  MAP_RESOLUTION = 2370.85521546667
  MAP_SCALE = 0.025
  MAXIMUM_LATITUDE = -14.1122
  MINIMUM_LATITUDE = -27.0875
  POSITIVE_LONGITUDE_DIRECTION = EAST
  REFERENCE_LATITUDE = "N/A"
  REFERENCE_LONGITUDE = "N/A"
  SAMPLE_FIRST_PIXEL = 1
  SAMPLE_LAST_PIXEL = 3629
  SAMPLE_PROJECTION_OFFSET = 2969.75
  SECOND_STANDARD_PARALLEL = "N/A"
  WESTERNMOST_LONGITUDE = 212.63
END_OBJECT = IMAGE_MAP_PROJECTION
END
