PDS_VERSION_ID = PDS3
/* FILE DATA ELEMENTS */
RECORD_TYPE = UNDEFINED
/* POINTERS TO DATA OBJECTS */
^IMAGE = ("H4092_0000_S14.TIF")
/* IDENTIFICATION DATA ELEMENTS */
DATA_SET_ID = "MEX-M-HRSC-4-REFDR-MAPPROJECT-EXT1-V4.0"
DATA_SET_NAME = "MARS EXPRESS HRSC MAP PROJECTED REFDR EXTENSION1 V4.0"
DETECTOR_ID = MEX_HRSC_S1
EVENT_TYPE = "MARS-REGIONAL-MAPPING-Im-Fl-Mw"
INSTRUMENT_HOST_ID = MEX
INSTRUMENT_HOST_NAME = "MARS EXPRESS"
INSTRUMENT_ID = HRSC
INSTRUMENT_NAME = "HIGH RESOLUTION STEREO CAMERA"
MISSION_NAME = "MARS EXPRESS"
MISSION_PHASE_NAME = ME_Phase_7
PROCESSING_LEVEL_ID = 4
PRODUCT_CREATION_TIME = 2023-02-09T23:17:53.000Z
PRODUCT_ID = "H4092_0000_S14.TIF"
RELEASE_ID = 0005
REVISION_ID = 0000
/* QUALITY DATA ELEMENTS */
DATA_QUALITY_ID = 1
DATA_QUALITY_DESC = "Data calculated based on original SPICE kernels"
/* TIME DATA ELEMENTS */
SPACECRAFT_CLOCK_START_COUNT = "1/0121953343.08411"
SPACECRAFT_CLOCK_STOP_COUNT = "1/0121953668.25504"
START_TIME = 2007-03-14T11:57:37.455Z
STOP_TIME = 2007-03-14T12:01:10.561Z
/* ORBITAL DATA ELEMENTS */
ASCENDING_NODE_LONGITUDE = 142.57
MAXIMUM_RESOLUTION = 0.031
FOOTPRINT_POINT_LATITUDE = (-34.9668,-34.9558,-34.9473,-34.9384, -34.9291,-34.9195,-34.9095,-34.9089, -34.9404,-34.6187,-34.3021,-33.9825, -33.6687,-33.36,-32.8958,-32.592, -32.137,-31.8392,-31.5404,-31.2431, -30.8056,-30.5128,-30.2243,-29.9379, -29.6519,-29.2268,-28.8081,-28.5276, -28.2494,-27.978,-27.7041,-27.2953, -27.0278,-26.7598,-26.4924,-26.0913, -25.8291,-25.5662,-25.043,-24.5217, -24.2577,-23.9954,-23.4714,-22.9495, -22.4242,-22.1616,-21.8986,-21.635, -21.3724,-21.1092,-20.9984,-20.9868, -20.9986,-21.0098,-21.02,-21.032, -21.0324,-21.033,-21.4056,-21.6687, -21.9333,-22.3264,-22.5895,-22.9838, -23.5074,-23.899,-24.2951,-24.8171, -25.208,-25.7298,-26.1206,-26.3845, -26.6524,-27.0535,-27.4624,-27.8733, -28.1435,-28.4134,-28.6925,-28.9738, -29.2569,-29.5401,-29.8305,-30.1189, -30.4061,-30.7033,-31.1372,-31.433, -31.8789,-32.1761,-32.4849,-32.7825, -33.0872,-33.4065,-33.7146,-34.025, -34.3434,-34.8209,-34.9826,-34.9668)
FOOTPRINT_POINT_LONGITUDE = (150.918,150.459,150.128,149.799, 149.472,149.147,148.823,148.803,148.793 ,148.807,148.822,148.836,148.85,148.862 ,148.881,148.893,148.911,148.922, 148.933,148.944,148.959,148.969,148.979 ,148.988,148.997,149.01,149.023,149.031 ,149.039,149.047,149.054,149.065, 149.072,149.079,149.086,149.096,149.102 ,149.108,149.12,149.131,149.136,149.142 ,149.152,149.162,149.171,149.175,149.18 ,149.184,149.188,149.192,149.194, 149.194,149.536,149.883,150.193,150.562 ,150.576,150.58,150.588,150.593,150.6, 150.607,150.612,150.621,150.631,150.638 ,150.649,150.659,150.667,150.679, 150.687,150.694,150.7,150.71,150.724, 150.734,150.739,150.743,150.75,150.758, 150.767,150.776,150.786,150.794,150.803 ,150.814,150.823,150.832,150.843, 150.851,150.863,150.868,150.877,150.891 ,150.899,150.907,150.918,150.933, 150.938,150.918)
ORBIT_NUMBER = 4092
ORBITAL_ECCENTRICITY = 0.57
ORBITAL_INCLINATION = 86.67
ORBITAL_SEMIMAJOR_AXIS = 8623.25
PERIAPSIS_ALTITUDE = 308.08
PERIAPSIS_ARGUMENT_ANGLE = 357.39
PERIAPSIS_TIME = 2007-03-14T12:05:21.000Z
SPACECRAFT_ORIENTATION = (0.0,1.0,0.0)
^MEX_ORIENTATION_DESC = "MEX_ORIENTATION_DESC.TXT"
SPACECRAFT_POINTING_MODE = ACROSSTRACK
^MEX_POINTING_DESC = "MEX_POINTING_DESC.TXT"
RIGHT_ASCENSION = -1e+32
DECLINATION = -1e+32
OFFSET_ANGLE = -0.6
SPACECRAFT_SOLAR_DISTANCE = 2.13398e+08
TARGET_NAME = MARS
/* CAMERA DATA ELEMENTS */
DETECTOR_TEMPERATURE = 18.3705
FOCAL_PLANE_TEMPERATURE = 8.1755
INST_CMPRS_NAME = "DISCRETE COSINE TRANSFORMATION (DCT)"
INST_CMPRS_RATIO = 8.33317
INST_CMPRS_QUALITY = 0
INST_CMPRS_QUANTZ_TBL_ID = 0
INSTRUMENT_TEMPERATURE = 11.4379
LENS_TEMPERATURE = 8.7872
MACROPIXEL_SIZE = 2
MISSING_FRAMES = 0
PIXEL_SUBSAMPLING_FLAG = N
SIGNAL_CHAIN_ID = 1
/* RADIOMETRIC DATA ELEMENTS */
BANDWIDTH = 180.0
CENTER_FILTER_WAVELENGTH = 677.0
RADIANCE_OFFSET = 1.71435
RADIANCE_SCALING_FACTOR = 0.00809807
REFLECTANCE_SCALING_FACTOR = 0.000192401
MEX:REFLECTANCE_OFFSET = 0.0407309
/* IMAGE OBJECT DEFINITIONS */
OBJECT = IMAGE
  INTERCHANGE_FORMAT = BINARY
  LINES = 33140
  LINE_SAMPLES = 4472
  SAMPLE_TYPE = UNSIGNED_INTEGER
  SAMPLE_BITS = 8
  BANDS = 1
  BAND_STORAGE_TYPE = BAND_SEQUENTIAL
  MAXIMUM = 255
  MEAN = 85.2691
  MINIMUM = 1
  STANDARD_DEVIATION = 24.6781
END_OBJECT = IMAGE
/* MAP OBJECT DEFINITIONS */
OBJECT = IMAGE_MAP_PROJECTION
  ^DATA_SET_MAP_PROJECTION_CATALOG= "DSMAP.CAT"
  A_AXIS_RADIUS = 3396.0
  B_AXIS_RADIUS = 3396.0
  C_AXIS_RADIUS = 3396.0
  CENTER_LATITUDE = 0.0
  CENTER_LONGITUDE = 150.0
  COORDINATE_SYSTEM_NAME = PLANETOGRAPHIC
  COORDINATE_SYSTEM_TYPE = "BODY-FIXED ROTATING"
  EASTERNMOST_LONGITUDE = 150.938
  FIRST_STANDARD_PARALLEL = "N/A"
  LINE_FIRST_PIXEL = 1
  LINE_LAST_PIXEL = 33140
  LINE_PROJECTION_OFFSET = -49835.25
  MAP_PROJECTION_ROTATION = 0.0
  MAP_PROJECTION_TYPE = SINUSOIDAL
  MAP_RESOLUTION = 2370.85521546667
  MAP_SCALE = 0.025
  MAXIMUM_LATITUDE = -20.9868
  MINIMUM_LATITUDE = -34.9826
  POSITIVE_LONGITUDE_DIRECTION = EAST
  REFERENCE_LATITUDE = "N/A"
  REFERENCE_LONGITUDE = "N/A"
  SAMPLE_FIRST_PIXEL = 1
  SAMPLE_LAST_PIXEL = 4472
  SAMPLE_PROJECTION_OFFSET = 2522.25
  SECOND_STANDARD_PARALLEL = "N/A"
  WESTERNMOST_LONGITUDE = 148.793
END_OBJECT = IMAGE_MAP_PROJECTION
END
