PDS_VERSION_ID = PDS3
/* FILE DATA ELEMENTS */
RECORD_TYPE = UNDEFINED
/* POINTERS TO DATA OBJECTS */
^IMAGE = ("H4090_0000_S14.TIF")
/* IDENTIFICATION DATA ELEMENTS */
DATA_SET_ID = "MEX-M-HRSC-4-REFDR-MAPPROJECT-EXT1-V4.0"
DATA_SET_NAME = "MARS EXPRESS HRSC MAP PROJECTED REFDR EXTENSION1 V4.0"
DETECTOR_ID = MEX_HRSC_S1
EVENT_TYPE = "MARS-REGIONAL-MAPPING-Im-Fl"
INSTRUMENT_HOST_ID = MEX
INSTRUMENT_HOST_NAME = "MARS EXPRESS"
INSTRUMENT_ID = HRSC
INSTRUMENT_NAME = "HIGH RESOLUTION STEREO CAMERA"
MISSION_NAME = "MARS EXPRESS"
MISSION_PHASE_NAME = ME_Phase_7
PROCESSING_LEVEL_ID = 4
PRODUCT_CREATION_TIME = 2023-02-09T23:17:53.000Z
PRODUCT_ID = "H4090_0000_S14.TIF"
RELEASE_ID = 0005
REVISION_ID = 0000
/* QUALITY DATA ELEMENTS */
DATA_QUALITY_ID = 1
DATA_QUALITY_DESC = "Data calculated based on original SPICE kernels"
/* TIME DATA ELEMENTS */
SPACECRAFT_CLOCK_START_COUNT = "1/0121904992.08234"
SPACECRAFT_CLOCK_STOP_COUNT = "1/0121905356.49857"
START_TIME = 2007-03-13T22:31:40.471Z
STOP_TIME = 2007-03-13T22:35:58.934Z
/* ORBITAL DATA ELEMENTS */
ASCENDING_NODE_LONGITUDE = 142.62
MAXIMUM_RESOLUTION = 0.029
FOOTPRINT_POINT_LATITUDE = (-33.1384,-33.1338,-33.1294,-33.126, -33.1223,-33.1221,-33.1512,-32.5532, -32.1475,-31.5464,-31.1543,-30.7678, -30.3825,-30.0025,-29.6255,-29.0608, -28.5081,-28.1397,-27.7799,-27.2393, -26.7081,-26.3554,-25.8344,-25.4887, -25.1419,-24.8129,-24.4608,-23.932, -23.4139,-22.8945,-22.3742,-22.0272, -21.6789,-21.3316,-21.004,-20.5669, -20.2748,-19.8366,-19.5438,-19.2518, -18.8173,-18.3773,-17.9398,-17.6479, -17.2088,-16.9163,-16.6244,-16.3316, -16.1854,-16.1476,-16.147,-16.1466, -16.1462,-16.1467,-16.5857,-16.8772, -17.1692,-17.4625,-17.7546,-18.0478, -18.3402,-18.6322,-18.9238,-19.3616, -19.8053,-20.2395,-20.5311,-20.9703, -21.2917,-21.6405,-21.9879,-22.3347, -22.6809,-23.0307,-23.5554,-23.9015, -24.2387,-24.7578,-25.1036,-25.4495, -25.7946,-26.1398,-26.4923,-26.846, -27.1982,-27.5588,-28.1003,-28.653, -29.0224,-29.3951,-29.7744,-30.1548, -30.5396,-30.9247,-31.5129,-31.9069, -32.5078,-32.9112,-33.1159,-33.1384)
FOOTPRINT_POINT_LONGITUDE = (346.691,345.921,345.401,345.054, 344.727,344.707,344.69,344.715,344.735, 344.765,344.782,344.799,344.814,344.829 ,344.844,344.866,344.886,344.9,344.911, 344.929,344.947,344.957,344.973,344.983 ,344.993,344.997,345.009,345.026, 345.038,345.05,345.062,345.07,345.077, 345.084,345.091,345.099,345.105,345.113 ,345.118,345.123,345.129,345.137, 345.143,345.147,345.153,345.157,345.161 ,345.165,345.166,345.167,345.744, 346.394,346.406,346.41,346.416,346.419, 346.423,346.427,346.43,346.435,346.439, 346.443,346.446,346.452,346.461,346.466 ,346.47,346.477,346.482,346.488,346.493 ,346.499,346.504,346.51,346.521,346.526 ,346.529,346.538,346.544,346.55,346.556 ,346.562,346.569,346.575,346.581, 346.588,346.598,346.609,346.616,346.624 ,346.631,346.639,346.647,346.655, 346.668,346.676,346.688,346.697,346.702 ,346.691)
ORBIT_NUMBER = 4090
ORBITAL_ECCENTRICITY = 0.57
ORBITAL_INCLINATION = 86.67
ORBITAL_SEMIMAJOR_AXIS = 8621.47
PERIAPSIS_ALTITUDE = 308.21
PERIAPSIS_ARGUMENT_ANGLE = 357.7
PERIAPSIS_TIME = 2007-03-13T22:39:01.000Z
SPACECRAFT_ORIENTATION = (0.0,1.0,0.0)
^MEX_ORIENTATION_DESC = "MEX_ORIENTATION_DESC.TXT"
SPACECRAFT_POINTING_MODE = NADIR
^MEX_POINTING_DESC = "MEX_POINTING_DESC.TXT"
RIGHT_ASCENSION = -1e+32
DECLINATION = -1e+32
OFFSET_ANGLE = -1e+32
SPACECRAFT_SOLAR_DISTANCE = 2.13483e+08
TARGET_NAME = MARS
/* CAMERA DATA ELEMENTS */
DETECTOR_TEMPERATURE = 17.351
FOCAL_PLANE_TEMPERATURE = 7.9716
INST_CMPRS_NAME = "DISCRETE COSINE TRANSFORMATION (DCT)"
INST_CMPRS_RATIO = 9.06142
INST_CMPRS_QUALITY = 0
INST_CMPRS_QUANTZ_TBL_ID = 0
INSTRUMENT_TEMPERATURE = 11.234
LENS_TEMPERATURE = 8.5833
MACROPIXEL_SIZE = 2
MISSING_FRAMES = 0
PIXEL_SUBSAMPLING_FLAG = N
SIGNAL_CHAIN_ID = 1
/* RADIOMETRIC DATA ELEMENTS */
BANDWIDTH = 180.0
CENTER_FILTER_WAVELENGTH = 677.0
RADIANCE_OFFSET = 2.10397
RADIANCE_SCALING_FACTOR = 0.00595896
REFLECTANCE_SCALING_FACTOR = 0.000141691
MEX:REFLECTANCE_OFFSET = 0.0500278
/* IMAGE OBJECT DEFINITIONS */
OBJECT = IMAGE
  INTERCHANGE_FORMAT = BINARY
  LINES = 40407
  LINE_SAMPLES = 4273
  SAMPLE_TYPE = UNSIGNED_INTEGER
  SAMPLE_BITS = 8
  BANDS = 1
  BAND_STORAGE_TYPE = BAND_SEQUENTIAL
  MAXIMUM = 255
  MEAN = 107.897
  MINIMUM = 1
  STANDARD_DEVIATION = 30.0924
END_OBJECT = IMAGE
/* MAP OBJECT DEFINITIONS */
OBJECT = IMAGE_MAP_PROJECTION
  ^DATA_SET_MAP_PROJECTION_CATALOG= "DSMAP.CAT"
  A_AXIS_RADIUS = 3396.0
  B_AXIS_RADIUS = 3396.0
  C_AXIS_RADIUS = 3396.0
  CENTER_LATITUDE = 0.0
  CENTER_LONGITUDE = 346.0
  COORDINATE_SYSTEM_NAME = PLANETOGRAPHIC
  COORDINATE_SYSTEM_TYPE = "BODY-FIXED ROTATING"
  EASTERNMOST_LONGITUDE = 346.702
  FIRST_STANDARD_PARALLEL = "N/A"
  LINE_FIRST_PIXEL = 1
  LINE_LAST_PIXEL = 40407
  LINE_PROJECTION_OFFSET = -38266.75
  MAP_PROJECTION_ROTATION = 0.0
  MAP_PROJECTION_TYPE = SINUSOIDAL
  MAP_RESOLUTION = 2370.85521546667
  MAP_SCALE = 0.025
  MAXIMUM_LATITUDE = -16.1462
  MINIMUM_LATITUDE = -33.1512
  POSITIVE_LONGITUDE_DIRECTION = EAST
  REFERENCE_LATITUDE = "N/A"
  REFERENCE_LONGITUDE = "N/A"
  SAMPLE_FIRST_PIXEL = 1
  SAMPLE_LAST_PIXEL = 4273
  SAMPLE_PROJECTION_OFFSET = 2749.25
  SECOND_STANDARD_PARALLEL = "N/A"
  WESTERNMOST_LONGITUDE = 344.69
END_OBJECT = IMAGE_MAP_PROJECTION
END
