PDS_VERSION_ID = PDS3
/* FILE DATA ELEMENTS */
RECORD_TYPE = UNDEFINED
/* POINTERS TO DATA OBJECTS */
^IMAGE = ("H4080_0000_P14.TIF")
/* IDENTIFICATION DATA ELEMENTS */
DATA_SET_ID = "MEX-M-HRSC-4-REFDR-MAPPROJECT-EXT1-V4.0"
DATA_SET_NAME = "MARS EXPRESS HRSC MAP PROJECTED REFDR EXTENSION1 V4.0"
DETECTOR_ID = MEX_HRSC_P1
EVENT_TYPE = "MARS-REGIONAL-MAPPING-Vo-Te-Im"
INSTRUMENT_HOST_ID = MEX
INSTRUMENT_HOST_NAME = "MARS EXPRESS"
INSTRUMENT_ID = HRSC
INSTRUMENT_NAME = "HIGH RESOLUTION STEREO CAMERA"
MISSION_NAME = "MARS EXPRESS"
MISSION_PHASE_NAME = ME_Phase_7
PROCESSING_LEVEL_ID = 4
PRODUCT_CREATION_TIME = 2023-02-09T23:17:53.000Z
PRODUCT_ID = "H4080_0000_P14.TIF"
RELEASE_ID = 0005
REVISION_ID = 0000
/* QUALITY DATA ELEMENTS */
DATA_QUALITY_ID = 1
DATA_QUALITY_DESC = "Data calculated based on original SPICE kernels"
/* TIME DATA ELEMENTS */
SPACECRAFT_CLOCK_START_COUNT = "1/0121662954.09071"
SPACECRAFT_CLOCK_STOP_COUNT = "1/0121663298.05992"
START_TIME = 2007-03-11T03:17:57.202Z
STOP_TIME = 2007-03-11T03:21:27.199Z
/* ORBITAL DATA ELEMENTS */
ASCENDING_NODE_LONGITUDE = 142.82
MAXIMUM_RESOLUTION = 0.0702
FOOTPRINT_POINT_LATITUDE = (-39.0899,-39.0872,-39.0843,-39.0804, -39.0731,-39.0668,-39.0575,-39.057, -39.0727,-38.7712,-38.3187,-38.0199, -37.7187,-37.4244,-37.1401,-36.8515, -36.5637,-36.2806,-35.8544,-35.5741, -35.2939,-34.88,-34.604,-34.3326, -34.0606,-33.7908,-33.5241,-33.1252, -32.7313,-32.4689,-32.2111,-31.9525, -31.6928,-31.4365,-31.1835,-30.9325, -30.6856,-30.4377,-30.0661,-29.8221, -29.5773,-29.2114,-28.9706,-28.6139, -28.3756,-28.0237,-27.7888,-27.4383, -26.7476,-26.1821,-26.0693,-25.997, -25.9999,-26.001,-26.0024,-26.0027, -26.0027,-26.0038,-26.5674,-26.9111, -27.3725,-27.8399,-28.0746,-28.4271, -28.667,-28.9072,-29.2672,-29.6336, -29.8785,-30.1214,-30.4941,-30.7435, -31.1207,-31.3744,-31.6249,-31.8846, -32.2743,-32.5312,-32.9233,-33.3222, -33.5921,-33.8598,-34.1295,-34.4024, -34.8133,-35.0893,-35.3659,-35.6491, -35.93,-36.2154,-36.644,-36.9338, -37.2235,-37.5171,-37.8112,-38.1077, -38.4064,-38.8593,-39.011,-39.0899)
FOOTPRINT_POINT_LONGITUDE = (249.593,249.122,248.775,248.404, 247.859,247.464,246.968,246.943,246.926 ,246.949,246.984,247.007,247.031, 247.053,247.068,247.088,247.107,247.124 ,247.152,247.169,247.187,247.211, 247.228,247.243,247.259,247.274,247.288 ,247.31,247.33,247.344,247.356,247.369, 247.383,247.397,247.408,247.418,247.429 ,247.439,247.455,247.465,247.476, 247.492,247.502,247.514,247.524,247.537 ,247.545,247.558,247.582,247.601, 247.605,247.607,248.083,248.391,248.853 ,249.238,249.253,249.258,249.27,249.277 ,249.288,249.299,249.304,249.312, 249.318,249.323,249.332,249.341,249.347 ,249.352,249.361,249.367,249.377, 249.383,249.387,249.396,249.407,249.412 ,249.421,249.433,249.442,249.449, 249.456,249.464,249.475,249.482,249.49, 249.499,249.507,249.516,249.529,249.537 ,249.546,249.555,249.564,249.572, 249.582,249.596,249.601,249.593)
ORBIT_NUMBER = 4080
ORBITAL_ECCENTRICITY = 0.571
ORBITAL_INCLINATION = 86.67
ORBITAL_SEMIMAJOR_AXIS = 8639.45
PERIAPSIS_ALTITUDE = 308.41
PERIAPSIS_ARGUMENT_ANGLE = 359.48
PERIAPSIS_TIME = 2007-03-11T03:27:38.000Z
SPACECRAFT_ORIENTATION = (0.0,1.0,0.0)
^MEX_ORIENTATION_DESC = "MEX_ORIENTATION_DESC.TXT"
SPACECRAFT_POINTING_MODE = NADIR
^MEX_POINTING_DESC = "MEX_POINTING_DESC.TXT"
RIGHT_ASCENSION = -1e+32
DECLINATION = -1e+32
OFFSET_ANGLE = -1e+32
SPACECRAFT_SOLAR_DISTANCE = 2.13915e+08
TARGET_NAME = MARS
/* CAMERA DATA ELEMENTS */
DETECTOR_TEMPERATURE = 17.5549
FOCAL_PLANE_TEMPERATURE = 8.1755
INST_CMPRS_NAME = "DISCRETE COSINE TRANSFORMATION (DCT)"
INST_CMPRS_RATIO = 13.7763
INST_CMPRS_QUALITY = 0
INST_CMPRS_QUANTZ_TBL_ID = 0
INSTRUMENT_TEMPERATURE = 11.234
LENS_TEMPERATURE = 8.5833
MACROPIXEL_SIZE = 4
MISSING_FRAMES = 0
PIXEL_SUBSAMPLING_FLAG = N
SIGNAL_CHAIN_ID = 3
/* RADIOMETRIC DATA ELEMENTS */
BANDWIDTH = 174.0
CENTER_FILTER_WAVELENGTH = 675.0
RADIANCE_OFFSET = 1.45173
RADIANCE_SCALING_FACTOR = 0.0109935
REFLECTANCE_SCALING_FACTOR = 0.000270588
MEX:REFLECTANCE_OFFSET = 0.0357321
/* IMAGE OBJECT DEFINITIONS */
OBJECT = IMAGE
  INTERCHANGE_FORMAT = BINARY
  LINES = 15532
  LINE_SAMPLES = 2627
  SAMPLE_TYPE = UNSIGNED_INTEGER
  SAMPLE_BITS = 8
  BANDS = 1
  BAND_STORAGE_TYPE = BAND_SEQUENTIAL
  MAXIMUM = 255
  MEAN = 79.7756
  MINIMUM = 1
  STANDARD_DEVIATION = 25.7824
END_OBJECT = IMAGE
/* MAP OBJECT DEFINITIONS */
OBJECT = IMAGE_MAP_PROJECTION
  ^DATA_SET_MAP_PROJECTION_CATALOG= "DSMAP.CAT"
  A_AXIS_RADIUS = 3396.0
  B_AXIS_RADIUS = 3396.0
  C_AXIS_RADIUS = 3396.0
  CENTER_LATITUDE = 0.0
  CENTER_LONGITUDE = 248.0
  COORDINATE_SYSTEM_NAME = PLANETOGRAPHIC
  COORDINATE_SYSTEM_TYPE = "BODY-FIXED ROTATING"
  EASTERNMOST_LONGITUDE = 249.601
  FIRST_STANDARD_PARALLEL = "N/A"
  LINE_FIRST_PIXEL = 1
  LINE_LAST_PIXEL = 15532
  LINE_PROJECTION_OFFSET = -30849.625
  MAP_PROJECTION_ROTATION = 0.0
  MAP_PROJECTION_TYPE = SINUSOIDAL
  MAP_RESOLUTION = 1185.42760773333
  MAP_SCALE = 0.05
  MAXIMUM_LATITUDE = -25.997
  MINIMUM_LATITUDE = -39.0899
  POSITIVE_LONGITUDE_DIRECTION = EAST
  REFERENCE_LATITUDE = "N/A"
  REFERENCE_LONGITUDE = "N/A"
  SAMPLE_FIRST_PIXEL = 1
  SAMPLE_LAST_PIXEL = 2627
  SAMPLE_PROJECTION_OFFSET = 1078.625
  SECOND_STANDARD_PARALLEL = "N/A"
  WESTERNMOST_LONGITUDE = 246.926
END_OBJECT = IMAGE_MAP_PROJECTION
END
