PDS_VERSION_ID = PDS3
/* FILE DATA ELEMENTS */
RECORD_TYPE = UNDEFINED
/* POINTERS TO DATA OBJECTS */
^IMAGE = ("H4076_0000_S24.TIF")
/* IDENTIFICATION DATA ELEMENTS */
DATA_SET_ID = "MEX-M-HRSC-4-REFDR-MAPPROJECT-EXT1-V4.0"
DATA_SET_NAME = "MARS EXPRESS HRSC MAP PROJECTED REFDR EXTENSION1 V4.0"
DETECTOR_ID = MEX_HRSC_S2
EVENT_TYPE = "MARS-REGIONAL-MAPPING-Vo-Te-Fl"
INSTRUMENT_HOST_ID = MEX
INSTRUMENT_HOST_NAME = "MARS EXPRESS"
INSTRUMENT_ID = HRSC
INSTRUMENT_NAME = "HIGH RESOLUTION STEREO CAMERA"
MISSION_NAME = "MARS EXPRESS"
MISSION_PHASE_NAME = ME_Phase_7
PROCESSING_LEVEL_ID = 4
PRODUCT_CREATION_TIME = 2023-02-09T23:17:53.000Z
PRODUCT_ID = "H4076_0000_S24.TIF"
RELEASE_ID = 0005
REVISION_ID = 0000
/* QUALITY DATA ELEMENTS */
DATA_QUALITY_ID = 1
DATA_QUALITY_DESC = "Data calculated based on original SPICE kernels"
/* TIME DATA ELEMENTS */
SPACECRAFT_CLOCK_START_COUNT = "1/0121566242.09083"
SPACECRAFT_CLOCK_STOP_COUNT = "1/0121566571.17402"
START_TIME = 2007-03-10T00:24:06.441Z
STOP_TIME = 2007-03-10T00:28:10.209Z
/* ORBITAL DATA ELEMENTS */
ASCENDING_NODE_LONGITUDE = 142.9
MAXIMUM_RESOLUTION = 0.0395
FOOTPRINT_POINT_LATITUDE = (-36.798,-36.7983,-36.7958,-36.7895, -36.7809,-36.7694,-36.7522,-36.7512, -36.7391,-36.4486,-36.0091,-35.7135, -35.4311,-35.0161,-34.7353,-34.4548, -34.1764,-33.7619,-33.3515,-33.0799, -32.8108,-32.5427,-32.2767,-31.88, -31.6161,-31.3557,-30.9653,-30.7076, -30.451,-30.1969,-29.9427,-29.6919, -29.3161,-29.0697,-28.8225,-28.5788, -28.3346,-28.0861,-27.7259,-27.4846, -27.1271,-26.889,-26.6547,-26.419, -25.9536,-25.4911,-25.035,-24.6955, -24.1332,-24.0228,-23.9949,-23.9987, -24.0024,-24.0039,-24.0021,-24.002, -24.0025,-24.3382,-24.7885,-25.1305, -25.5874,-25.82,-26.0523,-26.4023, -26.638,-26.8733,-27.1111,-27.3498, -27.5879,-27.8307,-28.1945,-28.5629, -28.8082,-29.0572,-29.3066,-29.6848, -29.9378,-30.1935,-30.577,-30.8383, -31.097,-31.3596,-31.7534,-32.0181, -32.4144,-32.8165,-33.0865,-33.3595, -33.6329,-33.9068,-34.1767,-34.4585, -34.7439,-35.1647,-35.5908,-35.877, -36.1667,-36.6058,-36.7508,-36.798)
FOOTPRINT_POINT_LONGITUDE = (282.836,282.346,281.886,281.368, 280.908,280.448,279.901,279.872,279.86, 279.884,279.918,279.938,279.962,279.998 ,280.018,280.039,280.058,280.087, 280.115,280.133,280.151,280.168,280.185 ,280.21,280.226,280.241,280.264,280.278 ,280.293,280.307,280.32,280.334,280.353 ,280.367,280.379,280.392,280.404, 280.414,280.431,280.442,280.458,280.469 ,280.479,280.489,280.508,280.527, 280.544,280.557,280.578,280.582,280.583 ,280.876,281.376,281.738,282.342, 282.359,282.366,282.375,282.388,282.398 ,282.412,282.419,282.426,282.436, 282.444,282.451,282.459,282.466,282.474 ,282.482,282.494,282.506,282.514, 282.523,282.531,282.544,282.552,282.561 ,282.575,282.583,282.593,282.602, 282.617,282.627,282.644,282.66,282.672, 282.683,282.694,282.706,282.721,282.732 ,282.742,282.762,282.783,282.796,282.81 ,282.83,282.838,282.836)
ORBIT_NUMBER = 4076
ORBITAL_ECCENTRICITY = 0.571
ORBITAL_INCLINATION = 86.67
ORBITAL_SEMIMAJOR_AXIS = 8630.92
PERIAPSIS_ALTITUDE = 308.96
PERIAPSIS_ARGUMENT_ANGLE = 0.21
PERIAPSIS_TIME = 2007-03-10T00:35:11.000Z
SPACECRAFT_ORIENTATION = (0.0,1.0,0.0)
^MEX_ORIENTATION_DESC = "MEX_ORIENTATION_DESC.TXT"
SPACECRAFT_POINTING_MODE = NADIR
^MEX_POINTING_DESC = "MEX_POINTING_DESC.TXT"
RIGHT_ASCENSION = -1e+32
DECLINATION = -1e+32
OFFSET_ANGLE = -1e+32
SPACECRAFT_SOLAR_DISTANCE = 2.1409e+08
TARGET_NAME = MARS
/* CAMERA DATA ELEMENTS */
DETECTOR_TEMPERATURE = 19.5939
FOCAL_PLANE_TEMPERATURE = 8.3794
INST_CMPRS_NAME = "DISCRETE COSINE TRANSFORMATION (DCT)"
INST_CMPRS_RATIO = 11.9131
INST_CMPRS_QUALITY = 0
INST_CMPRS_QUANTZ_TBL_ID = 0
INSTRUMENT_TEMPERATURE = 11.234
LENS_TEMPERATURE = 8.7872
MACROPIXEL_SIZE = 2
MISSING_FRAMES = 0
PIXEL_SUBSAMPLING_FLAG = N
SIGNAL_CHAIN_ID = 1
/* RADIOMETRIC DATA ELEMENTS */
BANDWIDTH = 178.0
CENTER_FILTER_WAVELENGTH = 679.0
RADIANCE_OFFSET = 1.26335
RADIANCE_SCALING_FACTOR = 0.00948699
REFLECTANCE_SCALING_FACTOR = 0.00023028
MEX:REFLECTANCE_OFFSET = 0.0306656
/* IMAGE OBJECT DEFINITIONS */
OBJECT = IMAGE
  INTERCHANGE_FORMAT = BINARY
  LINES = 30266
  LINE_SAMPLES = 5003
  SAMPLE_TYPE = UNSIGNED_INTEGER
  SAMPLE_BITS = 8
  BANDS = 1
  BAND_STORAGE_TYPE = BAND_SEQUENTIAL
  MAXIMUM = 255
  MEAN = 79.69
  MINIMUM = 1
  STANDARD_DEVIATION = 24.3864
END_OBJECT = IMAGE
/* MAP OBJECT DEFINITIONS */
OBJECT = IMAGE_MAP_PROJECTION
  ^DATA_SET_MAP_PROJECTION_CATALOG= "DSMAP.CAT"
  A_AXIS_RADIUS = 3396.0
  B_AXIS_RADIUS = 3396.0
  C_AXIS_RADIUS = 3396.0
  CENTER_LATITUDE = 0.0
  CENTER_LONGITUDE = 281.0
  COORDINATE_SYSTEM_NAME = PLANETOGRAPHIC
  COORDINATE_SYSTEM_TYPE = "BODY-FIXED ROTATING"
  EASTERNMOST_LONGITUDE = 282.838
  FIRST_STANDARD_PARALLEL = "N/A"
  LINE_FIRST_PIXEL = 1
  LINE_LAST_PIXEL = 30266
  LINE_PROJECTION_OFFSET = -56856.75
  MAP_PROJECTION_ROTATION = 0.0
  MAP_PROJECTION_TYPE = SINUSOIDAL
  MAP_RESOLUTION = 2370.85521546667
  MAP_SCALE = 0.025
  MAXIMUM_LATITUDE = -23.9949
  MINIMUM_LATITUDE = -36.7983
  POSITIVE_LONGITUDE_DIRECTION = EAST
  REFERENCE_LATITUDE = "N/A"
  REFERENCE_LONGITUDE = "N/A"
  SAMPLE_FIRST_PIXEL = 1
  SAMPLE_LAST_PIXEL = 5003
  SAMPLE_PROJECTION_OFFSET = 1852.75
  SECOND_STANDARD_PARALLEL = "N/A"
  WESTERNMOST_LONGITUDE = 279.86
END_OBJECT = IMAGE_MAP_PROJECTION
END
