PDS_VERSION_ID = PDS3
/* FILE DATA ELEMENTS */
RECORD_TYPE = UNDEFINED
/* POINTERS TO DATA OBJECTS */
^IMAGE = ("H4072_0000_S24.TIF")
/* IDENTIFICATION DATA ELEMENTS */
DATA_SET_ID = "MEX-M-HRSC-4-REFDR-MAPPROJECT-EXT1-V4.0"
DATA_SET_NAME = "MARS EXPRESS HRSC MAP PROJECTED REFDR EXTENSION1 V4.0"
DETECTOR_ID = MEX_HRSC_S2
EVENT_TYPE = "MARS-REGIONAL-MAPPING-Te-Im-Fl"
INSTRUMENT_HOST_ID = MEX
INSTRUMENT_HOST_NAME = "MARS EXPRESS"
INSTRUMENT_ID = HRSC
INSTRUMENT_NAME = "HIGH RESOLUTION STEREO CAMERA"
MISSION_NAME = "MARS EXPRESS"
MISSION_PHASE_NAME = ME_Phase_7
PROCESSING_LEVEL_ID = 4
PRODUCT_CREATION_TIME = 2023-02-09T23:17:53.000Z
PRODUCT_ID = "H4072_0000_S24.TIF"
RELEASE_ID = 0005
REVISION_ID = 0000
/* QUALITY DATA ELEMENTS */
DATA_QUALITY_ID = 1
DATA_QUALITY_DESC = "Data calculated based on original SPICE kernels"
/* TIME DATA ELEMENTS */
SPACECRAFT_CLOCK_START_COUNT = "1/0121469474.09083"
SPACECRAFT_CLOCK_STOP_COUNT = "1/0121469780.50017"
START_TIME = 2007-03-08T21:31:18.345Z
STOP_TIME = 2007-03-08T21:34:53.963Z
/* ORBITAL DATA ELEMENTS */
ASCENDING_NODE_LONGITUDE = 142.99
MAXIMUM_RESOLUTION = 0.0422
FOOTPRINT_POINT_LATITUDE = (-36.5249,-36.5257,-36.5235,-36.5176, -36.5093,-36.498,-36.4904,-36.4809, -36.4799,-36.4368,-36.0722,-35.8234, -35.5765,-35.3351,-35.0916,-34.8493, -34.6057,-34.2477,-33.8933,-33.6569, -33.4219,-33.1894,-32.9579,-32.6117, -32.3812,-32.1542,-31.9271,-31.7021, -31.3646,-31.1423,-30.8069,-30.5781, -30.3601,-30.1509,-29.9356,-29.7198, -29.5073,-29.2931,-29.0817,-28.8696, -28.6571,-28.4473,-28.2365,-27.9233, -27.6118,-27.202,-26.794,-26.3912, -25.9908,-25.4972,-25.3999,-25.3519, -25.3547,-25.3627,-25.3651,-25.3662, -25.3657,-25.3656,-25.3661,-25.7593, -26.1547,-26.6517,-27.0577,-27.2677, -27.6789,-28.0929,-28.3041,-28.6195, -28.832,-29.045,-29.257,-29.4725, -29.7951,-30.0125,-30.3383,-30.5582, -30.8882,-31.1112,-31.4458,-31.6717, -31.8968,-32.1247,-32.3529,-32.5838, -32.8161,-33.0496,-33.3976,-33.6334, -33.8654,-34.1069,-34.3449,-34.5853, -34.8274,-35.19,-35.5528,-35.8039, -36.0517,-36.3004,-36.4232,-36.5249)
FOOTPRINT_POINT_LONGITUDE = (315.974,315.479,315.013,314.489, 314.024,313.558,313.296,313.004,312.975 ,312.952,312.986,313.005,313.024, 313.044,313.063,313.081,313.099,313.125 ,313.151,313.167,313.183,313.199, 313.215,313.238,313.253,313.267,313.282 ,313.295,313.316,313.329,313.348, 313.357,313.371,313.385,313.398,313.41, 313.422,313.433,313.445,313.455,313.466 ,313.476,313.486,313.501,313.515, 313.534,313.552,313.569,313.586,313.607 ,313.611,313.613,313.966,314.302, 314.599,315.046,315.511,315.53,315.537, 315.55,315.563,315.582,315.596,315.601, 315.615,315.63,315.637,315.648,315.656, 315.664,315.672,315.68,315.692,315.7, 315.713,315.722,315.735,315.744,315.758 ,315.767,315.777,315.786,315.796, 315.805,315.815,315.824,315.84,315.851, 315.863,315.872,315.884,315.895,315.906 ,315.924,315.943,315.954,315.966, 315.979,315.986,315.974)
ORBIT_NUMBER = 4072
ORBITAL_ECCENTRICITY = 0.57
ORBITAL_INCLINATION = 86.68
ORBITAL_SEMIMAJOR_AXIS = 8621.37
PERIAPSIS_ALTITUDE = 309.68
PERIAPSIS_ARGUMENT_ANGLE = 0.93
PERIAPSIS_TIME = 2007-03-08T21:42:33.000Z
SPACECRAFT_ORIENTATION = (0.0,1.0,0.0)
^MEX_ORIENTATION_DESC = "MEX_ORIENTATION_DESC.TXT"
SPACECRAFT_POINTING_MODE = NADIR
^MEX_POINTING_DESC = "MEX_POINTING_DESC.TXT"
RIGHT_ASCENSION = -1e+32
DECLINATION = -1e+32
OFFSET_ANGLE = -1e+32
SPACECRAFT_SOLAR_DISTANCE = 2.14267e+08
TARGET_NAME = MARS
/* CAMERA DATA ELEMENTS */
DETECTOR_TEMPERATURE = 18.7783
FOCAL_PLANE_TEMPERATURE = 8.3794
INST_CMPRS_NAME = "DISCRETE COSINE TRANSFORMATION (DCT)"
INST_CMPRS_RATIO = 13.7274
INST_CMPRS_QUALITY = 0
INST_CMPRS_QUANTZ_TBL_ID = 0
INSTRUMENT_TEMPERATURE = 11.234
LENS_TEMPERATURE = 8.5833
MACROPIXEL_SIZE = 2
MISSING_FRAMES = 0
PIXEL_SUBSAMPLING_FLAG = N
SIGNAL_CHAIN_ID = 1
/* RADIOMETRIC DATA ELEMENTS */
BANDWIDTH = 178.0
CENTER_FILTER_WAVELENGTH = 679.0
RADIANCE_OFFSET = 1.61633
RADIANCE_SCALING_FACTOR = 0.00488141
REFLECTANCE_SCALING_FACTOR = 0.000118683
MEX:REFLECTANCE_OFFSET = 0.0392982
/* IMAGE OBJECT DEFINITIONS */
OBJECT = IMAGE
  INTERCHANGE_FORMAT = BINARY
  LINES = 26384
  LINE_SAMPLES = 5122
  SAMPLE_TYPE = UNSIGNED_INTEGER
  SAMPLE_BITS = 8
  BANDS = 1
  BAND_STORAGE_TYPE = BAND_SEQUENTIAL
  MAXIMUM = 255
  MEAN = 109.598
  MINIMUM = 1
  STANDARD_DEVIATION = 41.2769
END_OBJECT = IMAGE
/* MAP OBJECT DEFINITIONS */
OBJECT = IMAGE_MAP_PROJECTION
  ^DATA_SET_MAP_PROJECTION_CATALOG= "DSMAP.CAT"
  A_AXIS_RADIUS = 3396.0
  B_AXIS_RADIUS = 3396.0
  C_AXIS_RADIUS = 3396.0
  CENTER_LATITUDE = 0.0
  CENTER_LONGITUDE = 315.0
  COORDINATE_SYSTEM_NAME = PLANETOGRAPHIC
  COORDINATE_SYSTEM_TYPE = "BODY-FIXED ROTATING"
  EASTERNMOST_LONGITUDE = 315.986
  FIRST_STANDARD_PARALLEL = "N/A"
  LINE_FIRST_PIXEL = 1
  LINE_LAST_PIXEL = 26384
  LINE_PROJECTION_OFFSET = -60102.25
  MAP_PROJECTION_ROTATION = 0.0
  MAP_PROJECTION_TYPE = SINUSOIDAL
  MAP_RESOLUTION = 2370.85521546667
  MAP_SCALE = 0.025
  MAXIMUM_LATITUDE = -25.3519
  MINIMUM_LATITUDE = -36.5257
  POSITIVE_LONGITUDE_DIRECTION = EAST
  REFERENCE_LATITUDE = "N/A"
  REFERENCE_LONGITUDE = "N/A"
  SAMPLE_FIRST_PIXEL = 1
  SAMPLE_LAST_PIXEL = 5122
  SAMPLE_PROJECTION_OFFSET = 3587.25
  SECOND_STANDARD_PARALLEL = "N/A"
  WESTERNMOST_LONGITUDE = 312.952
END_OBJECT = IMAGE_MAP_PROJECTION
END
