PDS_VERSION_ID = PDS3
/* FILE DATA ELEMENTS */
RECORD_TYPE = UNDEFINED
/* POINTERS TO DATA OBJECTS */
^IMAGE = ("H4072_0000_IR4.TIF")
/* IDENTIFICATION DATA ELEMENTS */
DATA_SET_ID = "MEX-M-HRSC-4-REFDR-MAPPROJECT-EXT1-V4.0"
DATA_SET_NAME = "MARS EXPRESS HRSC MAP PROJECTED REFDR EXTENSION1 V4.0"
DETECTOR_ID = MEX_HRSC_IR
EVENT_TYPE = "MARS-REGIONAL-MAPPING-Te-Im-Fl"
INSTRUMENT_HOST_ID = MEX
INSTRUMENT_HOST_NAME = "MARS EXPRESS"
INSTRUMENT_ID = HRSC
INSTRUMENT_NAME = "HIGH RESOLUTION STEREO CAMERA"
MISSION_NAME = "MARS EXPRESS"
MISSION_PHASE_NAME = ME_Phase_7
PROCESSING_LEVEL_ID = 4
PRODUCT_CREATION_TIME = 2023-02-09T23:17:53.000Z
PRODUCT_ID = "H4072_0000_IR4.TIF"
RELEASE_ID = 0005
REVISION_ID = 0000
/* QUALITY DATA ELEMENTS */
DATA_QUALITY_ID = 1
DATA_QUALITY_DESC = "Data calculated based on original SPICE kernels"
/* TIME DATA ELEMENTS */
SPACECRAFT_CLOCK_START_COUNT = "1/0121469474.09083"
SPACECRAFT_CLOCK_STOP_COUNT = "1/0121469780.50017"
START_TIME = 2007-03-08T21:33:21.166Z
STOP_TIME = 2007-03-08T21:36:16.557Z
/* ORBITAL DATA ELEMENTS */
ASCENDING_NODE_LONGITUDE = 142.99
MAXIMUM_RESOLUTION = 0.1456
FOOTPRINT_POINT_LATITUDE = (-36.4244,-36.4216,-36.4179,-36.4144, -36.4108,-36.4058,-36.4018,-36.4015, -36.4344,-36.1777,-35.8015,-35.4321, -35.1845,-34.9428,-34.7025,-34.4594, -34.1011,-33.7481,-33.5101,-33.2752, -32.9257,-32.695,-32.3486,-32.1217, -31.782,-31.5567,-31.2225,-30.9992, -30.6738,-30.3411,-30.1206,-29.904, -29.5815,-29.3642,-29.1506,-28.9405, -28.6271,-28.4129,-28.1043,-27.8986, -27.692,-27.3849,-26.9799,-26.7769, -26.5748,-26.1788,-25.8803,-25.4853, -25.3883,-25.3418,-25.3417,-25.3409, -25.3414,-25.3419,-25.3422,-25.3421, -25.3443,-25.8359,-26.4331,-26.7383, -26.9416,-27.2418,-27.5463,-27.7537, -27.9607,-28.1675,-28.3738,-28.585, -28.7962,-29.0056,-29.217,-29.5391, -29.8622,-30.0775,-30.2973,-30.5187, -30.7363,-30.9579,-31.1816,-31.4051, -31.6282,-31.8553,-32.0828,-32.31, -32.655,-33.0026,-33.234,-33.4697, -33.8226,-34.0619,-34.421,-34.6623, -34.9047,-35.1476,-35.3969,-35.7703, -36.0193,-36.2696,-36.3968,-36.4244)
FOOTPRINT_POINT_LONGITUDE = (315.7,315.127,314.645,314.278,313.957, 313.567,313.292,313.269,313.24,313.259, 313.283,313.305,313.321,313.335,313.347 ,313.362,313.382,313.399,313.413, 313.426,313.444,313.455,313.473,313.484 ,313.5,313.51,313.525,313.536,313.548, 313.564,313.574,313.583,313.597,313.606 ,313.615,313.623,313.634,313.643, 313.654,313.662,313.669,313.68,313.694, 313.701,313.707,313.72,313.73,313.743, 313.746,313.746,314.043,314.451,314.812 ,315.11,315.392,315.408,315.418,315.43, 315.444,315.454,315.458,315.464,315.471 ,315.476,315.481,315.486,315.491, 315.497,315.502,315.506,315.512,315.52, 315.528,315.534,315.54,315.546,315.551, 315.558,315.564,315.569,315.576,315.582 ,315.588,315.594,315.603,315.613, 315.619,315.626,315.636,315.643,315.653 ,315.66,315.667,315.674,315.683,315.695 ,315.702,315.71,315.715,315.7)
ORBIT_NUMBER = 4072
ORBITAL_ECCENTRICITY = 0.57
ORBITAL_INCLINATION = 86.68
ORBITAL_SEMIMAJOR_AXIS = 8621.37
PERIAPSIS_ALTITUDE = 309.68
PERIAPSIS_ARGUMENT_ANGLE = 0.93
PERIAPSIS_TIME = 2007-03-08T21:42:33.000Z
SPACECRAFT_ORIENTATION = (0.0,1.0,0.0)
^MEX_ORIENTATION_DESC = "MEX_ORIENTATION_DESC.TXT"
SPACECRAFT_POINTING_MODE = NADIR
^MEX_POINTING_DESC = "MEX_POINTING_DESC.TXT"
RIGHT_ASCENSION = -1e+32
DECLINATION = -1e+32
OFFSET_ANGLE = -1e+32
SPACECRAFT_SOLAR_DISTANCE = 2.14267e+08
TARGET_NAME = MARS
/* CAMERA DATA ELEMENTS */
DETECTOR_TEMPERATURE = 17.9627
FOCAL_PLANE_TEMPERATURE = 8.3794
INST_CMPRS_NAME = "DISCRETE COSINE TRANSFORMATION (DCT)"
INST_CMPRS_RATIO = 26.0595
INST_CMPRS_QUALITY = 0
INST_CMPRS_QUANTZ_TBL_ID = 0
INSTRUMENT_TEMPERATURE = 11.234
LENS_TEMPERATURE = 8.5833
MACROPIXEL_SIZE = 8
MISSING_FRAMES = 0
PIXEL_SUBSAMPLING_FLAG = N
SIGNAL_CHAIN_ID = 2
/* RADIOMETRIC DATA ELEMENTS */
BANDWIDTH = 81.0
CENTER_FILTER_WAVELENGTH = 955.5
RADIANCE_OFFSET = 0.300377
RADIANCE_SCALING_FACTOR = 0.00123785
REFLECTANCE_SCALING_FACTOR = 0.000122605
MEX:REFLECTANCE_OFFSET = 0.0297515
/* IMAGE OBJECT DEFINITIONS */
OBJECT = IMAGE
  INTERCHANGE_FORMAT = BINARY
  LINES = 6596
  LINE_SAMPLES = 1281
  SAMPLE_TYPE = UNSIGNED_INTEGER
  SAMPLE_BITS = 8
  BANDS = 1
  BAND_STORAGE_TYPE = BAND_SEQUENTIAL
  MAXIMUM = 255
  MEAN = 114.572
  MINIMUM = 1
  STANDARD_DEVIATION = 39.9157
END_OBJECT = IMAGE
/* MAP OBJECT DEFINITIONS */
OBJECT = IMAGE_MAP_PROJECTION
  ^DATA_SET_MAP_PROJECTION_CATALOG= "DSMAP.CAT"
  A_AXIS_RADIUS = 3396.0
  B_AXIS_RADIUS = 3396.0
  C_AXIS_RADIUS = 3396.0
  CENTER_LATITUDE = 0.0
  CENTER_LONGITUDE = 315.0
  COORDINATE_SYSTEM_NAME = PLANETOGRAPHIC
  COORDINATE_SYSTEM_TYPE = "BODY-FIXED ROTATING"
  EASTERNMOST_LONGITUDE = 315.715
  FIRST_STANDARD_PARALLEL = "N/A"
  LINE_FIRST_PIXEL = 1
  LINE_LAST_PIXEL = 6596
  LINE_PROJECTION_OFFSET = -15025.9375
  MAP_PROJECTION_ROTATION = 0.0
  MAP_PROJECTION_TYPE = SINUSOIDAL
  MAP_RESOLUTION = 592.713803866667
  MAP_SCALE = 0.1
  MAXIMUM_LATITUDE = -25.3409
  MINIMUM_LATITUDE = -36.4344
  POSITIVE_LONGITUDE_DIRECTION = EAST
  REFERENCE_LATITUDE = "N/A"
  REFERENCE_LONGITUDE = "N/A"
  SAMPLE_FIRST_PIXEL = 1
  SAMPLE_LAST_PIXEL = 1281
  SAMPLE_PROJECTION_OFFSET = 896.4375
  SECOND_STANDARD_PARALLEL = "N/A"
  WESTERNMOST_LONGITUDE = 313.24
END_OBJECT = IMAGE_MAP_PROJECTION
END
