PDS_VERSION_ID = PDS3
/* FILE DATA ELEMENTS */
RECORD_TYPE = UNDEFINED
/* POINTERS TO DATA OBJECTS */
^IMAGE = ("H3692_0000_P24.TIF")
/* IDENTIFICATION DATA ELEMENTS */
DATA_SET_ID = "MEX-M-HRSC-4-REFDR-MAPPROJECT-EXT1-V4.0"
DATA_SET_NAME = "MARS EXPRESS HRSC MAP PROJECTED REFDR EXTENSION1 V4.0"
DETECTOR_ID = MEX_HRSC_P2
EVENT_TYPE = "MARS-LOCAL-STEREO-Gl-Eo-La"
INSTRUMENT_HOST_ID = MEX
INSTRUMENT_HOST_NAME = "MARS EXPRESS"
INSTRUMENT_ID = HRSC
INSTRUMENT_NAME = "HIGH RESOLUTION STEREO CAMERA"
MISSION_NAME = "MARS EXPRESS"
MISSION_PHASE_NAME = ME_Phase_6
PROCESSING_LEVEL_ID = 4
PRODUCT_CREATION_TIME = 2023-02-09T17:15:12.000Z
PRODUCT_ID = "H3692_0000_P24.TIF"
RELEASE_ID = 0004
REVISION_ID = 0000
/* QUALITY DATA ELEMENTS */
DATA_QUALITY_ID = 1
DATA_QUALITY_DESC = "Data calculated based on original SPICE kernels"
/* TIME DATA ELEMENTS */
SPACECRAFT_CLOCK_START_COUNT = "1/0112278558.09093"
SPACECRAFT_CLOCK_STOP_COUNT = "1/0112278787.42008"
START_TIME = 2006-11-22T12:29:37.782Z
STOP_TIME = 2006-11-22T12:31:24.474Z
/* ORBITAL DATA ELEMENTS */
ASCENDING_NODE_LONGITUDE = 150.9
MAXIMUM_RESOLUTION = 0.0364
FOOTPRINT_POINT_LATITUDE = (83.2863,83.3914,83.5174,83.6451, 83.7653,83.8776,83.9816,84.048,84.0538, 83.9877,83.8152,83.5844,83.2296,82.9912 ,82.8119,82.5697,82.3856,82.1397, 81.8933,81.7049,81.5787,81.4525,81.3262 ,81.1993,81.0728,80.944,80.7502,80.6208 ,80.4914,80.3605,80.2298,80.0985, 79.9667,79.8346,79.7017,79.57,79.3686, 79.2339,79.0992,78.8941,78.7586,78.6214 ,78.4156,78.2783,78.1412,77.9332, 77.7934,77.6538,77.584,77.5525,77.5067, 77.4688,77.439,77.4074,77.3738,77.3295, 77.2918,77.2524,77.2007,77.1629,77.1123 ,77.1065,77.1051,77.2407,77.3764, 77.5119,77.6465,77.8462,78.0456,78.1783 ,78.3108,78.4407,78.5703,78.7018, 78.8308,78.9603,79.0901,79.2171,79.3436 ,79.4711,79.6612,79.7863,79.9104, 80.0337,80.1569,80.3414,80.4641,80.7043 ,80.8836,81.1807,81.4132,81.586,81.8149 ,82.0416,82.2075,82.5374,82.8059, 83.1187,83.1703,83.2863)
FOOTPRINT_POINT_LONGITUDE = (356.492,357.832,359.568,361.5,363.516, 365.614,367.797,369.347,369.49,370.386, 371.031,371.833,372.955,373.64,374.124, 374.739,375.178,375.731,376.25,376.625, 376.867,377.1,377.328,377.551,377.765, 377.975,378.282,378.48,378.671,378.866, 379.05,379.226,379.399,379.569,379.738, 379.897,380.135,380.288,380.437,380.668 ,380.81,380.948,381.15,381.281,381.408, 381.595,381.717,381.835,381.894,381.92, 380.59,379.622,378.924,378.231,377.541, 376.686,376.006,375.333,374.497,373.917 ,373.176,373.094,373.064,372.886, 372.704,372.518,372.329,372.04,371.741, 371.535,371.325,371.113,370.897,370.674 ,370.446,370.213,369.976,369.735, 369.488,369.234,368.842,368.574,368.302 ,368.023,367.737,367.293,366.987, 366.361,365.87,365.006,364.281,363.713, 362.917,362.076,361.425,360.029,358.774 ,357.164,356.881,356.492)
ORBIT_NUMBER = 3692
ORBITAL_ECCENTRICITY = 0.564
ORBITAL_INCLINATION = 86.66
ORBITAL_SEMIMAJOR_AXIS = 8542.23
PERIAPSIS_ALTITUDE = 345.07
PERIAPSIS_ARGUMENT_ANGLE = 68.38
PERIAPSIS_TIME = 2006-11-22T12:23:01.000Z
SPACECRAFT_ORIENTATION = (0.0,1.0,0.0)
^MEX_ORIENTATION_DESC = "MEX_ORIENTATION_DESC.TXT"
SPACECRAFT_POINTING_MODE = ACROSSTRACK
^MEX_POINTING_DESC = "MEX_POINTING_DESC.TXT"
RIGHT_ASCENSION = -1e+32
DECLINATION = -1e+32
OFFSET_ANGLE = 0.27
SPACECRAFT_SOLAR_DISTANCE = 2.34087e+08
TARGET_NAME = MARS
/* CAMERA DATA ELEMENTS */
DETECTOR_TEMPERATURE = 16.7393
FOCAL_PLANE_TEMPERATURE = 7.7677
INST_CMPRS_NAME = "DISCRETE COSINE TRANSFORMATION (DCT)"
INST_CMPRS_RATIO = 7.56619
INST_CMPRS_QUALITY = 0
INST_CMPRS_QUANTZ_TBL_ID = 0
INSTRUMENT_TEMPERATURE = 11.0301
LENS_TEMPERATURE = 7.3599
MACROPIXEL_SIZE = 2
MISSING_FRAMES = 0
PIXEL_SUBSAMPLING_FLAG = N
SIGNAL_CHAIN_ID = 3
/* RADIOMETRIC DATA ELEMENTS */
BANDWIDTH = 177.0
CENTER_FILTER_WAVELENGTH = 676.5
RADIANCE_OFFSET = 2.49142
RADIANCE_SCALING_FACTOR = 0.0205828
REFLECTANCE_SCALING_FACTOR = 0.000598018
MEX:REFLECTANCE_OFFSET = 0.0723866
/* IMAGE OBJECT DEFINITIONS */
OBJECT = IMAGE
  INTERCHANGE_FORMAT = BINARY
  LINES = 16354
  LINE_SAMPLES = 9519
  SAMPLE_TYPE = UNSIGNED_INTEGER
  SAMPLE_BITS = 8
  BANDS = 1
  BAND_STORAGE_TYPE = BAND_SEQUENTIAL
  MAXIMUM = 255
  MEAN = 161.912
  MINIMUM = 1
  STANDARD_DEVIATION = 49.4121
END_OBJECT = IMAGE
/* MAP OBJECT DEFINITIONS */
OBJECT = IMAGE_MAP_PROJECTION
  ^DATA_SET_MAP_PROJECTION_CATALOG= "DSMAP.CAT"
  A_AXIS_RADIUS = 3396.0
  B_AXIS_RADIUS = 3396.0
  C_AXIS_RADIUS = 3396.0
  CENTER_LATITUDE = 0.0
  CENTER_LONGITUDE = 12.0
  COORDINATE_SYSTEM_NAME = PLANETOGRAPHIC
  COORDINATE_SYSTEM_TYPE = "BODY-FIXED ROTATING"
  EASTERNMOST_LONGITUDE = 21.92
  FIRST_STANDARD_PARALLEL = "N/A"
  LINE_FIRST_PIXEL = 1
  LINE_LAST_PIXEL = 16354
  LINE_PROJECTION_OFFSET = 199145.75
  MAP_PROJECTION_ROTATION = 0.0
  MAP_PROJECTION_TYPE = SINUSOIDAL
  MAP_RESOLUTION = 2370.85521546667
  MAP_SCALE = 0.025
  MAXIMUM_LATITUDE = 84.0538
  MINIMUM_LATITUDE = 77.10509999999999
  POSITIVE_LONGITUDE_DIRECTION = EAST
  REFERENCE_LATITUDE = "N/A"
  REFERENCE_LONGITUDE = "N/A"
  SAMPLE_FIRST_PIXEL = 1
  SAMPLE_LAST_PIXEL = 9519
  SAMPLE_PROJECTION_OFFSET = 4369.75
  SECOND_STANDARD_PARALLEL = "N/A"
  WESTERNMOST_LONGITUDE = -3.508
END_OBJECT = IMAGE_MAP_PROJECTION
END
