PDS_VERSION_ID = PDS3
/* FILE DATA ELEMENTS */
RECORD_TYPE = UNDEFINED
/* POINTERS TO DATA OBJECTS */
^IMAGE = ("H3692_0000_ND4.TIF")
/* IDENTIFICATION DATA ELEMENTS */
DATA_SET_ID = "MEX-M-HRSC-4-REFDR-MAPPROJECT-EXT1-V4.0"
DATA_SET_NAME = "MARS EXPRESS HRSC MAP PROJECTED REFDR EXTENSION1 V4.0"
DETECTOR_ID = MEX_HRSC_NADIR
EVENT_TYPE = "MARS-LOCAL-STEREO-Gl-Eo-La"
INSTRUMENT_HOST_ID = MEX
INSTRUMENT_HOST_NAME = "MARS EXPRESS"
INSTRUMENT_ID = HRSC
INSTRUMENT_NAME = "HIGH RESOLUTION STEREO CAMERA"
MISSION_NAME = "MARS EXPRESS"
MISSION_PHASE_NAME = ME_Phase_6
PROCESSING_LEVEL_ID = 4
PRODUCT_CREATION_TIME = 2023-02-09T17:15:12.000Z
PRODUCT_ID = "H3692_0000_ND4.TIF"
RELEASE_ID = 0004
REVISION_ID = 0000
/* QUALITY DATA ELEMENTS */
DATA_QUALITY_ID = 1
DATA_QUALITY_DESC = "Data calculated based on original SPICE kernels"
/* TIME DATA ELEMENTS */
SPACECRAFT_CLOCK_START_COUNT = "1/0112278558.09093"
SPACECRAFT_CLOCK_STOP_COUNT = "1/0112278787.42008"
START_TIME = 2006-11-22T12:30:08.857Z
STOP_TIME = 2006-11-22T12:32:01.864Z
/* ORBITAL DATA ELEMENTS */
ASCENDING_NODE_LONGITUDE = 150.9
MAXIMUM_RESOLUTION = 0.0185
FOOTPRINT_POINT_LATITUDE = (83.181,83.2554,83.3636,83.4334,83.5015 ,83.5676,83.686,83.746,83.811,83.8663, 83.9699,83.976,83.9974,83.7676,83.4735, 83.2368,82.9995,82.7566,82.5133,82.2696 ,82.083,81.8338,81.5844,81.394,81.1394, 80.8847,80.7552,80.6254,80.4955,80.3659 ,80.2361,80.1048,79.9725,79.8403, 79.7081,79.5759,79.3751,79.2406,79.106, 78.9716,78.7686,78.6318,78.495,78.3584, 78.2217,78.0827,77.9438,77.805,77.6663, 77.5965,77.5766,77.5507,77.5153,77.4564 ,77.422,77.362,77.3225,77.281,77.2377, 77.1632,77.1087,77.1025,77.0998,77.3023 ,77.4369,77.5714,77.7724,77.9046, 78.0367,78.1687,78.3663,78.4958,78.6255 ,78.7548,78.8841,79.0127,79.1398, 79.2666,79.3932,79.5198,79.6455,79.7693 ,79.8932,80.0168,80.1403,80.2636,80.505 ,80.8057,81.1598,81.3932,81.6243, 81.8505,82.0754,82.4066,82.5688,82.7834 ,82.9428,83.0977,83.1491,83.181)
FOOTPRINT_POINT_LONGITUDE = (356.705,357.634,359.068,360.05,361.056 ,362.083,364.068,365.158,366.411,367.55 ,369.895,370.044,370.624,371.47,372.458 ,373.188,373.867,374.513,375.115, 375.679,376.086,376.599,377.081,377.429 ,377.873,378.288,378.49,378.687,378.878 ,379.07,379.252,379.427,379.6,379.77, 379.937,380.096,380.331,380.484,380.632 ,380.777,381.0,381.138,381.272,381.403, 381.531,381.658,381.782,381.903,382.02, 382.078,382.095,381.334,380.387,378.981 ,378.24,377.044,376.315,375.591,374.872 ,373.717,372.926,372.838,372.795, 372.527,372.344,372.156,371.867,371.672 ,371.472,371.266,370.949,370.734, 370.517,370.29,370.058,369.822,369.588, 369.344,369.092,368.836,368.574,368.307 ,368.035,367.755,367.467,367.171, 366.567,365.765,364.739,364.01,363.241, 362.44,361.59,360.23,359.511,358.499, 357.699,356.878,356.595,356.705)
ORBIT_NUMBER = 3692
ORBITAL_ECCENTRICITY = 0.564
ORBITAL_INCLINATION = 86.66
ORBITAL_SEMIMAJOR_AXIS = 8542.23
PERIAPSIS_ALTITUDE = 345.07
PERIAPSIS_ARGUMENT_ANGLE = 68.38
PERIAPSIS_TIME = 2006-11-22T12:23:01.000Z
SPACECRAFT_ORIENTATION = (0.0,1.0,0.0)
^MEX_ORIENTATION_DESC = "MEX_ORIENTATION_DESC.TXT"
SPACECRAFT_POINTING_MODE = ACROSSTRACK
^MEX_POINTING_DESC = "MEX_POINTING_DESC.TXT"
RIGHT_ASCENSION = -1e+32
DECLINATION = -1e+32
OFFSET_ANGLE = 0.27
SPACECRAFT_SOLAR_DISTANCE = 2.34087e+08
TARGET_NAME = MARS
/* CAMERA DATA ELEMENTS */
DETECTOR_TEMPERATURE = 18.3705
FOCAL_PLANE_TEMPERATURE = 7.7677
INST_CMPRS_NAME = "DISCRETE COSINE TRANSFORMATION (DCT)"
INST_CMPRS_RATIO = 6.40271
INST_CMPRS_QUALITY = 0
INST_CMPRS_QUANTZ_TBL_ID = 0
INSTRUMENT_TEMPERATURE = 11.0301
LENS_TEMPERATURE = 7.3599
MACROPIXEL_SIZE = 1
MISSING_FRAMES = 0
PIXEL_SUBSAMPLING_FLAG = N
SIGNAL_CHAIN_ID = 0
/* RADIOMETRIC DATA ELEMENTS */
BANDWIDTH = 177.0
CENTER_FILTER_WAVELENGTH = 677.5
RADIANCE_OFFSET = 2.21172
RADIANCE_SCALING_FACTOR = 0.0215229
REFLECTANCE_SCALING_FACTOR = 0.000626526
MEX:REFLECTANCE_OFFSET = 0.0643826
/* IMAGE OBJECT DEFINITIONS */
OBJECT = IMAGE
  INTERCHANGE_FORMAT = BINARY
  LINES = 32708
  LINE_SAMPLES = 19038
  SAMPLE_TYPE = UNSIGNED_INTEGER
  SAMPLE_BITS = 8
  BANDS = 1
  BAND_STORAGE_TYPE = BAND_SEQUENTIAL
  MAXIMUM = 254
  MEAN = 158.22
  MINIMUM = 1
  STANDARD_DEVIATION = 46.8576
END_OBJECT = IMAGE
/* MAP OBJECT DEFINITIONS */
OBJECT = IMAGE_MAP_PROJECTION
  ^DATA_SET_MAP_PROJECTION_CATALOG= "DSMAP.CAT"
  A_AXIS_RADIUS = 3396.0
  B_AXIS_RADIUS = 3396.0
  C_AXIS_RADIUS = 3396.0
  CENTER_LATITUDE = 0.0
  CENTER_LONGITUDE = 12.0
  COORDINATE_SYSTEM_NAME = PLANETOGRAPHIC
  COORDINATE_SYSTEM_TYPE = "BODY-FIXED ROTATING"
  EASTERNMOST_LONGITUDE = 22.095
  FIRST_STANDARD_PARALLEL = "N/A"
  LINE_FIRST_PIXEL = 1
  LINE_LAST_PIXEL = 32708
  LINE_PROJECTION_OFFSET = 398292.0
  MAP_PROJECTION_ROTATION = 0.0
  MAP_PROJECTION_TYPE = SINUSOIDAL
  MAP_RESOLUTION = 4741.71043093333
  MAP_SCALE = 0.0125
  MAXIMUM_LATITUDE = 83.9974
  MINIMUM_LATITUDE = 77.0998
  POSITIVE_LONGITUDE_DIRECTION = EAST
  REFERENCE_LATITUDE = "N/A"
  REFERENCE_LONGITUDE = "N/A"
  SAMPLE_FIRST_PIXEL = 1
  SAMPLE_LAST_PIXEL = 19038
  SAMPLE_PROJECTION_OFFSET = 8740.0
  SECOND_STANDARD_PARALLEL = "N/A"
  WESTERNMOST_LONGITUDE = -3.405
END_OBJECT = IMAGE_MAP_PROJECTION
END
