PDS_VERSION_ID = PDS3
/* FILE DATA ELEMENTS */
RECORD_TYPE = UNDEFINED
/* POINTERS TO DATA OBJECTS */
^IMAGE = ("H3685_0000_IR4.TIF")
/* IDENTIFICATION DATA ELEMENTS */
DATA_SET_ID = "MEX-M-HRSC-4-REFDR-MAPPROJECT-EXT1-V4.0"
DATA_SET_NAME = "MARS EXPRESS HRSC MAP PROJECTED REFDR EXTENSION1 V4.0"
DETECTOR_ID = MEX_HRSC_IR
EVENT_TYPE = "MARS-REGIONAL-MAPPING-Gl-Eo-La"
INSTRUMENT_HOST_ID = MEX
INSTRUMENT_HOST_NAME = "MARS EXPRESS"
INSTRUMENT_ID = HRSC
INSTRUMENT_NAME = "HIGH RESOLUTION STEREO CAMERA"
MISSION_NAME = "MARS EXPRESS"
MISSION_PHASE_NAME = ME_Phase_6
PROCESSING_LEVEL_ID = 4
PRODUCT_CREATION_TIME = 2023-02-09T17:15:12.000Z
PRODUCT_ID = "H3685_0000_IR4.TIF"
RELEASE_ID = 0004
REVISION_ID = 0000
/* QUALITY DATA ELEMENTS */
DATA_QUALITY_ID = 1
DATA_QUALITY_DESC = "Data calculated based on original SPICE kernels"
/* TIME DATA ELEMENTS */
SPACECRAFT_CLOCK_START_COUNT = "1/0112109169.07286"
SPACECRAFT_CLOCK_STOP_COUNT = "1/0112109447.02535"
START_TIME = 2006-11-20T13:27:33.235Z
STOP_TIME = 2006-11-20T13:30:37.164Z
/* ORBITAL DATA ELEMENTS */
ASCENDING_NODE_LONGITUDE = 151.04
MAXIMUM_RESOLUTION = 0.0806
FOOTPRINT_POINT_LATITUDE = (85.189,85.3792,85.6763,85.9284,86.1143 ,86.4464,86.4571,86.5672,86.2416, 86.0328,85.7417,85.434,85.2752,85.1147, 84.7928,84.6264,84.4564,84.2836,84.1108 ,83.9331,83.7534,83.5747,83.3942,83.211 ,83.0276,82.8435,82.5627,82.3744, 82.1859,81.9947,81.8024,81.6101,81.3176 ,81.1216,80.9256,80.7262,80.5267, 80.3284,80.1264,79.8248,79.5161,79.3095 ,79.1058,78.8955,78.6869,78.3707,78.159 ,77.8376,77.5152,77.4063,77.3093, 77.2256,77.1404,77.069,76.9804,76.8958, 76.7985,76.7922,76.7914,77.1064,77.3139 ,77.6237,77.8279,78.1328,78.3335, 78.6333,78.8303,79.0272,79.3196,79.6089 ,79.8924,80.0804,80.2679,80.4524, 80.6363,80.8197,80.9995,81.1786,81.4451 ,81.6191,81.7924,81.9648,82.1332, 82.3835,82.5489,82.791,83.0285,83.1852, 83.3367,83.4864,83.6339,83.9173,84.1211 ,84.2547,84.3842,84.7469,84.9679, 85.1205,85.1692,85.189)
FOOTPRINT_POINT_LONGITUDE = (300.786,302.26,304.878,307.471,309.663 ,314.372,314.544,313.77,318.868,321.52, 324.672,327.42,328.677,329.851,331.967, 332.944,333.865,334.73,335.543,336.321, 337.056,337.748,338.403,339.033,339.628 ,340.191,340.992,341.495,341.972, 342.432,342.872,343.291,343.891,344.269 ,344.631,344.981,345.317,345.64,345.953 ,346.4,346.822,347.09,347.352,347.603, 347.845,348.196,348.419,348.742,349.048 ,349.148,349.236,347.123,345.306, 343.959,342.449,341.133,339.747,339.661 ,339.631,339.198,338.9,338.434,338.112, 337.61,337.262,336.718,336.343,335.952, 335.34,334.698,334.032,333.566,333.08, 332.579,332.057,331.513,330.954,330.37, 329.448,328.809,328.14,327.441,326.721, 325.58,324.772,323.504,322.155,321.192, 320.211,319.181,318.103,315.84,314.024, 312.717,311.35,306.96,303.689,301.093, 300.182,300.786)
ORBIT_NUMBER = 3685
ORBITAL_ECCENTRICITY = 0.564
ORBITAL_INCLINATION = 86.68
ORBITAL_SEMIMAJOR_AXIS = 8539.63
PERIAPSIS_ALTITUDE = 345.54
PERIAPSIS_ARGUMENT_ANGLE = 69.61
PERIAPSIS_TIME = 2006-11-20T13:21:00.000Z
SPACECRAFT_ORIENTATION = (0.0,1.0,0.0)
^MEX_ORIENTATION_DESC = "MEX_ORIENTATION_DESC.TXT"
SPACECRAFT_POINTING_MODE = NADIR
^MEX_POINTING_DESC = "MEX_POINTING_DESC.TXT"
RIGHT_ASCENSION = -1e+32
DECLINATION = -1e+32
OFFSET_ANGLE = -1e+32
SPACECRAFT_SOLAR_DISTANCE = 2.34442e+08
TARGET_NAME = MARS
/* CAMERA DATA ELEMENTS */
DETECTOR_TEMPERATURE = 17.1471
FOCAL_PLANE_TEMPERATURE = 7.7677
INST_CMPRS_NAME = "DISCRETE COSINE TRANSFORMATION (DCT)"
INST_CMPRS_RATIO = 17.7242
INST_CMPRS_QUALITY = 0
INST_CMPRS_QUANTZ_TBL_ID = 0
INSTRUMENT_TEMPERATURE = 10.8262
LENS_TEMPERATURE = 8.3794
MACROPIXEL_SIZE = 4
MISSING_FRAMES = 0
PIXEL_SUBSAMPLING_FLAG = N
SIGNAL_CHAIN_ID = 2
/* RADIOMETRIC DATA ELEMENTS */
BANDWIDTH = 81.0
CENTER_FILTER_WAVELENGTH = 955.5
RADIANCE_OFFSET = 0.400925
RADIANCE_SCALING_FACTOR = 0.00512106
REFLECTANCE_SCALING_FACTOR = 0.000607231
MEX:REFLECTANCE_OFFSET = 0.0475398
/* IMAGE OBJECT DEFINITIONS */
OBJECT = IMAGE
  INTERCHANGE_FORMAT = BINARY
  LINES = 11558
  LINE_SAMPLES = 7079
  SAMPLE_TYPE = UNSIGNED_INTEGER
  SAMPLE_BITS = 8
  BANDS = 1
  BAND_STORAGE_TYPE = BAND_SEQUENTIAL
  MAXIMUM = 255
  MEAN = 136.757
  MINIMUM = 1
  STANDARD_DEVIATION = 59.7774
END_OBJECT = IMAGE
/* MAP OBJECT DEFINITIONS */
OBJECT = IMAGE_MAP_PROJECTION
  ^DATA_SET_MAP_PROJECTION_CATALOG= "DSMAP.CAT"
  A_AXIS_RADIUS = 3396.0
  B_AXIS_RADIUS = 3396.0
  C_AXIS_RADIUS = 3396.0
  CENTER_LATITUDE = 0.0
  CENTER_LONGITUDE = 335.0
  COORDINATE_SYSTEM_NAME = PLANETOGRAPHIC
  COORDINATE_SYSTEM_TYPE = "BODY-FIXED ROTATING"
  EASTERNMOST_LONGITUDE = 349.236
  FIRST_STANDARD_PARALLEL = "N/A"
  LINE_FIRST_PIXEL = 1
  LINE_LAST_PIXEL = 11558
  LINE_PROJECTION_OFFSET = 102579.625
  MAP_PROJECTION_ROTATION = 0.0
  MAP_PROJECTION_TYPE = SINUSOIDAL
  MAP_RESOLUTION = 1185.42760773333
  MAP_SCALE = 0.05
  MAXIMUM_LATITUDE = 86.5672
  MINIMUM_LATITUDE = 76.7914
  POSITIVE_LONGITUDE_DIRECTION = EAST
  REFERENCE_LATITUDE = "N/A"
  REFERENCE_LONGITUDE = "N/A"
  SAMPLE_FIRST_PIXEL = 1
  SAMPLE_LAST_PIXEL = 7079
  SAMPLE_PROJECTION_OFFSET = 3468.625
  SECOND_STANDARD_PARALLEL = "N/A"
  WESTERNMOST_LONGITUDE = 300.182
END_OBJECT = IMAGE_MAP_PROJECTION
END
