PDS_VERSION_ID = PDS3
/* FILE DATA ELEMENTS */
RECORD_TYPE = UNDEFINED
/* POINTERS TO DATA OBJECTS */
^IMAGE = ("H3678_0000_S14.TIF")
/* IDENTIFICATION DATA ELEMENTS */
DATA_SET_ID = "MEX-M-HRSC-4-REFDR-MAPPROJECT-EXT1-V4.0"
DATA_SET_NAME = "MARS EXPRESS HRSC MAP PROJECTED REFDR EXTENSION1 V4.0"
DETECTOR_ID = MEX_HRSC_S1
EVENT_TYPE = "MARS-REGIONAL-MAPPING-Gl-Eo-La"
INSTRUMENT_HOST_ID = MEX
INSTRUMENT_HOST_NAME = "MARS EXPRESS"
INSTRUMENT_ID = HRSC
INSTRUMENT_NAME = "HIGH RESOLUTION STEREO CAMERA"
MISSION_NAME = "MARS EXPRESS"
MISSION_PHASE_NAME = ME_Phase_6
PROCESSING_LEVEL_ID = 4
PRODUCT_CREATION_TIME = 2023-02-09T17:15:12.000Z
PRODUCT_ID = "H3678_0000_S14.TIF"
RELEASE_ID = 0004
REVISION_ID = 0000
/* QUALITY DATA ELEMENTS */
DATA_QUALITY_ID = 1
DATA_QUALITY_DESC = "Data calculated based on original SPICE kernels"
/* TIME DATA ELEMENTS */
SPACECRAFT_CLOCK_START_COUNT = "1/0111939711.08408"
SPACECRAFT_CLOCK_STOP_COUNT = "1/0111940013.05790"
START_TIME = 2006-11-18T14:23:07.362Z
STOP_TIME = 2006-11-18T14:26:55.626Z
/* ORBITAL DATA ELEMENTS */
ASCENDING_NODE_LONGITUDE = 151.19
MAXIMUM_RESOLUTION = 0.0344
FOOTPRINT_POINT_LATITUDE = (83.5491,83.8279,84.0883,84.2718, 84.2778,84.1734,84.6013,84.9164,85.2287 ,85.5398,85.7386,85.9319,86.1211,86.308 ,86.4853,86.6546,86.8872,87.0947, 87.2126,87.3117,87.4218,87.4788,87.4839 ,87.4423,87.3824,87.2992,87.1943, 87.0658,86.9209,86.7619,86.5876,86.4005 ,86.2047,85.9981,85.7837,85.4517, 85.2177,84.9808,84.7417,84.4931,84.1165 ,83.8579,83.4693,83.0717,82.805,82.3946 ,81.9785,81.8376,81.6977,81.6282, 81.5164,81.4126,81.2559,81.1485,81.0001 ,80.9916,80.9889,81.25,81.6349,82.0132, 82.2593,82.6222,82.8568,83.2018,83.4231 ,83.641,83.9518,84.1525,84.3462,84.5305 ,84.7077,84.8762,85.0329,85.18,85.3162, 85.4387,85.549,85.6462,85.7284,85.7951, 85.8467,85.8941,85.9045,85.8906,85.8615 ,85.8172,85.7243,85.6448,85.5515, 85.4491,85.2723,85.1422,85.0065,84.863, 84.7062,84.3866,84.13,83.5968,83.5042, 83.5491)
FOOTPRINT_POINT_LONGITUDE = (186.006,182.584,178.743,175.491, 175.375,174.318,176.498,178.378,180.527 ,183.06,184.898,186.905,189.132,191.654 ,194.392,197.457,202.606,208.659, 213.157,218.005,225.965,234.625,240.457 ,249.174,254.79,260.084,265.018,269.685 ,273.91,277.72,281.198,284.35,287.172, 289.732,292.053,295.108,296.937,298.593 ,300.092,301.485,303.347,304.474, 305.997,307.362,308.189,309.331,310.361 ,310.684,310.994,309.393,307.096, 305.212,302.695,301.138,299.2,299.094, 299.055,298.208,296.84,295.338,294.266, 292.524,291.281,289.25,287.805,286.244, 283.763,281.949,280.013,277.967,275.77, 273.428,270.971,268.356,265.594,262.713 ,259.676,256.483,253.162,249.794, 246.311,240.957,235.612,231.971,228.446 ,225.027,220.09,216.92,213.859,211.007, 206.941,204.406,202.036,199.82,197.689, 193.878,191.292,186.857,186.189, 186.006)
ORBIT_NUMBER = 3678
ORBITAL_ECCENTRICITY = 0.564
ORBITAL_INCLINATION = 86.68
ORBITAL_SEMIMAJOR_AXIS = 8539.0
PERIAPSIS_ALTITUDE = 345.55
PERIAPSIS_ARGUMENT_ANGLE = 70.88
PERIAPSIS_TIME = 2006-11-18T14:18:56.000Z
SPACECRAFT_ORIENTATION = (0.0,1.0,0.0)
^MEX_ORIENTATION_DESC = "MEX_ORIENTATION_DESC.TXT"
SPACECRAFT_POINTING_MODE = NADIR
^MEX_POINTING_DESC = "MEX_POINTING_DESC.TXT"
RIGHT_ASCENSION = -1e+32
DECLINATION = -1e+32
OFFSET_ANGLE = -1e+32
SPACECRAFT_SOLAR_DISTANCE = 2.34794e+08
TARGET_NAME = MARS
/* CAMERA DATA ELEMENTS */
DETECTOR_TEMPERATURE = 17.351
FOCAL_PLANE_TEMPERATURE = 7.3599
INST_CMPRS_NAME = "DISCRETE COSINE TRANSFORMATION (DCT)"
INST_CMPRS_RATIO = 11.144
INST_CMPRS_QUALITY = 0
INST_CMPRS_QUANTZ_TBL_ID = 0
INSTRUMENT_TEMPERATURE = 10.8262
LENS_TEMPERATURE = 7.7677
MACROPIXEL_SIZE = 2
MISSING_FRAMES = 1
PIXEL_SUBSAMPLING_FLAG = N
SIGNAL_CHAIN_ID = 1
/* RADIOMETRIC DATA ELEMENTS */
BANDWIDTH = 180.0
CENTER_FILTER_WAVELENGTH = 677.0
RADIANCE_OFFSET = 1.5273
RADIANCE_SCALING_FACTOR = 0.0256503
REFLECTANCE_SCALING_FACTOR = 0.000737744
MEX:REFLECTANCE_OFFSET = 0.0439276
/* IMAGE OBJECT DEFINITIONS */
OBJECT = IMAGE
  INTERCHANGE_FORMAT = BINARY
  LINES = 28358
  LINE_SAMPLES = 19914
  SAMPLE_TYPE = UNSIGNED_INTEGER
  SAMPLE_BITS = 8
  BANDS = 1
  BAND_STORAGE_TYPE = BAND_SEQUENTIAL
  MAXIMUM = 255
  MEAN = 126.792
  MINIMUM = 1
  STANDARD_DEVIATION = 41.8856
END_OBJECT = IMAGE
/* MAP OBJECT DEFINITIONS */
OBJECT = IMAGE_MAP_PROJECTION
  ^DATA_SET_MAP_PROJECTION_CATALOG= "DSMAP.CAT"
  A_AXIS_RADIUS = 3396.0
  B_AXIS_RADIUS = 3396.0
  C_AXIS_RADIUS = 3396.0
  CENTER_LATITUDE = 90.0
  CENTER_LONGITUDE = 0.0
  COORDINATE_SYSTEM_NAME = PLANETOGRAPHIC
  COORDINATE_SYSTEM_TYPE = "BODY-FIXED ROTATING"
  EASTERNMOST_LONGITUDE = 310.994
  FIRST_STANDARD_PARALLEL = "N/A"
  LINE_FIRST_PIXEL = 1
  LINE_LAST_PIXEL = 28358
  LINE_PROJECTION_OFFSET = 15506.75
  MAP_PROJECTION_ROTATION = 0.0
  MAP_PROJECTION_TYPE = STEREOGRAPHIC
  MAP_RESOLUTION = 2370.85521546667
  MAP_SCALE = 0.025
  MAXIMUM_LATITUDE = 87.48390000000001
  MINIMUM_LATITUDE = 80.9889
  POSITIVE_LONGITUDE_DIRECTION = EAST
  REFERENCE_LATITUDE = "N/A"
  REFERENCE_LONGITUDE = "N/A"
  SAMPLE_FIRST_PIXEL = 1
  SAMPLE_LAST_PIXEL = 19914
  SAMPLE_PROJECTION_OFFSET = 18621.75
  SECOND_STANDARD_PARALLEL = "N/A"
  WESTERNMOST_LONGITUDE = 174.318
END_OBJECT = IMAGE_MAP_PROJECTION
END
