PDS_VERSION_ID = PDS3
/* FILE DATA ELEMENTS */
RECORD_TYPE = UNDEFINED
/* POINTERS TO DATA OBJECTS */
^IMAGE = ("H3674_0000_S14.TIF")
/* IDENTIFICATION DATA ELEMENTS */
DATA_SET_ID = "MEX-M-HRSC-4-REFDR-MAPPROJECT-EXT1-V4.0"
DATA_SET_NAME = "MARS EXPRESS HRSC MAP PROJECTED REFDR EXTENSION1 V4.0"
DETECTOR_ID = MEX_HRSC_S1
EVENT_TYPE = "MARS-REGIONAL-MAPPING-Im-Pf"
INSTRUMENT_HOST_ID = MEX
INSTRUMENT_HOST_NAME = "MARS EXPRESS"
INSTRUMENT_ID = HRSC
INSTRUMENT_NAME = "HIGH RESOLUTION STEREO CAMERA"
MISSION_NAME = "MARS EXPRESS"
MISSION_PHASE_NAME = ME_Phase_6
PROCESSING_LEVEL_ID = 4
PRODUCT_CREATION_TIME = 2023-02-09T17:15:12.000Z
PRODUCT_ID = "H3674_0000_S14.TIF"
RELEASE_ID = 0004
REVISION_ID = 0000
/* QUALITY DATA ELEMENTS */
DATA_QUALITY_ID = 1
DATA_QUALITY_DESC = "Data calculated based on original SPICE kernels"
/* TIME DATA ELEMENTS */
SPACECRAFT_CLOCK_START_COUNT = "1/0111843205.07291"
SPACECRAFT_CLOCK_STOP_COUNT = "1/0111843688.19504"
START_TIME = 2006-11-17T11:35:19.639Z
STOP_TIME = 2006-11-17T11:41:30.878Z
/* ORBITAL DATA ELEMENTS */
ASCENDING_NODE_LONGITUDE = 151.27
MAXIMUM_RESOLUTION = 0.0507
FOOTPRINT_POINT_LATITUDE = (77.3805,77.5505,77.6955,77.8334, 77.8365,77.9969,77.2346,76.6157,76.1467 ,75.6728,75.1941,74.548,73.7283,73.0621 ,72.725,72.3861,72.0449,71.701,71.3546, 71.0061,70.6548,70.3012,69.945,69.5859, 69.2244,68.8599,68.4932,68.1237,67.751, 67.3762,67.0037,66.633,66.2647,65.8988, 65.5347,65.1729,64.8131,64.4558,64.1004 ,63.7474,63.3963,63.0475,62.7008, 62.3563,62.0138,61.6736,60.9996,60.8325 ,60.8284,60.807,60.7918,60.7643,60.7384 ,60.6986,60.6673,60.626,60.6227,60.6222 ,61.2852,61.9566,62.2953,62.6362,62.979 ,63.3237,63.6699,64.0211,64.3848,64.739 ,65.271,65.6186,65.9807,66.3474,66.7136 ,67.0815,67.4519,67.8197,68.1846, 68.5468,68.9058,69.2623,69.6163,69.9677 ,70.3164,70.6627,71.0061,71.3476, 71.6863,72.0219,72.3553,72.6867,73.3415 ,73.9872,74.6222,75.2488,75.7126, 76.1704,76.9234,77.3673,77.5146, 77.3805)
FOOTPRINT_POINT_LONGITUDE = (342.653,345.399,348.234,351.712, 351.805,352.075,352.636,353.044,353.328 ,353.596,353.85,354.166,354.53,354.799, 354.928,355.051,355.171,355.287,355.4, 355.51,355.616,355.719,355.819,355.916, 356.01,356.101,356.191,356.278,356.363, 356.445,356.525,356.601,356.674,356.746 ,356.814,356.88,356.944,357.006,357.065 ,357.123,357.18,357.234,357.287,357.338 ,357.388,357.436,357.529,357.552, 357.552,355.933,355.163,354.049,353.215 ,352.109,351.351,350.457,350.389, 350.364,350.273,350.173,350.118,350.062 ,350.002,349.939,349.874,349.803,349.72 ,349.643,349.522,349.445,349.352, 349.253,349.151,349.045,348.932,348.815 ,348.694,348.568,348.438,348.303, 348.163,348.017,347.866,347.709,347.546 ,347.377,347.202,347.021,346.832, 346.636,346.221,345.772,345.288,344.764 ,344.341,343.893,343.078,342.547, 342.361,342.653)
ORBIT_NUMBER = 3674
ORBITAL_ECCENTRICITY = 0.564
ORBITAL_INCLINATION = 86.68
ORBITAL_SEMIMAJOR_AXIS = 8537.65
PERIAPSIS_ALTITUDE = 345.84
PERIAPSIS_ARGUMENT_ANGLE = 71.55
PERIAPSIS_TIME = 2006-11-17T11:26:19.000Z
SPACECRAFT_ORIENTATION = (0.0,1.0,0.0)
^MEX_ORIENTATION_DESC = "MEX_ORIENTATION_DESC.TXT"
SPACECRAFT_POINTING_MODE = ACROSSTRACK
^MEX_POINTING_DESC = "MEX_POINTING_DESC.TXT"
RIGHT_ASCENSION = -1e+32
DECLINATION = -1e+32
OFFSET_ANGLE = 0.5
SPACECRAFT_SOLAR_DISTANCE = 2.34994e+08
TARGET_NAME = MARS
/* CAMERA DATA ELEMENTS */
DETECTOR_TEMPERATURE = 17.1471
FOCAL_PLANE_TEMPERATURE = 7.7677
INST_CMPRS_NAME = "DISCRETE COSINE TRANSFORMATION (DCT)"
INST_CMPRS_RATIO = 11.404
INST_CMPRS_QUALITY = 0
INST_CMPRS_QUANTZ_TBL_ID = 0
INSTRUMENT_TEMPERATURE = 12.0496
LENS_TEMPERATURE = 8.1755
MACROPIXEL_SIZE = 2
MISSING_FRAMES = 0
PIXEL_SUBSAMPLING_FLAG = N
SIGNAL_CHAIN_ID = 1
/* RADIOMETRIC DATA ELEMENTS */
BANDWIDTH = 180.0
CENTER_FILTER_WAVELENGTH = 677.0
RADIANCE_OFFSET = 3.4741
RADIANCE_SCALING_FACTOR = 0.0219609
REFLECTANCE_SCALING_FACTOR = 0.000632706
MEX:REFLECTANCE_OFFSET = 0.100091
/* IMAGE OBJECT DEFINITIONS */
OBJECT = IMAGE
  INTERCHANGE_FORMAT = BINARY
  LINES = 20560
  LINE_SAMPLES = 5202
  SAMPLE_TYPE = UNSIGNED_INTEGER
  SAMPLE_BITS = 8
  BANDS = 1
  BAND_STORAGE_TYPE = BAND_SEQUENTIAL
  MAXIMUM = 255
  MEAN = 119.244
  MINIMUM = 1
  STANDARD_DEVIATION = 42.0715
END_OBJECT = IMAGE
/* MAP OBJECT DEFINITIONS */
OBJECT = IMAGE_MAP_PROJECTION
  ^DATA_SET_MAP_PROJECTION_CATALOG= "DSMAP.CAT"
  A_AXIS_RADIUS = 3396.0
  B_AXIS_RADIUS = 3396.0
  C_AXIS_RADIUS = 3396.0
  CENTER_LATITUDE = 0.0
  CENTER_LONGITUDE = 352.0
  COORDINATE_SYSTEM_NAME = PLANETOGRAPHIC
  COORDINATE_SYSTEM_TYPE = "BODY-FIXED ROTATING"
  EASTERNMOST_LONGITUDE = 357.552
  FIRST_STANDARD_PARALLEL = "N/A"
  LINE_FIRST_PIXEL = 1
  LINE_LAST_PIXEL = 20560
  LINE_PROJECTION_OFFSET = 92407.25
  MAP_PROJECTION_ROTATION = 0.0
  MAP_PROJECTION_TYPE = SINUSOIDAL
  MAP_RESOLUTION = 1185.42760773333
  MAP_SCALE = 0.05
  MAXIMUM_LATITUDE = 77.9969
  MINIMUM_LATITUDE = 60.6222
  POSITIVE_LONGITUDE_DIRECTION = EAST
  REFERENCE_LATITUDE = "N/A"
  REFERENCE_LONGITUDE = "N/A"
  SAMPLE_FIRST_PIXEL = 1
  SAMPLE_LAST_PIXEL = 5202
  SAMPLE_PROJECTION_OFFSET = 2378.25
  SECOND_STANDARD_PARALLEL = "N/A"
  WESTERNMOST_LONGITUDE = 342.361
END_OBJECT = IMAGE_MAP_PROJECTION
END
