PDS_VERSION_ID = PDS3
/* FILE DATA ELEMENTS */
RECORD_TYPE = UNDEFINED
/* POINTERS TO DATA OBJECTS */
^IMAGE = ("H3660_0000_P24.TIF")
/* IDENTIFICATION DATA ELEMENTS */
DATA_SET_ID = "MEX-M-HRSC-4-REFDR-MAPPROJECT-EXT1-V4.0"
DATA_SET_NAME = "MARS EXPRESS HRSC MAP PROJECTED REFDR EXTENSION1 V4.0"
DETECTOR_ID = MEX_HRSC_P2
EVENT_TYPE = "MARS-REGIONAL-MAPPING-Gl-Eo-La"
INSTRUMENT_HOST_ID = MEX
INSTRUMENT_HOST_NAME = "MARS EXPRESS"
INSTRUMENT_ID = HRSC
INSTRUMENT_NAME = "HIGH RESOLUTION STEREO CAMERA"
MISSION_NAME = "MARS EXPRESS"
MISSION_PHASE_NAME = ME_Phase_5
PROCESSING_LEVEL_ID = 4
PRODUCT_CREATION_TIME = 2023-02-09T17:15:12.000Z
PRODUCT_ID = "H3660_0000_P24.TIF"
RELEASE_ID = 0004
REVISION_ID = 0000
/* QUALITY DATA ELEMENTS */
DATA_QUALITY_ID = 1
DATA_QUALITY_DESC = "Data calculated based on original SPICE kernels"
/* TIME DATA ELEMENTS */
SPACECRAFT_CLOCK_START_COUNT = "1/0111504264.08252"
SPACECRAFT_CLOCK_STOP_COUNT = "1/0111504557.62986"
START_TIME = 2006-11-13T13:24:39.894Z
STOP_TIME = 2006-11-13T13:28:02.234Z
/* ORBITAL DATA ELEMENTS */
ASCENDING_NODE_LONGITUDE = 151.56
MAXIMUM_RESOLUTION = 0.0605
FOOTPRINT_POINT_LATITUDE = (83.2441,83.3948,83.5669,83.695,83.8505 ,83.8555,83.9626,84.2533,84.7028, 84.9267,85.3581,85.6696,85.8731,86.1606 ,86.3448,86.601,86.7575,86.9657,87.1383 ,87.265,87.3217,87.3625,87.3466,87.3053 ,87.2405,87.1541,87.0476,86.9235, 86.7836,86.545,86.369,86.1831,85.9887, 85.6837,85.3568,85.1319,84.9038,84.6717 ,84.4309,84.1867,83.9398,83.5654, 83.1771,82.7853,82.5221,82.2524,81.9809 ,81.8423,81.8401,81.7436,81.5936, 81.3854,81.2321,81.2252,81.2239,81.4795 ,81.7345,81.9824,82.2249,82.4651, 82.7014,82.9346,83.1594,83.3806,83.5974 ,83.9112,84.1101,84.3041,84.4923, 84.7604,84.9268,85.0827,85.2303,85.3671 ,85.4932,85.6048,85.7035,85.8259, 85.8891,85.9374,85.9698,85.9871,85.9784 ,85.9532,85.9114,85.8543,85.7407, 85.5412,85.4225,85.2925,85.0036,84.7633 ,84.5934,84.4167,84.2338,84.0457, 83.8518,83.3854,83.2988,83.2441)
FOOTPRINT_POINT_LONGITUDE = (152.313,150.39,147.953,145.932,143.173 ,143.079,143.091,144.498,147.025, 148.472,151.771,154.669,156.852,160.525 ,163.303,168.002,171.532,177.465, 184.214,191.671,196.975,205.267,213.612 ,219.044,224.265,229.216,233.839, 238.108,242.026,247.335,250.514,253.378 ,255.968,259.398,262.44,264.246,265.874 ,267.365,268.76,270.039,271.215,272.805 ,274.254,275.544,276.33,277.071,277.766 ,278.112,278.117,276.047,273.391, 270.299,268.289,268.203,268.171,267.306 ,266.384,265.416,264.397,263.31,262.151 ,260.924,259.632,258.251,256.774, 254.384,252.678,250.849,248.889,245.707 ,243.44,241.036,238.467,235.743,232.863 ,229.89,226.771,221.845,218.416,214.882 ,211.278,205.812,202.147,198.516, 194.965,191.476,186.445,180.311,177.354 ,174.582,169.6,166.21,164.123,162.165, 160.333,158.626,157.011,153.651,153.094 ,152.313)
ORBIT_NUMBER = 3660
ORBITAL_ECCENTRICITY = 0.564
ORBITAL_INCLINATION = 86.67
ORBITAL_SEMIMAJOR_AXIS = 8538.12
PERIAPSIS_ALTITUDE = 346.09
PERIAPSIS_ARGUMENT_ANGLE = 74.07
PERIAPSIS_TIME = 2006-11-13T13:22:20.000Z
SPACECRAFT_ORIENTATION = (0.0,1.0,0.0)
^MEX_ORIENTATION_DESC = "MEX_ORIENTATION_DESC.TXT"
SPACECRAFT_POINTING_MODE = NADIR
^MEX_POINTING_DESC = "MEX_POINTING_DESC.TXT"
RIGHT_ASCENSION = -1e+32
DECLINATION = -1e+32
OFFSET_ANGLE = -1e+32
SPACECRAFT_SOLAR_DISTANCE = 2.35687e+08
TARGET_NAME = MARS
/* CAMERA DATA ELEMENTS */
DETECTOR_TEMPERATURE = 18.1666
FOCAL_PLANE_TEMPERATURE = 7.3599
INST_CMPRS_NAME = "DISCRETE COSINE TRANSFORMATION (DCT)"
INST_CMPRS_RATIO = 10.7155
INST_CMPRS_QUALITY = 0
INST_CMPRS_QUANTZ_TBL_ID = 0
INSTRUMENT_TEMPERATURE = 11.0301
LENS_TEMPERATURE = 7.9716
MACROPIXEL_SIZE = 4
MISSING_FRAMES = 0
PIXEL_SUBSAMPLING_FLAG = N
SIGNAL_CHAIN_ID = 3
/* RADIOMETRIC DATA ELEMENTS */
BANDWIDTH = 177.0
CENTER_FILTER_WAVELENGTH = 676.5
RADIANCE_OFFSET = 1.04923
RADIANCE_SCALING_FACTOR = 0.0246877
REFLECTANCE_SCALING_FACTOR = 0.000727126
MEX:REFLECTANCE_OFFSET = 0.0309028
/* IMAGE OBJECT DEFINITIONS */
OBJECT = IMAGE
  INTERCHANGE_FORMAT = BINARY
  LINES = 8515
  LINE_SAMPLES = 14759
  SAMPLE_TYPE = UNSIGNED_INTEGER
  SAMPLE_BITS = 8
  BANDS = 1
  BAND_STORAGE_TYPE = BAND_SEQUENTIAL
  MAXIMUM = 255
  MEAN = 150.818
  MINIMUM = 1
  STANDARD_DEVIATION = 55.5144
END_OBJECT = IMAGE
/* MAP OBJECT DEFINITIONS */
OBJECT = IMAGE_MAP_PROJECTION
  ^DATA_SET_MAP_PROJECTION_CATALOG= "DSMAP.CAT"
  A_AXIS_RADIUS = 3396.0
  B_AXIS_RADIUS = 3396.0
  C_AXIS_RADIUS = 3396.0
  CENTER_LATITUDE = 90.0
  CENTER_LONGITUDE = 0.0
  COORDINATE_SYSTEM_NAME = PLANETOGRAPHIC
  COORDINATE_SYSTEM_TYPE = "BODY-FIXED ROTATING"
  EASTERNMOST_LONGITUDE = 278.117
  FIRST_STANDARD_PARALLEL = "N/A"
  LINE_FIRST_PIXEL = 1
  LINE_LAST_PIXEL = 8515
  LINE_PROJECTION_OFFSET = 7102.125
  MAP_PROJECTION_ROTATION = 0.0
  MAP_PROJECTION_TYPE = STEREOGRAPHIC
  MAP_RESOLUTION = 1185.42760773333
  MAP_SCALE = 0.05
  MAXIMUM_LATITUDE = 87.3625
  MINIMUM_LATITUDE = 81.2239
  POSITIVE_LONGITUDE_DIRECTION = EAST
  REFERENCE_LATITUDE = "N/A"
  REFERENCE_LONGITUDE = "N/A"
  SAMPLE_FIRST_PIXEL = 1
  SAMPLE_LAST_PIXEL = 14759
  SAMPLE_PROJECTION_OFFSET = 10459.125
  SECOND_STANDARD_PARALLEL = "N/A"
  WESTERNMOST_LONGITUDE = 143.079
END_OBJECT = IMAGE_MAP_PROJECTION
END
