PDS_VERSION_ID = PDS3
/* FILE DATA ELEMENTS */
RECORD_TYPE = UNDEFINED
/* POINTERS TO DATA OBJECTS */
^IMAGE = ("H3660_0000_BL4.TIF")
/* IDENTIFICATION DATA ELEMENTS */
DATA_SET_ID = "MEX-M-HRSC-4-REFDR-MAPPROJECT-EXT1-V4.0"
DATA_SET_NAME = "MARS EXPRESS HRSC MAP PROJECTED REFDR EXTENSION1 V4.0"
DETECTOR_ID = MEX_HRSC_BLUE
EVENT_TYPE = "MARS-REGIONAL-MAPPING-Gl-Eo-La"
INSTRUMENT_HOST_ID = MEX
INSTRUMENT_HOST_NAME = "MARS EXPRESS"
INSTRUMENT_ID = HRSC
INSTRUMENT_NAME = "HIGH RESOLUTION STEREO CAMERA"
MISSION_NAME = "MARS EXPRESS"
MISSION_PHASE_NAME = ME_Phase_5
PROCESSING_LEVEL_ID = 4
PRODUCT_CREATION_TIME = 2023-02-09T17:15:12.000Z
PRODUCT_ID = "H3660_0000_BL4.TIF"
RELEASE_ID = 0004
REVISION_ID = 0000
/* QUALITY DATA ELEMENTS */
DATA_QUALITY_ID = 1
DATA_QUALITY_DESC = "Data calculated based on original SPICE kernels"
/* TIME DATA ELEMENTS */
SPACECRAFT_CLOCK_START_COUNT = "1/0111504264.08252"
SPACECRAFT_CLOCK_STOP_COUNT = "1/0111504557.62986"
START_TIME = 2006-11-13T13:24:56.404Z
STOP_TIME = 2006-11-13T13:28:23.389Z
/* ORBITAL DATA ELEMENTS */
ASCENDING_NODE_LONGITUDE = 151.56
MAXIMUM_RESOLUTION = 0.0595
FOOTPRINT_POINT_LATITUDE = (83.3068,83.5841,83.9274,83.9325, 83.9768,84.3188,84.5438,84.7657,84.985, 85.1986,85.4103,85.6151,85.816,86.0113, 86.2877,86.4625,86.6262,86.8503,87.0407 ,87.1474,87.2342,87.3252,87.3646, 87.3605,87.3099,87.2478,87.1126,86.9977 ,86.8659,86.7191,86.4733,86.2926, 86.1026,85.9047,85.6999,85.4848,85.2635 ,85.0376,84.8079,84.5721,84.3302, 84.0856,83.8388,83.4593,83.2019,82.8131 ,82.548,82.2801,82.0114,81.8762,81.8221 ,81.7116,81.6044,81.4065,81.2064, 81.1994,81.1981,81.5772,81.8276,82.0749 ,82.4336,82.6693,83.0159,83.3481, 83.5644,83.8795,84.0791,84.2731,84.4615 ,84.7296,84.8963,85.0536,85.2019, 85.4046,85.5784,85.6785,85.7657,85.8692 ,85.9182,85.9698,85.9728,85.9596, 85.9097,85.8266,85.7529,85.6656,85.5089 ,85.3293,85.1946,85.0513,84.8992,84.739 ,84.5716,84.3974,84.2172,84.0312, 83.7432,83.4451,83.3437,83.3068)
FOOTPRINT_POINT_LONGITUDE = (152.782,149.163,143.541,143.445, 143.175,144.856,146.092,147.435,148.892 ,150.491,152.225,154.135,156.221, 158.511,162.395,165.307,168.512,173.912 ,180.067,184.592,189.429,197.178, 205.308,210.781,218.833,223.965,231.305 ,235.797,239.932,243.71,248.792,251.832 ,254.582,257.067,259.315,261.395, 263.293,265.02,266.583,268.032,269.375, 270.605,271.738,273.289,274.236,275.525 ,276.323,277.064,277.757,278.097, 278.227,275.927,273.986,270.893,268.204 ,268.117,268.084,266.785,265.849, 264.853,263.267,262.12,260.265,258.249, 256.785,254.408,252.713,250.899,248.956 ,245.81,243.569,241.177,238.629,234.528 ,230.159,227.06,223.819,218.729,215.296 ,208.24,204.661,201.091,195.819,190.698 ,187.414,184.249,179.792,175.589, 173.012,170.557,168.244,166.071,164.026 ,162.106,160.306,158.621,156.273,154.14 ,153.472,152.782)
ORBIT_NUMBER = 3660
ORBITAL_ECCENTRICITY = 0.564
ORBITAL_INCLINATION = 86.67
ORBITAL_SEMIMAJOR_AXIS = 8538.12
PERIAPSIS_ALTITUDE = 346.09
PERIAPSIS_ARGUMENT_ANGLE = 74.07
PERIAPSIS_TIME = 2006-11-13T13:22:20.000Z
SPACECRAFT_ORIENTATION = (0.0,1.0,0.0)
^MEX_ORIENTATION_DESC = "MEX_ORIENTATION_DESC.TXT"
SPACECRAFT_POINTING_MODE = NADIR
^MEX_POINTING_DESC = "MEX_POINTING_DESC.TXT"
RIGHT_ASCENSION = -1e+32
DECLINATION = -1e+32
OFFSET_ANGLE = -1e+32
SPACECRAFT_SOLAR_DISTANCE = 2.35687e+08
TARGET_NAME = MARS
/* CAMERA DATA ELEMENTS */
DETECTOR_TEMPERATURE = 17.9627
FOCAL_PLANE_TEMPERATURE = 7.3599
INST_CMPRS_NAME = "DISCRETE COSINE TRANSFORMATION (DCT)"
INST_CMPRS_RATIO = 21.2469
INST_CMPRS_QUALITY = 0
INST_CMPRS_QUANTZ_TBL_ID = 0
INSTRUMENT_TEMPERATURE = 11.0301
LENS_TEMPERATURE = 7.9716
MACROPIXEL_SIZE = 4
MISSING_FRAMES = 0
PIXEL_SUBSAMPLING_FLAG = N
SIGNAL_CHAIN_ID = 2
/* RADIOMETRIC DATA ELEMENTS */
BANDWIDTH = 76.0
CENTER_FILTER_WAVELENGTH = 444.0
RADIANCE_OFFSET = 0.181992
RADIANCE_SCALING_FACTOR = 0.00972408
REFLECTANCE_SCALING_FACTOR = 0.000554981
MEX:REFLECTANCE_OFFSET = 0.0103868
/* IMAGE OBJECT DEFINITIONS */
OBJECT = IMAGE
  INTERCHANGE_FORMAT = BINARY
  LINES = 8515
  LINE_SAMPLES = 14759
  SAMPLE_TYPE = UNSIGNED_INTEGER
  SAMPLE_BITS = 8
  BANDS = 1
  BAND_STORAGE_TYPE = BAND_SEQUENTIAL
  MAXIMUM = 255
  MEAN = 119.394
  MINIMUM = 1
  STANDARD_DEVIATION = 69.9408
END_OBJECT = IMAGE
/* MAP OBJECT DEFINITIONS */
OBJECT = IMAGE_MAP_PROJECTION
  ^DATA_SET_MAP_PROJECTION_CATALOG= "DSMAP.CAT"
  A_AXIS_RADIUS = 3396.0
  B_AXIS_RADIUS = 3396.0
  C_AXIS_RADIUS = 3396.0
  CENTER_LATITUDE = 90.0
  CENTER_LONGITUDE = 0.0
  COORDINATE_SYSTEM_NAME = PLANETOGRAPHIC
  COORDINATE_SYSTEM_TYPE = "BODY-FIXED ROTATING"
  EASTERNMOST_LONGITUDE = 278.227
  FIRST_STANDARD_PARALLEL = "N/A"
  LINE_FIRST_PIXEL = 1
  LINE_LAST_PIXEL = 8515
  LINE_PROJECTION_OFFSET = 7102.125
  MAP_PROJECTION_ROTATION = 0.0
  MAP_PROJECTION_TYPE = STEREOGRAPHIC
  MAP_RESOLUTION = 1185.42760773333
  MAP_SCALE = 0.05
  MAXIMUM_LATITUDE = 87.3646
  MINIMUM_LATITUDE = 81.1981
  POSITIVE_LONGITUDE_DIRECTION = EAST
  REFERENCE_LATITUDE = "N/A"
  REFERENCE_LONGITUDE = "N/A"
  SAMPLE_FIRST_PIXEL = 1
  SAMPLE_LAST_PIXEL = 14759
  SAMPLE_PROJECTION_OFFSET = 10459.125
  SECOND_STANDARD_PARALLEL = "N/A"
  WESTERNMOST_LONGITUDE = 143.175
END_OBJECT = IMAGE_MAP_PROJECTION
END
