PDS_VERSION_ID = PDS3
/* FILE DATA ELEMENTS */
RECORD_TYPE = UNDEFINED
/* POINTERS TO DATA OBJECTS */
^IMAGE = ("H3654_0000_S24.TIF")
/* IDENTIFICATION DATA ELEMENTS */
DATA_SET_ID = "MEX-M-HRSC-4-REFDR-MAPPROJECT-EXT1-V4.0"
DATA_SET_NAME = "MARS EXPRESS HRSC MAP PROJECTED REFDR EXTENSION1 V4.0"
DETECTOR_ID = MEX_HRSC_S2
EVENT_TYPE = "MARS-REGIONAL-MAPPING-Pf-Eo"
INSTRUMENT_HOST_ID = MEX
INSTRUMENT_HOST_NAME = "MARS EXPRESS"
INSTRUMENT_ID = HRSC
INSTRUMENT_NAME = "HIGH RESOLUTION STEREO CAMERA"
MISSION_NAME = "MARS EXPRESS"
MISSION_PHASE_NAME = ME_Phase_5
PROCESSING_LEVEL_ID = 4
PRODUCT_CREATION_TIME = 2023-02-09T17:15:12.000Z
PRODUCT_ID = "H3654_0000_S24.TIF"
RELEASE_ID = 0004
REVISION_ID = 0000
/* QUALITY DATA ELEMENTS */
DATA_QUALITY_ID = 1
DATA_QUALITY_DESC = "Data calculated based on original SPICE kernels"
/* TIME DATA ELEMENTS */
SPACECRAFT_CLOCK_START_COUNT = "1/0111359627.08368"
SPACECRAFT_CLOCK_STOP_COUNT = "1/0111359930.42012"
START_TIME = 2006-11-11T21:13:51.648Z
STOP_TIME = 2006-11-11T21:17:00.170Z
/* ORBITAL DATA ELEMENTS */
ASCENDING_NODE_LONGITUDE = 151.69
MAXIMUM_RESOLUTION = 0.057
FOOTPRINT_POINT_LATITUDE = (62.3153,62.3733,62.414,62.4547,62.4876 ,62.5155,62.542,62.5432,62.4126,62.1058 ,61.7993,61.3823,60.9641,60.5469, 60.2286,59.8021,59.483,59.1613,58.7262, 58.4004,57.962,57.6297,57.4086,57.1876, 56.963,56.6246,56.399,56.1741,55.8299, 55.6002,55.256,55.0231,54.7895,54.5555, 54.3222,54.0892,53.8565,53.624,53.2759, 53.045,52.8137,52.5826,52.3521,52.122, 51.8919,51.6621,51.4328,51.3182,51.2699 ,51.2651,51.2574,51.25,51.2408,51.2296, 51.2064,51.1888,51.1446,51.1117,51.1088 ,51.1083,51.3357,51.5638,51.792,52.0204 ,52.249,52.5934,52.8239,53.0526,53.2831 ,53.6298,53.8607,54.0924,54.3247, 54.5564,54.7888,55.0215,55.2486,55.4765 ,55.7053,55.934,56.1579,56.4938,56.7182 ,56.9423,57.1618,57.3817,57.6018, 57.8223,58.2565,58.7963,59.225,59.6479, 60.1773,60.5928,60.9039,61.3193,61.628, 62.0336,62.1358,62.3153)
FOOTPRINT_POINT_LONGITUDE = (155.431,156.33,157.041,157.849,158.611 ,159.376,160.288,160.336,160.454, 160.506,160.556,160.622,160.686,160.748 ,160.794,160.853,160.896,160.938, 160.994,161.034,161.086,161.125,161.15, 161.175,161.199,161.235,161.259,161.282 ,161.316,161.339,161.372,161.394, 161.415,161.436,161.457,161.477,161.497 ,161.516,161.545,161.563,161.581, 161.599,161.616,161.633,161.65,161.666, 161.682,161.69,161.694,161.075,160.552, 160.172,159.792,159.413,158.75,158.324, 157.425,156.858,156.81,156.793,156.779, 156.765,156.75,156.735,156.719,156.694, 156.677,156.659,156.641,156.612,156.592 ,156.572,156.551,156.529,156.506, 156.484,156.46,156.436,156.412,156.386, 156.361,156.322,156.295,156.267,156.239 ,156.211,156.181,156.151,156.09,156.01, 155.942,155.873,155.782,155.706,155.648 ,155.566,155.504,155.418,155.397, 155.431)
ORBIT_NUMBER = 3654
ORBITAL_ECCENTRICITY = 0.564
ORBITAL_INCLINATION = 86.67
ORBITAL_SEMIMAJOR_AXIS = 8536.8
PERIAPSIS_ALTITUDE = 347.12
PERIAPSIS_ARGUMENT_ANGLE = 75.1
PERIAPSIS_TIME = 2006-11-11T21:03:29.000Z
SPACECRAFT_ORIENTATION = (0.0,1.0,0.0)
^MEX_ORIENTATION_DESC = "MEX_ORIENTATION_DESC.TXT"
SPACECRAFT_POINTING_MODE = NADIR
^MEX_POINTING_DESC = "MEX_POINTING_DESC.TXT"
RIGHT_ASCENSION = -1e+32
DECLINATION = -1e+32
OFFSET_ANGLE = -1e+32
SPACECRAFT_SOLAR_DISTANCE = 2.35981e+08
TARGET_NAME = MARS
/* CAMERA DATA ELEMENTS */
DETECTOR_TEMPERATURE = 18.3705
FOCAL_PLANE_TEMPERATURE = 8.3794
INST_CMPRS_NAME = "DISCRETE COSINE TRANSFORMATION (DCT)"
INST_CMPRS_RATIO = 13.4103
INST_CMPRS_QUALITY = 0
INST_CMPRS_QUANTZ_TBL_ID = 0
INSTRUMENT_TEMPERATURE = 11.234
LENS_TEMPERATURE = 8.5833
MACROPIXEL_SIZE = 2
MISSING_FRAMES = 0
PIXEL_SUBSAMPLING_FLAG = N
SIGNAL_CHAIN_ID = 1
/* RADIOMETRIC DATA ELEMENTS */
BANDWIDTH = 178.0
CENTER_FILTER_WAVELENGTH = 679.0
RADIANCE_OFFSET = 3.6807
RADIANCE_SCALING_FACTOR = 0.0131047
REFLECTANCE_SCALING_FACTOR = 0.00038646
MEX:REFLECTANCE_OFFSET = 0.108545
/* IMAGE OBJECT DEFINITIONS */
OBJECT = IMAGE
  INTERCHANGE_FORMAT = BINARY
  LINES = 12563
  LINE_SAMPLES = 4341
  SAMPLE_TYPE = UNSIGNED_INTEGER
  SAMPLE_BITS = 8
  BANDS = 1
  BAND_STORAGE_TYPE = BAND_SEQUENTIAL
  MAXIMUM = 178
  MEAN = 72.3202
  MINIMUM = 1
  STANDARD_DEVIATION = 19.6619
END_OBJECT = IMAGE
/* MAP OBJECT DEFINITIONS */
OBJECT = IMAGE_MAP_PROJECTION
  ^DATA_SET_MAP_PROJECTION_CATALOG= "DSMAP.CAT"
  A_AXIS_RADIUS = 3396.0
  B_AXIS_RADIUS = 3396.0
  C_AXIS_RADIUS = 3396.0
  CENTER_LATITUDE = 0.0
  CENTER_LONGITUDE = 158.0
  COORDINATE_SYSTEM_NAME = PLANETOGRAPHIC
  COORDINATE_SYSTEM_TYPE = "BODY-FIXED ROTATING"
  EASTERNMOST_LONGITUDE = 161.694
  FIRST_STANDARD_PARALLEL = "N/A"
  LINE_FIRST_PIXEL = 1
  LINE_LAST_PIXEL = 12563
  LINE_PROJECTION_OFFSET = 76186.25
  MAP_PROJECTION_ROTATION = 0.0
  MAP_PROJECTION_TYPE = SINUSOIDAL
  MAP_RESOLUTION = 1185.42760773333
  MAP_SCALE = 0.05
  MAXIMUM_LATITUDE = 62.5432
  MINIMUM_LATITUDE = 51.1083
  POSITIVE_LONGITUDE_DIRECTION = EAST
  REFERENCE_LATITUDE = "N/A"
  REFERENCE_LONGITUDE = "N/A"
  SAMPLE_FIRST_PIXEL = 1
  SAMPLE_LAST_PIXEL = 4341
  SAMPLE_PROJECTION_OFFSET = 1733.75
  SECOND_STANDARD_PARALLEL = "N/A"
  WESTERNMOST_LONGITUDE = 155.397
END_OBJECT = IMAGE_MAP_PROJECTION
END
