PDS_VERSION_ID = PDS3
/* FILE DATA ELEMENTS */
RECORD_TYPE = UNDEFINED
/* POINTERS TO DATA OBJECTS */
^IMAGE = ("H3646_0000_S24.TIF")
/* IDENTIFICATION DATA ELEMENTS */
DATA_SET_ID = "MEX-M-HRSC-4-REFDR-MAPPROJECT-EXT1-V4.0"
DATA_SET_NAME = "MARS EXPRESS HRSC MAP PROJECTED REFDR EXTENSION1 V4.0"
DETECTOR_ID = MEX_HRSC_S2
EVENT_TYPE = "MARS-REGIONAL-MAPPING-Pf-Eo-Ot"
INSTRUMENT_HOST_ID = MEX
INSTRUMENT_HOST_NAME = "MARS EXPRESS"
INSTRUMENT_ID = HRSC
INSTRUMENT_NAME = "HIGH RESOLUTION STEREO CAMERA"
MISSION_NAME = "MARS EXPRESS"
MISSION_PHASE_NAME = ME_Phase_5
PROCESSING_LEVEL_ID = 4
PRODUCT_CREATION_TIME = 2023-02-09T17:15:12.000Z
PRODUCT_ID = "H3646_0000_S24.TIF"
RELEASE_ID = 0004
REVISION_ID = 0000
/* QUALITY DATA ELEMENTS */
DATA_QUALITY_ID = 1
DATA_QUALITY_DESC = "Data calculated based on original SPICE kernels"
/* TIME DATA ELEMENTS */
SPACECRAFT_CLOCK_START_COUNT = "1/0111165972.08240"
SPACECRAFT_CLOCK_STOP_COUNT = "1/0111166210.21136"
START_TIME = 2006-11-09T15:26:16.624Z
STOP_TIME = 2006-11-09T15:28:31.395Z
/* ORBITAL DATA ELEMENTS */
ASCENDING_NODE_LONGITUDE = 151.85
MAXIMUM_RESOLUTION = 0.0465
FOOTPRINT_POINT_LATITUDE = (69.9841,69.994,69.9995,70.0003,69.9962 ,69.9869,69.9652,69.964,69.8181,69.3428 ,69.0272,68.6261,68.1402,67.8979, 67.4944,67.1652,66.9175,66.7531,66.5876 ,66.4226,66.1754,66.0074,65.8391, 65.5866,65.4183,65.1668,64.9984,64.8273 ,64.6558,64.3984,64.2272,64.0565, 63.8853,63.7112,63.5362,63.3614,63.1867 ,63.0122,62.8379,62.6613,62.4832, 62.2162,61.9496,61.7723,61.5004,61.4099 ,61.4064,61.421,61.4402,61.4598,61.466, 61.4719,61.4779,61.4818,61.4843,61.4856 ,61.4848,61.4828,61.4825,61.4829, 61.6633,61.8439,62.0206,62.2856,62.4627 ,62.6399,62.9043,63.0778,63.2515, 63.4252,63.6863,63.8602,64.0312,64.2867 ,64.457,64.6277,64.7989,64.9692,65.1375 ,65.3046,65.5553,65.7228,65.8898, 66.0578,66.2253,66.389,66.5529,66.7168, 66.8805,67.0447,67.2912,67.5364,67.8572 ,68.2591,68.581,68.9808,69.2949,69.7676 ,69.8462,69.9841)
FOOTPRINT_POINT_LONGITUDE = (224.13,224.967,225.817,226.681,227.558 ,228.448,229.698,229.756,230.143, 230.179,230.2,230.229,230.262,230.276, 230.301,230.319,230.333,230.341,230.351 ,230.36,230.373,230.381,230.389,230.401 ,230.409,230.419,230.427,230.435, 230.442,230.453,230.46,230.465,230.472, 230.479,230.485,230.492,230.498,230.504 ,230.51,230.516,230.522,230.53,230.538, 230.543,230.551,230.553,230.553,230.149 ,229.544,228.796,228.453,228.11,227.671 ,227.284,226.899,226.326,225.948, 225.571,225.524,225.508,225.493,225.478 ,225.463,225.439,225.423,225.407, 225.381,225.364,225.346,225.328,225.301 ,225.281,225.262,225.233,225.213, 225.192,225.17,225.149,225.127,225.105, 225.071,225.047,225.023,224.999,224.973 ,224.949,224.923,224.897,224.87,224.843 ,224.801,224.758,224.7,224.623,224.559, 224.475,224.407,224.297,224.279,224.13)
ORBIT_NUMBER = 3646
ORBITAL_ECCENTRICITY = 0.564
ORBITAL_INCLINATION = 86.69
ORBITAL_SEMIMAJOR_AXIS = 8536.21
PERIAPSIS_ALTITUDE = 345.86
PERIAPSIS_ARGUMENT_ANGLE = 76.53
PERIAPSIS_TIME = 2006-11-09T15:18:17.000Z
SPACECRAFT_ORIENTATION = (0.0,1.0,0.0)
^MEX_ORIENTATION_DESC = "MEX_ORIENTATION_DESC.TXT"
SPACECRAFT_POINTING_MODE = ACROSSTRACK
^MEX_POINTING_DESC = "MEX_POINTING_DESC.TXT"
RIGHT_ASCENSION = -1e+32
DECLINATION = -1e+32
OFFSET_ANGLE = 1.7
SPACECRAFT_SOLAR_DISTANCE = 2.36369e+08
TARGET_NAME = MARS
/* CAMERA DATA ELEMENTS */
DETECTOR_TEMPERATURE = 18.3705
FOCAL_PLANE_TEMPERATURE = 7.9716
INST_CMPRS_NAME = "DISCRETE COSINE TRANSFORMATION (DCT)"
INST_CMPRS_RATIO = 10.2294
INST_CMPRS_QUALITY = 0
INST_CMPRS_QUANTZ_TBL_ID = 0
INSTRUMENT_TEMPERATURE = 11.0301
LENS_TEMPERATURE = 8.1755
MACROPIXEL_SIZE = 2
MISSING_FRAMES = 0
PIXEL_SUBSAMPLING_FLAG = N
SIGNAL_CHAIN_ID = 1
/* RADIOMETRIC DATA ELEMENTS */
BANDWIDTH = 178.0
CENTER_FILTER_WAVELENGTH = 679.0
RADIANCE_OFFSET = 3.57914
RADIANCE_SCALING_FACTOR = 0.0170529
REFLECTANCE_SCALING_FACTOR = 0.000504551
MEX:REFLECTANCE_OFFSET = 0.105897
/* IMAGE OBJECT DEFINITIONS */
OBJECT = IMAGE
  INTERCHANGE_FORMAT = BINARY
  LINES = 9656
  LINE_SAMPLES = 3233
  SAMPLE_TYPE = UNSIGNED_INTEGER
  SAMPLE_BITS = 8
  BANDS = 1
  BAND_STORAGE_TYPE = BAND_SEQUENTIAL
  MAXIMUM = 204
  MEAN = 106.863
  MINIMUM = 17
  STANDARD_DEVIATION = 26.3638
END_OBJECT = IMAGE
/* MAP OBJECT DEFINITIONS */
OBJECT = IMAGE_MAP_PROJECTION
  ^DATA_SET_MAP_PROJECTION_CATALOG= "DSMAP.CAT"
  A_AXIS_RADIUS = 3396.0
  B_AXIS_RADIUS = 3396.0
  C_AXIS_RADIUS = 3396.0
  CENTER_LATITUDE = 0.0
  CENTER_LONGITUDE = 227.0
  COORDINATE_SYSTEM_NAME = PLANETOGRAPHIC
  COORDINATE_SYSTEM_TYPE = "BODY-FIXED ROTATING"
  EASTERNMOST_LONGITUDE = 230.553
  FIRST_STANDARD_PARALLEL = "N/A"
  LINE_FIRST_PIXEL = 1
  LINE_LAST_PIXEL = 9656
  LINE_PROJECTION_OFFSET = 84034.25
  MAP_PROJECTION_ROTATION = 0.0
  MAP_PROJECTION_TYPE = SINUSOIDAL
  MAP_RESOLUTION = 1185.42760773333
  MAP_SCALE = 0.05
  MAXIMUM_LATITUDE = 70.0003
  MINIMUM_LATITUDE = 61.4064
  POSITIVE_LONGITUDE_DIRECTION = EAST
  REFERENCE_LATITUDE = "N/A"
  REFERENCE_LONGITUDE = "N/A"
  SAMPLE_FIRST_PIXEL = 1
  SAMPLE_LAST_PIXEL = 3233
  SAMPLE_PROJECTION_OFFSET = 1271.25
  SECOND_STANDARD_PARALLEL = "N/A"
  WESTERNMOST_LONGITUDE = 224.13
END_OBJECT = IMAGE_MAP_PROJECTION
END
