PDS_VERSION_ID = PDS3
/* FILE DATA ELEMENTS */
RECORD_TYPE = UNDEFINED
/* POINTERS TO DATA OBJECTS */
^IMAGE = ("H3645_0000_S24.TIF")
/* IDENTIFICATION DATA ELEMENTS */
DATA_SET_ID = "MEX-M-HRSC-4-REFDR-MAPPROJECT-EXT1-V4.0"
DATA_SET_NAME = "MARS EXPRESS HRSC MAP PROJECTED REFDR EXTENSION1 V4.0"
DETECTOR_ID = MEX_HRSC_S2
EVENT_TYPE = "MARS-REGIONAL-MAPPING-Vo-Pf-Eo"
INSTRUMENT_HOST_ID = MEX
INSTRUMENT_HOST_NAME = "MARS EXPRESS"
INSTRUMENT_ID = HRSC
INSTRUMENT_NAME = "HIGH RESOLUTION STEREO CAMERA"
MISSION_NAME = "MARS EXPRESS"
MISSION_PHASE_NAME = ME_Phase_5
PROCESSING_LEVEL_ID = 4
PRODUCT_CREATION_TIME = 2023-02-09T17:15:12.000Z
PRODUCT_ID = "H3645_0000_S24.TIF"
RELEASE_ID = 0004
REVISION_ID = 0000
/* QUALITY DATA ELEMENTS */
DATA_QUALITY_ID = 1
DATA_QUALITY_DESC = "Data calculated based on original SPICE kernels"
/* TIME DATA ELEMENTS */
SPACECRAFT_CLOCK_START_COUNT = "1/0111141785.07300"
SPACECRAFT_CLOCK_STOP_COUNT = "1/0111142131.26175"
START_TIME = 2006-11-09T08:43:09.644Z
STOP_TIME = 2006-11-09T08:46:51.795Z
/* ORBITAL DATA ELEMENTS */
ASCENDING_NODE_LONGITUDE = 151.87
MAXIMUM_RESOLUTION = 0.0463
FOOTPRINT_POINT_LATITUDE = (69.6683,69.7194,69.7698,69.8267, 69.8673,69.9036,69.9412,69.943,69.8034, 69.444,69.0764,68.5854,68.095,67.4679, 66.9665,66.4562,66.2,65.9439,65.6882, 65.4266,65.1652,64.9038,64.6426,64.3765 ,64.1096,63.8429,63.4404,63.1683, 62.8965,62.625,62.2101,61.9329,61.5148, 61.2324,60.9507,60.5233,60.236,59.9491, 59.6578,59.3654,59.0737,58.7765,58.3309 ,57.8783,57.576,57.1171,56.81,56.3431, 56.1873,56.1707,56.1604,56.1386,56.1142 ,56.078,56.0511,55.9904,55.9875,55.9871 ,56.2971,56.6065,56.9114,57.3685, 57.6688,58.1181,58.561,58.8565,59.1466, 59.4369,59.7267,60.0117,60.297,60.5822, 60.862,61.1423,61.4229,61.6979,61.9731, 62.3855,62.6555,62.9262,63.1957,63.4637 ,63.7275,63.9922,64.3892,64.6481, 64.9075,65.1672,65.554,65.8077,66.0616, 66.316,66.695,67.1918,67.8138,68.2994, 68.7854,69.3865,69.5053,69.6683)
FOOTPRINT_POINT_LONGITUDE = (317.573,318.327,319.134,320.149, 320.965,321.784,322.762,322.814,323.001 ,323.123,323.244,323.397,323.543,323.72 ,323.853,323.982,324.045,324.106, 324.165,324.224,324.282,324.338,324.394 ,324.448,324.502,324.554,324.631, 324.681,324.73,324.778,324.849,324.895, 324.963,325.007,325.05,325.113,325.155, 325.195,325.235,325.274,325.312,325.35, 325.405,325.46,325.495,325.546,325.58, 325.629,325.645,325.647,325.051,324.18, 323.45,322.583,322.037,320.991,320.946, 320.929,320.894,320.857,320.82,320.761, 320.721,320.659,320.594,320.549,320.504 ,320.457,320.409,320.36,320.31,320.258, 320.206,320.152,320.096,320.04,319.983, 319.893,319.832,319.77,319.706,319.64, 319.574,319.505,319.399,319.327,319.253 ,319.178,319.061,318.981,318.9,318.816, 318.686,318.508,318.272,318.075,317.867 ,317.593,317.537,317.573)
ORBIT_NUMBER = 3645
ORBITAL_ECCENTRICITY = 0.564
ORBITAL_INCLINATION = 86.68
ORBITAL_SEMIMAJOR_AXIS = 8533.86
PERIAPSIS_ALTITUDE = 346.8
PERIAPSIS_ARGUMENT_ANGLE = 76.71
PERIAPSIS_TIME = 2006-11-09T08:35:12.000Z
SPACECRAFT_ORIENTATION = (0.0,1.0,0.0)
^MEX_ORIENTATION_DESC = "MEX_ORIENTATION_DESC.TXT"
SPACECRAFT_POINTING_MODE = NADIR
^MEX_POINTING_DESC = "MEX_POINTING_DESC.TXT"
RIGHT_ASCENSION = -1e+32
DECLINATION = -1e+32
OFFSET_ANGLE = -1e+32
SPACECRAFT_SOLAR_DISTANCE = 2.36417e+08
TARGET_NAME = MARS
/* CAMERA DATA ELEMENTS */
DETECTOR_TEMPERATURE = 18.7783
FOCAL_PLANE_TEMPERATURE = 8.5833
INST_CMPRS_NAME = "DISCRETE COSINE TRANSFORMATION (DCT)"
INST_CMPRS_RATIO = 13.223
INST_CMPRS_QUALITY = 0
INST_CMPRS_QUANTZ_TBL_ID = 0
INSTRUMENT_TEMPERATURE = 12.8652
LENS_TEMPERATURE = 8.9911
MACROPIXEL_SIZE = 2
MISSING_FRAMES = 0
PIXEL_SUBSAMPLING_FLAG = N
SIGNAL_CHAIN_ID = 1
/* RADIOMETRIC DATA ELEMENTS */
BANDWIDTH = 178.0
CENTER_FILTER_WAVELENGTH = 679.0
RADIANCE_OFFSET = 1.88878
RADIANCE_SCALING_FACTOR = 0.0153837
REFLECTANCE_SCALING_FACTOR = 0.00045535
MEX:REFLECTANCE_OFFSET = 0.0559069
/* IMAGE OBJECT DEFINITIONS */
OBJECT = IMAGE
  INTERCHANGE_FORMAT = BINARY
  LINES = 15752
  LINE_SAMPLES = 4386
  SAMPLE_TYPE = UNSIGNED_INTEGER
  SAMPLE_BITS = 8
  BANDS = 1
  BAND_STORAGE_TYPE = BAND_SEQUENTIAL
  MAXIMUM = 238
  MEAN = 112.962
  MINIMUM = 1
  STANDARD_DEVIATION = 33.684
END_OBJECT = IMAGE
/* MAP OBJECT DEFINITIONS */
OBJECT = IMAGE_MAP_PROJECTION
  ^DATA_SET_MAP_PROJECTION_CATALOG= "DSMAP.CAT"
  A_AXIS_RADIUS = 3396.0
  B_AXIS_RADIUS = 3396.0
  C_AXIS_RADIUS = 3396.0
  CENTER_LATITUDE = 0.0
  CENTER_LONGITUDE = 322.0
  COORDINATE_SYSTEM_NAME = PLANETOGRAPHIC
  COORDINATE_SYSTEM_TYPE = "BODY-FIXED ROTATING"
  EASTERNMOST_LONGITUDE = 325.647
  FIRST_STANDARD_PARALLEL = "N/A"
  LINE_FIRST_PIXEL = 1
  LINE_LAST_PIXEL = 15752
  LINE_PROJECTION_OFFSET = 83887.25
  MAP_PROJECTION_ROTATION = 0.0
  MAP_PROJECTION_TYPE = SINUSOIDAL
  MAP_RESOLUTION = 1185.42760773333
  MAP_SCALE = 0.05
  MAXIMUM_LATITUDE = 69.943
  MINIMUM_LATITUDE = 55.9871
  POSITIVE_LONGITUDE_DIRECTION = EAST
  REFERENCE_LATITUDE = "N/A"
  REFERENCE_LONGITUDE = "N/A"
  SAMPLE_FIRST_PIXEL = 1
  SAMPLE_LAST_PIXEL = 4386
  SAMPLE_PROJECTION_OFFSET = 2051.75
  SECOND_STANDARD_PARALLEL = "N/A"
  WESTERNMOST_LONGITUDE = 317.537
END_OBJECT = IMAGE_MAP_PROJECTION
END
