PDS_VERSION_ID = PDS3
/* FILE DATA ELEMENTS */
RECORD_TYPE = UNDEFINED
/* POINTERS TO DATA OBJECTS */
^IMAGE = ("H3642_0000_S24.TIF")
/* IDENTIFICATION DATA ELEMENTS */
DATA_SET_ID = "MEX-M-HRSC-4-REFDR-MAPPROJECT-EXT1-V4.0"
DATA_SET_NAME = "MARS EXPRESS HRSC MAP PROJECTED REFDR EXTENSION1 V4.0"
DETECTOR_ID = MEX_HRSC_S2
EVENT_TYPE = "MARS-LOCAL-STEREO-Gl-Eo-La"
INSTRUMENT_HOST_ID = MEX
INSTRUMENT_HOST_NAME = "MARS EXPRESS"
INSTRUMENT_ID = HRSC
INSTRUMENT_NAME = "HIGH RESOLUTION STEREO CAMERA"
MISSION_NAME = "MARS EXPRESS"
MISSION_PHASE_NAME = ME_Phase_5
PROCESSING_LEVEL_ID = 4
PRODUCT_CREATION_TIME = 2023-02-09T17:15:12.000Z
PRODUCT_ID = "H3642_0000_S24.TIF"
RELEASE_ID = 0004
REVISION_ID = 0000
/* QUALITY DATA ELEMENTS */
DATA_QUALITY_ID = 1
DATA_QUALITY_DESC = "Data calculated based on original SPICE kernels"
/* TIME DATA ELEMENTS */
SPACECRAFT_CLOCK_START_COUNT = "1/0111069102.09069"
SPACECRAFT_CLOCK_STOP_COUNT = "1/0111069298.48773"
START_TIME = 2006-11-08T12:31:46.643Z
STOP_TIME = 2006-11-08T12:33:35.532Z
/* ORBITAL DATA ELEMENTS */
ASCENDING_NODE_LONGITUDE = 151.94
MAXIMUM_RESOLUTION = 0.0197
FOOTPRINT_POINT_LATITUDE = (76.4533,76.5025,76.5497,76.6146, 76.6603,76.7171,76.7694,76.8228,76.8256 ,76.6894,76.5526,76.4157,76.2105, 76.0736,75.9368,75.8002,75.6633,75.5265 ,75.3895,75.1843,74.9791,74.8427, 74.7054,74.5691,74.3637,74.2268,74.0903 ,73.9536,73.7486,73.6121,73.4073, 73.2025,72.9295,72.7249,72.4522,72.2478 ,71.9752,71.8364,71.6968,71.557,71.3473 ,71.2079,71.0686,70.9287,70.7893, 70.6498,70.5081,70.2941,70.151,70.0083, 69.8654,69.794,69.7735,69.7372,69.7099, 69.6898,69.6554,69.6325,69.5993,69.56, 69.5256,69.4967,69.4929,69.4913,69.6325 ,69.7738,69.9857,70.1269,70.3383, 70.5449,70.6827,70.8892,71.0273,71.1644 ,71.3026,71.51,71.6474,71.9168,72.1855, 72.3872,72.7907,73.1267,73.463,73.7989, 74.0003,74.2687,74.4692,74.7378,74.8732 ,75.0746,75.2755,75.4096,75.5438, 75.6778,75.8112,75.9453,76.0803,76.2137 ,76.2807,76.4533)
FOOTPRINT_POINT_LONGITUDE = (247.164,247.851,248.544,249.56,250.328 ,251.36,252.401,253.584,253.65,253.991, 254.106,254.218,254.383,254.489,254.594 ,254.696,254.796,254.895,254.991, 255.132,255.269,255.358,255.446,255.531 ,255.657,255.739,255.819,255.898, 256.014,256.089,256.2,256.307,256.447, 256.548,256.679,256.774,256.898,256.959 ,257.02,257.08,257.168,257.225,257.281, 257.337,257.391,257.445,257.499,257.578 ,257.631,257.682,257.732,257.757, 257.764,256.796,256.153,255.725,255.033 ,254.608,254.025,253.391,252.865, 252.446,252.393,252.367,252.299,252.23, 252.124,252.052,251.941,251.831,251.755 ,251.64,251.561,251.481,251.4,251.276, 251.191,251.022,250.846,250.711,250.429 ,250.182,249.924,249.653,249.485, 249.253,249.073,248.825,248.698,248.502 ,248.3,248.162,248.021,247.877,247.73, 247.58,247.428,247.271,247.192,247.164)
ORBIT_NUMBER = 3642
ORBITAL_ECCENTRICITY = 0.564
ORBITAL_INCLINATION = 86.67
ORBITAL_SEMIMAJOR_AXIS = 8535.97
PERIAPSIS_ALTITUDE = 346.48
PERIAPSIS_ARGUMENT_ANGLE = 77.22
PERIAPSIS_TIME = 2006-11-08T12:25:45.000Z
SPACECRAFT_ORIENTATION = (0.0,1.0,0.0)
^MEX_ORIENTATION_DESC = "MEX_ORIENTATION_DESC.TXT"
SPACECRAFT_POINTING_MODE = NADIR
^MEX_POINTING_DESC = "MEX_POINTING_DESC.TXT"
RIGHT_ASCENSION = -1e+32
DECLINATION = -1e+32
OFFSET_ANGLE = -1e+32
SPACECRAFT_SOLAR_DISTANCE = 2.36562e+08
TARGET_NAME = MARS
/* CAMERA DATA ELEMENTS */
DETECTOR_TEMPERATURE = 17.9627
FOCAL_PLANE_TEMPERATURE = 7.3599
INST_CMPRS_NAME = "DISCRETE COSINE TRANSFORMATION (DCT)"
INST_CMPRS_RATIO = 8.10985
INST_CMPRS_QUALITY = 0
INST_CMPRS_QUANTZ_TBL_ID = 0
INSTRUMENT_TEMPERATURE = 11.0301
LENS_TEMPERATURE = 7.9716
MACROPIXEL_SIZE = 1
MISSING_FRAMES = 0
PIXEL_SUBSAMPLING_FLAG = N
SIGNAL_CHAIN_ID = 1
/* RADIOMETRIC DATA ELEMENTS */
BANDWIDTH = 178.0
CENTER_FILTER_WAVELENGTH = 679.0
RADIANCE_OFFSET = 2.22648
RADIANCE_SCALING_FACTOR = 0.0391844
REFLECTANCE_SCALING_FACTOR = 0.00116126
MEX:REFLECTANCE_OFFSET = 0.0659838
/* IMAGE OBJECT DEFINITIONS */
OBJECT = IMAGE
  INTERCHANGE_FORMAT = BINARY
  LINES = 16582
  LINE_SAMPLES = 7289
  SAMPLE_TYPE = UNSIGNED_INTEGER
  SAMPLE_BITS = 8
  BANDS = 1
  BAND_STORAGE_TYPE = BAND_SEQUENTIAL
  MAXIMUM = 255
  MEAN = 84.8591
  MINIMUM = 1
  STANDARD_DEVIATION = 58.5841
END_OBJECT = IMAGE
/* MAP OBJECT DEFINITIONS */
OBJECT = IMAGE_MAP_PROJECTION
  ^DATA_SET_MAP_PROJECTION_CATALOG= "DSMAP.CAT"
  A_AXIS_RADIUS = 3396.0
  B_AXIS_RADIUS = 3396.0
  C_AXIS_RADIUS = 3396.0
  CENTER_LATITUDE = 0.0
  CENTER_LONGITUDE = 253.0
  COORDINATE_SYSTEM_NAME = PLANETOGRAPHIC
  COORDINATE_SYSTEM_TYPE = "BODY-FIXED ROTATING"
  EASTERNMOST_LONGITUDE = 257.764
  FIRST_STANDARD_PARALLEL = "N/A"
  LINE_FIRST_PIXEL = 1
  LINE_LAST_PIXEL = 16582
  LINE_PROJECTION_OFFSET = 183140.0
  MAP_PROJECTION_ROTATION = 0.0
  MAP_PROJECTION_TYPE = SINUSOIDAL
  MAP_RESOLUTION = 2370.85521546667
  MAP_SCALE = 0.025
  MAXIMUM_LATITUDE = 76.82559999999999
  MINIMUM_LATITUDE = 69.4913
  POSITIVE_LONGITUDE_DIRECTION = EAST
  REFERENCE_LATITUDE = "N/A"
  REFERENCE_LONGITUDE = "N/A"
  SAMPLE_FIRST_PIXEL = 1
  SAMPLE_LAST_PIXEL = 7289
  SAMPLE_PROJECTION_OFFSET = 3634.0
  SECOND_STANDARD_PARALLEL = "N/A"
  WESTERNMOST_LONGITUDE = 247.164
END_OBJECT = IMAGE_MAP_PROJECTION
END
