PDS_VERSION_ID = PDS3
/* FILE DATA ELEMENTS */
RECORD_TYPE = UNDEFINED
/* POINTERS TO DATA OBJECTS */
^IMAGE = ("H3639_0000_RE4.TIF")
/* IDENTIFICATION DATA ELEMENTS */
DATA_SET_ID = "MEX-M-HRSC-4-REFDR-MAPPROJECT-EXT1-V4.0"
DATA_SET_NAME = "MARS EXPRESS HRSC MAP PROJECTED REFDR EXTENSION1 V4.0"
DETECTOR_ID = MEX_HRSC_RED
EVENT_TYPE = "MARS-REGIONAL-MAPPING-Gl-Eo-La"
INSTRUMENT_HOST_ID = MEX
INSTRUMENT_HOST_NAME = "MARS EXPRESS"
INSTRUMENT_ID = HRSC
INSTRUMENT_NAME = "HIGH RESOLUTION STEREO CAMERA"
MISSION_NAME = "MARS EXPRESS"
MISSION_PHASE_NAME = ME_Phase_5
PROCESSING_LEVEL_ID = 4
PRODUCT_CREATION_TIME = 2023-02-09T17:15:12.000Z
PRODUCT_ID = "H3639_0000_RE4.TIF"
RELEASE_ID = 0004
REVISION_ID = 0000
/* QUALITY DATA ELEMENTS */
DATA_QUALITY_ID = 1
DATA_QUALITY_DESC = "Data calculated based on original SPICE kernels"
/* TIME DATA ELEMENTS */
SPACECRAFT_CLOCK_START_COUNT = "1/0110996488.08238"
SPACECRAFT_CLOCK_STOP_COUNT = "1/0110996734.29731"
START_TIME = 2006-11-07T16:21:38.531Z
STOP_TIME = 2006-11-07T16:24:10.793Z
/* ORBITAL DATA ELEMENTS */
ASCENDING_NODE_LONGITUDE = 151.99
MAXIMUM_RESOLUTION = 0.0736
FOOTPRINT_POINT_LATITUDE = (78.9398,79.0047,79.0657,79.1228, 79.1758,79.2245,79.2946,79.2971,79.1884 ,79.0035,78.8186,78.3581,77.9899, 77.8035,77.5256,77.341,76.9716,76.6952, 76.5104,76.2338,76.0488,75.6794,75.4029 ,75.0295,74.8403,74.6512,74.4622, 74.2733,74.0844,73.8957,73.7027,73.4123 ,73.2187,73.0253,72.832,72.639,72.3426, 72.1447,71.947,71.7501,71.5524,71.3529, 71.1527,70.9422,70.7407,70.444,70.2399, 70.0334,69.7236,69.6205,69.56,69.536, 69.5009,69.4704,69.4291,69.3923,69.3522 ,69.3494,69.3496,69.656,69.8604,70.1658 ,70.3657,70.5656,70.8651,71.0652, 71.2637,71.4588,71.6546,71.8505,72.0455 ,72.2411,72.435,72.6258,72.8168,73.0077 ,73.1989,73.3903,73.6694,73.9525, 74.1404,74.4186,74.6047,74.791,74.9758, 75.3381,75.6099,75.9721,76.4243,76.6955 ,77.056,77.2371,77.4181,77.7776,77.9582 ,78.3166,78.4963,78.6755,78.7649, 78.9398)
FOOTPRINT_POINT_LONGITUDE = (180.426,181.504,182.598,183.709, 184.835,185.977,187.87,187.943,188.454, 188.653,188.845,189.29,189.619,189.784, 190.016,190.163,190.443,190.641,190.77, 190.955,191.076,191.306,191.47,191.681, 191.783,191.883,191.98,192.075,192.167, 192.257,192.347,192.478,192.562,192.645 ,192.725,192.803,192.92,192.995,193.069 ,193.139,193.21,193.279,193.344,193.428 ,193.492,193.575,193.639,193.701, 193.791,193.821,193.838,192.868,191.753 ,190.948,189.998,189.255,188.515, 188.466,188.449,188.321,188.233,188.098 ,188.006,187.913,187.768,187.668, 187.567,187.465,187.36,187.253,187.143, 187.03,186.915,186.799,186.68,186.558, 186.433,186.304,186.107,185.905,185.766 ,185.55,185.402,185.249,185.093,184.775 ,184.525,184.175,183.708,183.411, 182.995,182.777,182.552,182.081,181.834 ,181.317,181.045,180.764,180.62, 180.426)
ORBIT_NUMBER = 3639
ORBITAL_ECCENTRICITY = 0.564
ORBITAL_INCLINATION = 86.67
ORBITAL_SEMIMAJOR_AXIS = 8535.62
PERIAPSIS_ALTITUDE = 346.77
PERIAPSIS_ARGUMENT_ANGLE = 77.77
PERIAPSIS_TIME = 2006-11-07T16:16:17.000Z
SPACECRAFT_ORIENTATION = (0.0,1.0,0.0)
^MEX_ORIENTATION_DESC = "MEX_ORIENTATION_DESC.TXT"
SPACECRAFT_POINTING_MODE = ACROSSTRACK
^MEX_POINTING_DESC = "MEX_POINTING_DESC.TXT"
RIGHT_ASCENSION = -1e+32
DECLINATION = -1e+32
OFFSET_ANGLE = 0.4
SPACECRAFT_SOLAR_DISTANCE = 2.36706e+08
TARGET_NAME = MARS
/* CAMERA DATA ELEMENTS */
DETECTOR_TEMPERATURE = 18.5744
FOCAL_PLANE_TEMPERATURE = 7.9716
INST_CMPRS_NAME = "DISCRETE COSINE TRANSFORMATION (DCT)"
INST_CMPRS_RATIO = 15.364
INST_CMPRS_QUALITY = 0
INST_CMPRS_QUANTZ_TBL_ID = 0
INSTRUMENT_TEMPERATURE = 11.4379
LENS_TEMPERATURE = 8.3794
MACROPIXEL_SIZE = 4
MISSING_FRAMES = 0
PIXEL_SUBSAMPLING_FLAG = N
SIGNAL_CHAIN_ID = 2
/* RADIOMETRIC DATA ELEMENTS */
BANDWIDTH = 48.0
CENTER_FILTER_WAVELENGTH = 748.0
RADIANCE_OFFSET = 0.601098
RADIANCE_SCALING_FACTOR = 0.00797535
REFLECTANCE_SCALING_FACTOR = 0.00101974
MEX:REFLECTANCE_OFFSET = 0.0768576
/* IMAGE OBJECT DEFINITIONS */
OBJECT = IMAGE
  INTERCHANGE_FORMAT = BINARY
  LINES = 11486
  LINE_SAMPLES = 4180
  SAMPLE_TYPE = UNSIGNED_INTEGER
  SAMPLE_BITS = 8
  BANDS = 1
  BAND_STORAGE_TYPE = BAND_SEQUENTIAL
  MAXIMUM = 255
  MEAN = 88.5483
  MINIMUM = 1
  STANDARD_DEVIATION = 32.8301
END_OBJECT = IMAGE
/* MAP OBJECT DEFINITIONS */
OBJECT = IMAGE_MAP_PROJECTION
  ^DATA_SET_MAP_PROJECTION_CATALOG= "DSMAP.CAT"
  A_AXIS_RADIUS = 3396.0
  B_AXIS_RADIUS = 3396.0
  C_AXIS_RADIUS = 3396.0
  CENTER_LATITUDE = 0.0
  CENTER_LONGITUDE = 188.0
  COORDINATE_SYSTEM_NAME = PLANETOGRAPHIC
  COORDINATE_SYSTEM_TYPE = "BODY-FIXED ROTATING"
  EASTERNMOST_LONGITUDE = 193.838
  FIRST_STANDARD_PARALLEL = "N/A"
  LINE_FIRST_PIXEL = 1
  LINE_LAST_PIXEL = 11486
  LINE_PROJECTION_OFFSET = 94261.875
  MAP_PROJECTION_ROTATION = 0.0
  MAP_PROJECTION_TYPE = SINUSOIDAL
  MAP_RESOLUTION = 1185.42760773333
  MAP_SCALE = 0.05
  MAXIMUM_LATITUDE = 79.2971
  MINIMUM_LATITUDE = 69.3494
  POSITIVE_LONGITUDE_DIRECTION = EAST
  REFERENCE_LATITUDE = "N/A"
  REFERENCE_LONGITUDE = "N/A"
  SAMPLE_FIRST_PIXEL = 1
  SAMPLE_LAST_PIXEL = 4180
  SAMPLE_PROJECTION_OFFSET = 1827.875
  SECOND_STANDARD_PARALLEL = "N/A"
  WESTERNMOST_LONGITUDE = 180.426
END_OBJECT = IMAGE_MAP_PROJECTION
END
