PDS_VERSION_ID = PDS3
/* FILE DATA ELEMENTS */
RECORD_TYPE = UNDEFINED
/* POINTERS TO DATA OBJECTS */
^IMAGE = ("H3639_0000_IR4.TIF")
/* IDENTIFICATION DATA ELEMENTS */
DATA_SET_ID = "MEX-M-HRSC-4-REFDR-MAPPROJECT-EXT1-V4.0"
DATA_SET_NAME = "MARS EXPRESS HRSC MAP PROJECTED REFDR EXTENSION1 V4.0"
DETECTOR_ID = MEX_HRSC_IR
EVENT_TYPE = "MARS-REGIONAL-MAPPING-Gl-Eo-La"
INSTRUMENT_HOST_ID = MEX
INSTRUMENT_HOST_NAME = "MARS EXPRESS"
INSTRUMENT_ID = HRSC
INSTRUMENT_NAME = "HIGH RESOLUTION STEREO CAMERA"
MISSION_NAME = "MARS EXPRESS"
MISSION_PHASE_NAME = ME_Phase_5
PROCESSING_LEVEL_ID = 4
PRODUCT_CREATION_TIME = 2023-02-09T17:15:12.000Z
PRODUCT_ID = "H3639_0000_IR4.TIF"
RELEASE_ID = 0004
REVISION_ID = 0000
/* QUALITY DATA ELEMENTS */
DATA_QUALITY_ID = 1
DATA_QUALITY_DESC = "Data calculated based on original SPICE kernels"
/* TIME DATA ELEMENTS */
SPACECRAFT_CLOCK_START_COUNT = "1/0110996488.08238"
SPACECRAFT_CLOCK_STOP_COUNT = "1/0110996734.29731"
START_TIME = 2006-11-07T16:22:39.407Z
STOP_TIME = 2006-11-07T16:25:27.937Z
/* ORBITAL DATA ELEMENTS */
ASCENDING_NODE_LONGITUDE = 151.99
MAXIMUM_RESOLUTION = 0.0796
FOOTPRINT_POINT_LATITUDE = (79.3421,79.421,79.4958,79.5664,79.6326 ,79.6944,79.7851,79.7883,79.9203, 79.4063,79.0628,78.7196,78.3688,78.1925 ,77.9285,77.667,77.3098,77.0437,76.8641 ,76.6857,76.5067,76.2336,76.0516, 75.7785,75.5975,75.4141,75.2283,75.043, 74.8575,74.6728,74.4859,74.2975,74.1094 ,73.8274,73.6378,73.4467,73.16,72.9694, 72.6795,72.4849,72.2911,72.0974,71.8018 ,71.6045,71.4083,71.1084,70.8178, 70.7192,70.6694,70.6517,70.6135,70.5888 ,70.5378,70.4709,70.4193,70.3778, 70.3742,70.374,70.5709,70.7684,71.0641, 71.258,71.4525,71.6471,71.8401,72.1269, 72.3181,72.6047,72.7926,72.9808,73.1691 ,73.3575,73.635,73.8219,74.0987,74.2833 ,74.4651,74.6468,74.8288,75.0111, 75.1919,75.3701,75.5485,75.727,75.9058, 76.0846,76.2593,76.4341,76.6089,76.7842 ,76.9598,77.1344,77.6469,77.9883, 78.4944,78.7446,78.9944,79.3271,79.4087 ,79.3421)
FOOTPRINT_POINT_LONGITUDE = (179.326,180.525,181.746,182.988,184.25 ,185.531,187.659,187.742,188.003, 188.616,188.993,189.345,189.679,189.839 ,190.07,190.294,190.574,190.783,190.912 ,191.04,191.163,191.345,191.463,191.634 ,191.745,191.852,191.958,192.062, 192.162,192.26,192.356,192.452,192.545, 192.679,192.766,192.853,192.979,193.061 ,193.18,193.257,193.333,193.408,193.517 ,193.588,193.658,193.759,193.87,193.904 ,193.919,193.321,192.473,191.818, 190.637,189.29,188.362,187.67,187.613, 187.593,187.502,187.407,187.262,187.164 ,187.062,186.959,186.853,186.692, 186.581,186.408,186.292,186.172,186.05, 185.924,185.732,185.597,185.394,185.253 ,185.11,184.964,184.814,184.659,184.501 ,184.341,184.177,184.007,183.833, 183.654,183.474,183.288,183.097,182.9, 182.696,182.487,181.838,181.372,180.623 ,180.225,179.808,179.219,179.069, 179.326)
ORBIT_NUMBER = 3639
ORBITAL_ECCENTRICITY = 0.564
ORBITAL_INCLINATION = 86.67
ORBITAL_SEMIMAJOR_AXIS = 8535.62
PERIAPSIS_ALTITUDE = 346.77
PERIAPSIS_ARGUMENT_ANGLE = 77.77
PERIAPSIS_TIME = 2006-11-07T16:16:17.000Z
SPACECRAFT_ORIENTATION = (0.0,1.0,0.0)
^MEX_ORIENTATION_DESC = "MEX_ORIENTATION_DESC.TXT"
SPACECRAFT_POINTING_MODE = ACROSSTRACK
^MEX_POINTING_DESC = "MEX_POINTING_DESC.TXT"
RIGHT_ASCENSION = -1e+32
DECLINATION = -1e+32
OFFSET_ANGLE = 0.4
SPACECRAFT_SOLAR_DISTANCE = 2.36706e+08
TARGET_NAME = MARS
/* CAMERA DATA ELEMENTS */
DETECTOR_TEMPERATURE = 17.351
FOCAL_PLANE_TEMPERATURE = 7.9716
INST_CMPRS_NAME = "DISCRETE COSINE TRANSFORMATION (DCT)"
INST_CMPRS_RATIO = 9.72139
INST_CMPRS_QUALITY = 0
INST_CMPRS_QUANTZ_TBL_ID = 0
INSTRUMENT_TEMPERATURE = 11.4379
LENS_TEMPERATURE = 8.3794
MACROPIXEL_SIZE = 4
MISSING_FRAMES = 0
PIXEL_SUBSAMPLING_FLAG = N
SIGNAL_CHAIN_ID = 2
/* RADIOMETRIC DATA ELEMENTS */
BANDWIDTH = 81.0
CENTER_FILTER_WAVELENGTH = 955.5
RADIANCE_OFFSET = 0.430544
RADIANCE_SCALING_FACTOR = 0.00868324
REFLECTANCE_SCALING_FACTOR = 0.0010496
MEX:REFLECTANCE_OFFSET = 0.0520429
/* IMAGE OBJECT DEFINITIONS */
OBJECT = IMAGE
  INTERCHANGE_FORMAT = BINARY
  LINES = 11486
  LINE_SAMPLES = 4180
  SAMPLE_TYPE = UNSIGNED_INTEGER
  SAMPLE_BITS = 8
  BANDS = 1
  BAND_STORAGE_TYPE = BAND_SEQUENTIAL
  MAXIMUM = 255
  MEAN = 88.7518
  MINIMUM = 1
  STANDARD_DEVIATION = 29.6522
END_OBJECT = IMAGE
/* MAP OBJECT DEFINITIONS */
OBJECT = IMAGE_MAP_PROJECTION
  ^DATA_SET_MAP_PROJECTION_CATALOG= "DSMAP.CAT"
  A_AXIS_RADIUS = 3396.0
  B_AXIS_RADIUS = 3396.0
  C_AXIS_RADIUS = 3396.0
  CENTER_LATITUDE = 0.0
  CENTER_LONGITUDE = 188.0
  COORDINATE_SYSTEM_NAME = PLANETOGRAPHIC
  COORDINATE_SYSTEM_TYPE = "BODY-FIXED ROTATING"
  EASTERNMOST_LONGITUDE = 193.919
  FIRST_STANDARD_PARALLEL = "N/A"
  LINE_FIRST_PIXEL = 1
  LINE_LAST_PIXEL = 11486
  LINE_PROJECTION_OFFSET = 94261.875
  MAP_PROJECTION_ROTATION = 0.0
  MAP_PROJECTION_TYPE = SINUSOIDAL
  MAP_RESOLUTION = 1185.42760773333
  MAP_SCALE = 0.05
  MAXIMUM_LATITUDE = 79.9203
  MINIMUM_LATITUDE = 70.374
  POSITIVE_LONGITUDE_DIRECTION = EAST
  REFERENCE_LATITUDE = "N/A"
  REFERENCE_LONGITUDE = "N/A"
  SAMPLE_FIRST_PIXEL = 1
  SAMPLE_LAST_PIXEL = 4180
  SAMPLE_PROJECTION_OFFSET = 1827.875
  SECOND_STANDARD_PARALLEL = "N/A"
  WESTERNMOST_LONGITUDE = 179.069
END_OBJECT = IMAGE_MAP_PROJECTION
END
