PDS_VERSION_ID = PDS3
/* FILE DATA ELEMENTS */
RECORD_TYPE = UNDEFINED
/* POINTERS TO DATA OBJECTS */
^IMAGE = ("H3319_0000_S24.TIF")
/* IDENTIFICATION DATA ELEMENTS */
DATA_SET_ID = "MEX-M-HRSC-4-REFDR-MAPPROJECT-EXT1-V4.0"
DATA_SET_NAME = "MARS EXPRESS HRSC MAP PROJECTED REFDR EXTENSION1 V4.0"
DETECTOR_ID = MEX_HRSC_S2
EVENT_TYPE = "MARS-REGIONAL-MAPPING-Fl-La-Ts"
INSTRUMENT_HOST_ID = MEX
INSTRUMENT_HOST_NAME = "MARS EXPRESS"
INSTRUMENT_ID = HRSC
INSTRUMENT_NAME = "HIGH RESOLUTION STEREO CAMERA"
MISSION_NAME = "MARS EXPRESS"
MISSION_PHASE_NAME = ME_Phase_3
PROCESSING_LEVEL_ID = 4
PRODUCT_CREATION_TIME = 2023-02-09T17:15:12.000Z
PRODUCT_ID = "H3319_0000_S24.TIF"
RELEASE_ID = 0004
REVISION_ID = 0000
/* QUALITY DATA ELEMENTS */
DATA_QUALITY_ID = 1
DATA_QUALITY_DESC = "Data calculated based on original SPICE kernels"
/* TIME DATA ELEMENTS */
SPACECRAFT_CLOCK_START_COUNT = "1/0103250626.09404"
SPACECRAFT_CLOCK_STOP_COUNT = "1/0103250876.04319"
START_TIME = 2006-08-10T00:45:20.421Z
STOP_TIME = 2006-08-10T00:47:59.256Z
/* ORBITAL DATA ELEMENTS */
ASCENDING_NODE_LONGITUDE = 158.6
MAXIMUM_RESOLUTION = 0.0423
FOOTPRINT_POINT_LATITUDE = (19.9847,19.9862,19.9873,19.9882, 19.9895,19.9908,19.9924,19.9925,20.023, 19.717,19.4832,19.1708,18.9357,18.5377, 18.2203,17.8982,17.5776,17.4148,17.252, 17.0893,16.9272,16.6788,16.5134,16.3485 ,16.098,15.9309,15.7642,15.5961,15.4267 ,15.2576,15.0882,14.9166,14.6593,14.4, 14.2267,14.0544,13.8794,13.6172,13.4428 ,13.2654,13.0888,12.8211,12.6406, 12.4626,12.2821,12.1016,11.9227,11.742, 11.6503,11.6312,11.6258,11.6214,11.616, 11.6121,11.6095,11.6074,11.6039,11.6016 ,11.6016,11.6022,11.7854,12.058,12.2389 ,12.4203,12.5992,12.7782,12.9568, 13.2229,13.4006,13.5761,13.8393,14.0145 ,14.1878,14.3617,14.5358,14.7068, 14.8781,15.1343,15.3025,15.5555,15.7305 ,15.9895,16.1574,16.3244,16.6428, 16.8075,16.9723,17.1353,17.3797,17.5438 ,17.7052,17.947,18.1896,18.5879,18.9054 ,19.2203,19.6131,19.9213,19.9986, 19.9847)
FOOTPRINT_POINT_LONGITUDE = (343.666,343.256,342.971,342.757, 342.472,342.187,341.848,341.83,341.814, 341.807,341.803,341.796,341.791,341.782 ,341.775,341.767,341.759,341.754,341.75 ,341.746,341.741,341.735,341.73,341.726 ,341.718,341.714,341.709,341.703, 341.698,341.693,341.688,341.683,341.675 ,341.666,341.661,341.655,341.649,341.64 ,341.633,341.627,341.621,341.611, 341.605,341.598,341.591,341.584,341.577 ,341.569,341.565,341.565,341.894, 342.157,342.508,342.793,342.968,343.188 ,343.539,343.802,343.824,343.832, 343.829,343.823,343.819,343.816,343.812 ,343.809,343.805,343.8,343.797,343.793, 343.788,343.785,343.782,343.779,343.775 ,343.772,343.769,343.764,343.76,343.755 ,343.754,343.752,343.749,343.746, 343.736,343.733,343.73,343.727,343.722, 343.719,343.717,343.712,343.708,343.701 ,343.695,343.69,343.683,343.677,343.676 ,343.666)
ORBIT_NUMBER = 3319
ORBITAL_ECCENTRICITY = 0.567
ORBITAL_INCLINATION = 86.68
ORBITAL_SEMIMAJOR_AXIS = 8575.04
PERIAPSIS_ALTITUDE = 330.19
PERIAPSIS_ARGUMENT_ANGLE = 134.44
PERIAPSIS_TIME = 2006-08-10T00:37:53.000Z
SPACECRAFT_ORIENTATION = (0.0,-1.0,0.0)
^MEX_ORIENTATION_DESC = "MEX_ORIENTATION_DESC.TXT"
SPACECRAFT_POINTING_MODE = NADIR
^MEX_POINTING_DESC = "MEX_POINTING_DESC.TXT"
RIGHT_ASCENSION = -1e+32
DECLINATION = -1e+32
OFFSET_ANGLE = -1e+32
SPACECRAFT_SOLAR_DISTANCE = 2.47738e+08
TARGET_NAME = MARS
/* CAMERA DATA ELEMENTS */
DETECTOR_TEMPERATURE = 18.5744
FOCAL_PLANE_TEMPERATURE = 8.1755
INST_CMPRS_NAME = "DISCRETE COSINE TRANSFORMATION (DCT)"
INST_CMPRS_RATIO = 10.2431
INST_CMPRS_QUALITY = 0
INST_CMPRS_QUANTZ_TBL_ID = 0
INSTRUMENT_TEMPERATURE = 11.234
LENS_TEMPERATURE = 8.7872
MACROPIXEL_SIZE = 2
MISSING_FRAMES = 0
PIXEL_SUBSAMPLING_FLAG = N
SIGNAL_CHAIN_ID = 1
/* RADIOMETRIC DATA ELEMENTS */
BANDWIDTH = 178.0
CENTER_FILTER_WAVELENGTH = 679.0
RADIANCE_OFFSET = 3.71178
RADIANCE_SCALING_FACTOR = 0.0281252
REFLECTANCE_SCALING_FACTOR = 0.000914133
MEX:REFLECTANCE_OFFSET = 0.120641
/* IMAGE OBJECT DEFINITIONS */
OBJECT = IMAGE
  INTERCHANGE_FORMAT = BINARY
  LINES = 19964
  LINE_SAMPLES = 4717
  SAMPLE_TYPE = UNSIGNED_INTEGER
  SAMPLE_BITS = 8
  BANDS = 1
  BAND_STORAGE_TYPE = BAND_SEQUENTIAL
  MAXIMUM = 255
  MEAN = 169.398
  MINIMUM = 1
  STANDARD_DEVIATION = 28.5307
END_OBJECT = IMAGE
/* MAP OBJECT DEFINITIONS */
OBJECT = IMAGE_MAP_PROJECTION
  ^DATA_SET_MAP_PROJECTION_CATALOG= "DSMAP.CAT"
  A_AXIS_RADIUS = 3396.0
  B_AXIS_RADIUS = 3396.0
  C_AXIS_RADIUS = 3396.0
  CENTER_LATITUDE = 0.0
  CENTER_LONGITUDE = 343.0
  COORDINATE_SYSTEM_NAME = PLANETOGRAPHIC
  COORDINATE_SYSTEM_TYPE = "BODY-FIXED ROTATING"
  EASTERNMOST_LONGITUDE = 343.832
  FIRST_STANDARD_PARALLEL = "N/A"
  LINE_FIRST_PIXEL = 1
  LINE_LAST_PIXEL = 19964
  LINE_PROJECTION_OFFSET = 47432.75
  MAP_PROJECTION_ROTATION = 0.0
  MAP_PROJECTION_TYPE = SINUSOIDAL
  MAP_RESOLUTION = 2370.85521546667
  MAP_SCALE = 0.025
  MAXIMUM_LATITUDE = 20.023
  MINIMUM_LATITUDE = 11.6016
  POSITIVE_LONGITUDE_DIRECTION = EAST
  REFERENCE_LATITUDE = "N/A"
  REFERENCE_LONGITUDE = "N/A"
  SAMPLE_FIRST_PIXEL = 1
  SAMPLE_LAST_PIXEL = 4717
  SAMPLE_PROJECTION_OFFSET = 3070.25
  SECOND_STANDARD_PARALLEL = "N/A"
  WESTERNMOST_LONGITUDE = 341.565
END_OBJECT = IMAGE_MAP_PROJECTION
END
