PDS_VERSION_ID = PDS3
/* FILE DATA ELEMENTS */
RECORD_TYPE = UNDEFINED
/* POINTERS TO DATA OBJECTS */
^IMAGE = ("H3316_0001_RE4.TIF")
/* IDENTIFICATION DATA ELEMENTS */
DATA_SET_ID = "MEX-M-HRSC-4-REFDR-MAPPROJECT-EXT1-V4.0"
DATA_SET_NAME = "MARS EXPRESS HRSC MAP PROJECTED REFDR EXTENSION1 V4.0"
DETECTOR_ID = MEX_HRSC_RED
EVENT_TYPE = "MARS-REGIONAL-MAPPING-Te-Pf-Mw"
INSTRUMENT_HOST_ID = MEX
INSTRUMENT_HOST_NAME = "MARS EXPRESS"
INSTRUMENT_ID = HRSC
INSTRUMENT_NAME = "HIGH RESOLUTION STEREO CAMERA"
MISSION_NAME = "MARS EXPRESS"
MISSION_PHASE_NAME = ME_Phase_3
PROCESSING_LEVEL_ID = 4
PRODUCT_CREATION_TIME = 2023-02-09T17:15:12.000Z
PRODUCT_ID = "H3316_0001_RE4.TIF"
RELEASE_ID = 0004
REVISION_ID = 0000
/* QUALITY DATA ELEMENTS */
DATA_QUALITY_ID = 1
DATA_QUALITY_DESC = "Data calculated based on original SPICE kernels"
/* TIME DATA ELEMENTS */
SPACECRAFT_CLOCK_START_COUNT = "1/0103177544.08271"
SPACECRAFT_CLOCK_STOP_COUNT = "1/0103177779.47785"
START_TIME = 2006-08-09T04:26:46.028Z
STOP_TIME = 2006-08-09T04:29:37.750Z
/* ORBITAL DATA ELEMENTS */
ASCENDING_NODE_LONGITUDE = 158.66
MAXIMUM_RESOLUTION = 0.0547
FOOTPRINT_POINT_LATITUDE = (51.9603,51.947,51.9265,51.9002,51.8996 ,51.9683,51.7427,51.4044,51.0663, 50.8407,50.6154,50.2775,49.9379,49.7103 ,49.3712,49.0327,48.6927,48.466,48.2412 ,48.019,47.7933,47.5706,47.3485,47.1181 ,46.89,46.6637,46.4396,46.2152,45.9903, 45.5548,45.3277,44.9839,44.7593,44.538, 44.3148,44.09,43.651,43.4263,43.2043, 42.9751,42.5375,42.2021,41.9786,41.6478 ,41.4266,41.0958,40.8747,40.7644, 40.7528,40.7708,40.7784,40.7848,40.785, 40.7859,41.0075,41.3396,41.5606,41.7819 ,42.0044,42.2268,42.4495,42.7837, 43.1183,43.3414,43.6766,43.9001,44.124, 44.3483,44.5729,44.7967,45.0206,45.3549 ,45.7965,46.0225,46.2491,46.5875, 46.9259,47.1513,47.4897,47.7138,47.9485 ,48.1744,48.512,48.741,48.969,49.1897, 49.4196,49.6459,49.8748,50.0989,50.3273 ,50.5532,50.7795,51.0056,51.2314, 51.4576,51.684,51.9103,52.0236,51.9603)
FOOTPRINT_POINT_LONGITUDE = (277.514,277.048,276.411,275.688, 275.671,275.618,275.645,275.685,275.723 ,275.748,275.773,275.809,275.845,275.87 ,275.904,275.937,275.971,275.992, 276.013,276.031,276.051,276.069,276.087 ,276.109,276.129,276.148,276.165, 276.183,276.2,276.225,276.243,276.271, 276.287,276.301,276.315,276.33,276.354, 276.369,276.381,276.398,276.419,276.438 ,276.451,276.467,276.478,276.493, 276.504,276.509,276.509,277.284,277.672 ,278.032,278.046,278.051,278.044, 278.033,278.025,278.017,278.009,278.002 ,277.994,277.982,277.97,277.962,277.95, 277.941,277.933,277.924,277.916,277.907 ,277.898,277.883,277.861,277.852, 277.843,277.829,277.814,277.804,277.789 ,277.778,277.771,277.761,277.744, 277.734,277.724,277.709,277.7,277.688, 277.677,277.664,277.652,277.64,277.627, 277.614,277.6,277.587,277.573,277.559, 277.552,277.514)
ORBIT_NUMBER = 3316
ORBITAL_ECCENTRICITY = 0.567
ORBITAL_INCLINATION = 86.66
ORBITAL_SEMIMAJOR_AXIS = 8582.95
PERIAPSIS_ALTITUDE = 329.57
PERIAPSIS_ARGUMENT_ANGLE = 134.99
PERIAPSIS_TIME = 2006-08-09T04:28:09.000Z
SPACECRAFT_ORIENTATION = (0.0,-1.0,0.0)
^MEX_ORIENTATION_DESC = "MEX_ORIENTATION_DESC.TXT"
SPACECRAFT_POINTING_MODE = NADIR
^MEX_POINTING_DESC = "MEX_POINTING_DESC.TXT"
RIGHT_ASCENSION = -1e+32
DECLINATION = -1e+32
OFFSET_ANGLE = -1e+32
SPACECRAFT_SOLAR_DISTANCE = 2.47793e+08
TARGET_NAME = MARS
/* CAMERA DATA ELEMENTS */
DETECTOR_TEMPERATURE = 20.4095
FOCAL_PLANE_TEMPERATURE = 8.3794
INST_CMPRS_NAME = "DISCRETE COSINE TRANSFORMATION (DCT)"
INST_CMPRS_RATIO = 20.5284
INST_CMPRS_QUALITY = 0
INST_CMPRS_QUANTZ_TBL_ID = 0
INSTRUMENT_TEMPERATURE = 12.8652
LENS_TEMPERATURE = 8.5833
MACROPIXEL_SIZE = 4
MISSING_FRAMES = 0
PIXEL_SUBSAMPLING_FLAG = N
SIGNAL_CHAIN_ID = 2
/* RADIOMETRIC DATA ELEMENTS */
BANDWIDTH = 48.0
CENTER_FILTER_WAVELENGTH = 748.0
RADIANCE_OFFSET = 1.90487
RADIANCE_SCALING_FACTOR = 0.00624365
REFLECTANCE_SCALING_FACTOR = 0.000874869
MEX:REFLECTANCE_OFFSET = 0.266913
/* IMAGE OBJECT DEFINITIONS */
OBJECT = IMAGE
  INTERCHANGE_FORMAT = BINARY
  LINES = 13355
  LINE_SAMPLES = 1952
  SAMPLE_TYPE = UNSIGNED_INTEGER
  SAMPLE_BITS = 8
  BANDS = 1
  BAND_STORAGE_TYPE = BAND_SEQUENTIAL
  MAXIMUM = 255
  MEAN = 126.903
  MINIMUM = 1
  STANDARD_DEVIATION = 50.3873
END_OBJECT = IMAGE
/* MAP OBJECT DEFINITIONS */
OBJECT = IMAGE_MAP_PROJECTION
  ^DATA_SET_MAP_PROJECTION_CATALOG= "DSMAP.CAT"
  A_AXIS_RADIUS = 3396.0
  B_AXIS_RADIUS = 3396.0
  C_AXIS_RADIUS = 3396.0
  CENTER_LATITUDE = 0.0
  CENTER_LONGITUDE = 277.0
  COORDINATE_SYSTEM_NAME = PLANETOGRAPHIC
  COORDINATE_SYSTEM_TYPE = "BODY-FIXED ROTATING"
  EASTERNMOST_LONGITUDE = 278.051
  FIRST_STANDARD_PARALLEL = "N/A"
  LINE_FIRST_PIXEL = 1
  LINE_LAST_PIXEL = 13355
  LINE_PROJECTION_OFFSET = 61682.625
  MAP_PROJECTION_ROTATION = 0.0
  MAP_PROJECTION_TYPE = SINUSOIDAL
  MAP_RESOLUTION = 1185.42760773333
  MAP_SCALE = 0.05
  MAXIMUM_LATITUDE = 52.0236
  MINIMUM_LATITUDE = 40.7528
  POSITIVE_LONGITUDE_DIRECTION = EAST
  REFERENCE_LATITUDE = "N/A"
  REFERENCE_LONGITUDE = "N/A"
  SAMPLE_FIRST_PIXEL = 1
  SAMPLE_LAST_PIXEL = 1952
  SAMPLE_PROJECTION_OFFSET = 1018.125
  SECOND_STANDARD_PARALLEL = "N/A"
  WESTERNMOST_LONGITUDE = 275.618
END_OBJECT = IMAGE_MAP_PROJECTION
END
